{ "currentVersion": 11.5, "serviceDescription": "

Date of Image:<\/span><\/p>
Sentinel 1 UNW: 2/21/2023<\/span><\/p>
Sentinel-1 RNG & AZI: 2/9/2023<\/span><\/p>
JAXA ALOS-2 UNW, AZI & RNG: 2/8/2025<\/span><\/p>
Summary:<\/span><\/p>
Scientists working with Advanced Rapid Imaging and Analysis (ARIA) team at NASA's Jet Propulsion Laboratory and California Institute of Technology, both in Pasadena, California, created this displacement map with measurements of the surface displacements, in the radar line-of-sight, caused by the major earthquake in Turkiye.<\/span><\/p>
NOTE: The line-of-sight displacement (LOS) measurement is relative, and the dataset has not been calibrated to any ground location so there is a bias of the reference level, which is unknown. This data has not yet been validated. This displacement map should be used as guidance to identify areas of significant ground displacement, and may be less reliable over snow-covered and vegetated areas.<\/span><\/p>
SENTINEL-1:<\/span><\/p>
The map was derived from synthetic aperture radar (SAR) images from the Copernicus Sentinel-1 satellites, operated by the European Space Agency (ESA). The team computed the interferometric difference (interferogram or interferometric SAR) between the post-event and pre-event images on the Sentinel-1 ascending (satellite moving north) track 14. The interferometric SAR (InSAR) measures the component of surface displacement in the line-of-sight (LOS) between the ground and the satellite, which is at an angle of about 40 degrees from the vertical and slightly south of due west.<\/span><\/p>
Sentinel 1 UNW: post-event image from 2/21, pre-event image from 2/9.<\/span><\/p>
Sentinel 1 RNG & AZI: post-event image from 2/9, pre-event image 1/28.<\/span><\/p>
JAXA ALOS-2:<\/span><\/p>
The maps were derived from synthetic aperture radar (SAR) images from the ALOS-2 L-band operated by the Japanese Aerospace Exploration Agency (JAXA) ALOS-2 SAR satellite. The team computed the interferometric difference (interferogram or interferometric SAR) and pixel offset tracking between the post-event image acquired on February 8, 2023 with a pre-event image acquired on April 6, 2022, on the ALOS-2 descending (satellite moving south) track 78. The interferometric SAR (InSAR) measures the component of surface displacement in the line-of-sight (LOS) between the ground and the satellite, which is at an angle of about 30 degrees from the vertical up and to the east.<\/span><\/p>
<\/p>
Suggested Use:<\/span><\/p>
Unwrapped Interferogram (UNW): Red colors indicate increasing displacement towards the West, while the Blue areas indicate increasing displacement towards the East<\/span><\/p>
Across Track Displacement (RNG): Red colors indicate increasing displacement towards the West, while the Blue areas indicate increasing displacement towards the East<\/span><\/p>
Along Track Displacement (AZI): Red colors indicate increasing displacement towards the West, while the Blue areas indicate increasing displacement towards the East<\/span><\/p>
NOTE: Small vertical displacements have also occurred, but the primary surface displacements were in the horizontal plane.<\/span><\/p>
Satellite/Sensor:<\/span><\/p>
Copernicus Sentinel-1 Synthetic Aperture Radar (SAR)<\/span><\/p>
Japan Aerospace Exploration Agency (JAXA) ALOS-2 PALSAR-2<\/span><\/p>
<\/p>
Resolution:<\/span><\/p>
Sentinel-1: 90 meters<\/span><\/p>
ALOS-2: 30 meters<\/span><\/p>
<\/p>
Credits:<\/span><\/p>
NASA-JPL/Caltech ARIA Team<\/span><\/p>
The Sentinel-1 data products contain modified Copernicus Sentinel data (2023), processed by the European Space Agency and analyzed at the NASA Jet Propulsion Laboratory.<\/span><\/p>
The ALOS-2/PALSAR-2 Data Products are provided by JAXA, facilitated by NASA and analyzed at the NASA Jet Propulsion Laboratory.<\/span><\/p>
<\/p>
Service URL:<\/span><\/p>
<\/p>
WMS Endpoint:<\/span><\/p>
<\/p>
Data Download:<\/span><\/p>
Sentinel-1 UNW: <\/span>https://aria-share.jpl.nasa.gov/20230206_Turkey_EQ/Displacements/Sentinel1/A014_20230209_20230221/<\/span><\/a><\/p>
Sentinel 1 RNG & AZI: <\/span>https://aria-share.jpl.nasa.gov/20230206_Turkey_EQ/Displacements/Sentinel1/A014_20230128_20230209/<\/span><\/a><\/p>
ALOS-2: <\/span>https://aria-share.jpl.nasa.gov/20230206_Turkey_EQ/Displacements/<\/span><\/a><\/p>
<\/p><\/div><\/div><\/div>", "serviceItemId": "bbcdefb8b11546f28e83bfa9cac87f9a", "name": "DISASTERS_202302_EARTHQUAKE_TURKIYE/2302_opera_surf_disp", "description": "

Date of Image:<\/span><\/p>
Sentinel 1 UNW: 2/21/2023<\/span><\/p>
Sentinel-1 RNG & AZI: 2/9/2023<\/span><\/p>
JAXA ALOS-2 UNW, AZI & RNG: 2/8/2025<\/span><\/p>
Summary:<\/span><\/p>
Scientists working with Advanced Rapid Imaging and Analysis (ARIA) team at NASA's Jet Propulsion Laboratory and California Institute of Technology, both in Pasadena, California, created this displacement map with measurements of the surface displacements, in the radar line-of-sight, caused by the major earthquake in Turkiye.<\/span><\/p>
NOTE: The line-of-sight displacement (LOS) measurement is relative, and the dataset has not been calibrated to any ground location so there is a bias of the reference level, which is unknown. This data has not yet been validated. This displacement map should be used as guidance to identify areas of significant ground displacement, and may be less reliable over snow-covered and vegetated areas.<\/span><\/p>
SENTINEL-1:<\/span><\/p>
The map was derived from synthetic aperture radar (SAR) images from the Copernicus Sentinel-1 satellites, operated by the European Space Agency (ESA). The team computed the interferometric difference (interferogram or interferometric SAR) between the post-event and pre-event images on the Sentinel-1 ascending (satellite moving north) track 14. The interferometric SAR (InSAR) measures the component of surface displacement in the line-of-sight (LOS) between the ground and the satellite, which is at an angle of about 40 degrees from the vertical and slightly south of due west.<\/span><\/p>
Sentinel 1 UNW: post-event image from 2/21, pre-event image from 2/9.<\/span><\/p>
Sentinel 1 RNG & AZI: post-event image from 2/9, pre-event image 1/28.<\/span><\/p>
JAXA ALOS-2:<\/span><\/p>
The maps were derived from synthetic aperture radar (SAR) images from the ALOS-2 L-band operated by the Japanese Aerospace Exploration Agency (JAXA) ALOS-2 SAR satellite. The team computed the interferometric difference (interferogram or interferometric SAR) and pixel offset tracking between the post-event image acquired on February 8, 2023 with a pre-event image acquired on April 6, 2022, on the ALOS-2 descending (satellite moving south) track 78. The interferometric SAR (InSAR) measures the component of surface displacement in the line-of-sight (LOS) between the ground and the satellite, which is at an angle of about 30 degrees from the vertical up and to the east.<\/span><\/p>
<\/p>
Suggested Use:<\/span><\/p>
Unwrapped Interferogram (UNW): Red colors indicate increasing displacement towards the West, while the Blue areas indicate increasing displacement towards the East<\/span><\/p>
Across Track Displacement (RNG): Red colors indicate increasing displacement towards the West, while the Blue areas indicate increasing displacement towards the East<\/span><\/p>
Along Track Displacement (AZI): Red colors indicate increasing displacement towards the West, while the Blue areas indicate increasing displacement towards the East<\/span><\/p>
NOTE: Small vertical displacements have also occurred, but the primary surface displacements were in the horizontal plane.<\/span><\/p>
Satellite/Sensor:<\/span><\/p>
Copernicus Sentinel-1 Synthetic Aperture Radar (SAR)<\/span><\/p>
Japan Aerospace Exploration Agency (JAXA) ALOS-2 PALSAR-2<\/span><\/p>
<\/p>
Resolution:<\/span><\/p>
Sentinel-1: 90 meters<\/span><\/p>
ALOS-2: 30 meters<\/span><\/p>
<\/p>
Credits:<\/span><\/p>
NASA-JPL/Caltech ARIA Team<\/span><\/p>
The Sentinel-1 data products contain modified Copernicus Sentinel data (2023), processed by the European Space Agency and analyzed at the NASA Jet Propulsion Laboratory.<\/span><\/p>
The ALOS-2/PALSAR-2 Data Products are provided by JAXA, facilitated by NASA and analyzed at the NASA Jet Propulsion Laboratory.<\/span><\/p>
<\/p>
Service URL:<\/span><\/p>
<\/p>
WMS Endpoint:<\/span><\/p>
<\/p>
Data Download:<\/span><\/p>
Sentinel-1 UNW: <\/span>https://aria-share.jpl.nasa.gov/20230206_Turkey_EQ/Displacements/Sentinel1/A014_20230209_20230221/<\/span><\/a><\/p>
Sentinel 1 RNG & AZI: <\/span>https://aria-share.jpl.nasa.gov/20230206_Turkey_EQ/Displacements/Sentinel1/A014_20230128_20230209/<\/span><\/a><\/p>
ALOS-2: <\/span>https://aria-share.jpl.nasa.gov/20230206_Turkey_EQ/Displacements/<\/span><\/a><\/p>
<\/p><\/div><\/div><\/div>", "extent": { "xmin": 34.345745943126786, "ymin": 35.40176461815473, "xmax": 39.0382366198932, "ymax": 39.04009072271203, "spatialReference": { "wkid": 4326, "latestWkid": 4326 } }, "initialExtent": { "xmin": 34.345745943126786, "ymin": 35.40176461815473, "xmax": 39.0382366198932, "ymax": 39.04009072271203, "spatialReference": { "wkid": 4326, "latestWkid": 4326 } }, "fullExtent": { "xmin": 34.345745943126786, "ymin": 35.40176461815473, "xmax": 39.0382366198932, "ymax": 39.04009072271203, "spatialReference": { "wkid": 4326, "latestWkid": 4326 } }, "sortableFields": "MinPS,MaxPS,LowPS,HighPS,CenterX,CenterY,ZOrder,Shape_Length,Shape_Area", "bandCount": 1, "pixelType": "F32", "minValues": [], "maxValues": [], "meanValues": [], "stdvValues": [], "serviceProperties": "NorthWest<\/MosaicMethod>First<\/MosaicOperator>true<\/SortAscending><\/LockImageID>Name<\/TileOrderField>0<\/TileOrderBase>600.000000<\/AvgImageSpacingX>300.000000<\/AvgImageSpacingY>0.0<\/ViewPointX>0.0<\/ViewPointY>0.0<\/ViewPointDefShiftX>0.0<\/ViewPointDefShiftY>None<\/CompressionMethod>75<\/CompressionQuality>0.010000<\/CompressionTolerance>Bilinear<\/SamplingMethod><\/ImageServiceProperties><\/ImageServer>", "allowedFields": "Name,MinPS,MaxPS,LowPS,HighPS,Tag,GroupName,ProductName,CenterX,CenterY,ZOrder,Shape_Length,Shape_Area,Date", "hasMultidimensions": false, "pixelSizeX": 2.777772258785539E-4, "pixelSizeY": 2.7777722587855403E-4, "meanPixelSize": 30.92201933876876, "datasetFormat": "AMD", "uncompressedSize": 885058056, "blockWidth": 2048, "blockHeight": 256, "compressionType": "None", "bandNames": [ "Band_1" ], "allowCopy": true, "allowAnalysis": true, "itemAccess": false, "inspectionCapabilities": "", "minPixelSize": 0, "maxPixelSize": 0, "copyrightText": "NASA-JPL/Caltech ARIA Team, Copernicus, ESA, JAXA", "serviceDataType": "esriImageServiceDataTypeGeneric", "serviceSourceType": "esriImageServiceSourceTypeMosaicDataset", "objectIdField": "OBJECTID", "fields": [ { "name": "OBJECTID", "type": "esriFieldTypeOID", "alias": "OBJECTID", "domain": null }, { "name": "Shape", "type": "esriFieldTypeGeometry", "alias": "Shape", "domain": null }, { "name": "Name", "type": "esriFieldTypeString", "alias": "Name", "domain": null, "length": 200 }, { "name": "MinPS", "type": "esriFieldTypeDouble", "alias": "MinPS", "domain": null }, { "name": "MaxPS", "type": "esriFieldTypeDouble", "alias": "MaxPS", "domain": null }, { "name": "LowPS", "type": "esriFieldTypeDouble", "alias": "LowPS", "domain": null }, { "name": "HighPS", "type": "esriFieldTypeDouble", "alias": "HighPS", "domain": null }, { "name": "Category", "type": "esriFieldTypeInteger", "alias": "Category", "domain": { "type": "codedValue", "name": "MosaicCatalogItemCategoryDomain", "description": "Catalog item categories.", "codedValues": [ { "name": "Unknown", "code": 0 }, { "name": "Primary", "code": 1 }, { "name": "Overview", "code": 2 }, { "name": "Unprocessed Overview", "code": 3 }, { "name": "Partial Overview", "code": 4 }, { "name": "Inactive", "code": 5 }, { "name": "Uploaded", "code": 253 }, { "name": "Incomplete", "code": 254 }, { "name": "Custom", "code": 255 } ], "mergePolicy": "esriMPTDefaultValue", "splitPolicy": "esriSPTDefaultValue" } }, { "name": "Tag", "type": "esriFieldTypeString", "alias": "Tag", "domain": null, "length": 100 }, { "name": "GroupName", "type": "esriFieldTypeString", "alias": "GroupName", "domain": null, "length": 100 }, { "name": "ProductName", "type": "esriFieldTypeString", "alias": "ProductName", "domain": null, "length": 100 }, { "name": "CenterX", "type": "esriFieldTypeDouble", "alias": "CenterX", "domain": null }, { "name": "CenterY", "type": "esriFieldTypeDouble", "alias": "CenterY", "domain": null }, { "name": "ZOrder", "type": "esriFieldTypeInteger", "alias": "ZOrder", "domain": null }, { "name": "Date", "type": "esriFieldTypeDateOnly", "alias": "Date", "domain": null }, { "name": "Shape_Length", "type": "esriFieldTypeDouble", "alias": "Shape_Length", "domain": null }, { "name": "Shape_Area", "type": "esriFieldTypeDouble", "alias": "Shape_Area", "domain": null } ], "capabilities": "Catalog,Mensuration,Image,Metadata", "defaultMosaicMethod": "Northwest", "allowedMosaicMethods": "NorthWest,Center,LockRaster,ByAttribute,Nadir,Viewpoint,Seamline,None", "sortField": "", "sortValue": null, "sortAscending": true, "mosaicOperator": "First", "maxDownloadSizeLimit": 2048, "defaultCompressionQuality": 75, "defaultResamplingMethod": "Bilinear", "maxImageHeight": 4100, "maxImageWidth": 15000, "maxRecordCount": 1000, "maxDownloadImageCount": 20, "maxMosaicImageCount": 20, "allowRasterFunction": true, "rasterFunctionInfos": [ { "name": "None", "description": "", "help": "" } ], "rasterTypeInfos": [ { "name": "Raster Dataset", "description": "Supports all ArcGIS Raster Datasets", "help": "" } ], "mensurationCapabilities": "Basic", "hasHistograms": false, "hasColormap": false, "hasRasterAttributeTable": false, "minScale": 0, "maxScale": 0, "exportTilesAllowed": false, "supportsStatistics": true, "supportsAdvancedQueries": true, "editFieldsInfo": null, "ownershipBasedAccessControlForRasters": null, "allowComputeTiePoints": false, "useStandardizedQueries": true, "advancedQueryCapabilities": { "useStandardizedQueries": true, "supportsStatistics": true, "supportsOrderBy": true, "supportsDistinct": true, "supportsPagination": true }, "spatialReference": { "wkid": 4326, "latestWkid": 4326 }, "resampling": false }