{ "currentVersion": 11.5, "serviceDescription": "

Date of Images:<\/span><\/p>
2/4/2023, 2/5/2023, 2/9/2023, 2/10/2023, 2/16/2023, 2/21/2023<\/span><\/p>
<\/span><\/p>
Date of Next Image:<\/span><\/p>
None Expected<\/span><\/p>
<\/span><\/p>
Summary:<\/span><\/p>
The Alaska Satellite Facility has developed false color Red, Green, Blue (RGB) and Radiometrically Terrain-Correct (RTC) composites of the Sentinel-1A/B Synthetic Aperture Radar (SAR) instrument which assigns the co- and cross-polarization information to a channel in the composite. When used to support a flooding event, areas in blue denotes water present at the time of the satellite overpass before or after the start of the hurricane.<\/span><\/p>
Blue areas have low returns in VV and VH (smooth surfaces such as calm water, but also frozen/crusted soil or dry sand), Green areas have high returns in VH (volume scatterers such as vegetation or some types of snow/ice), and Red areas have relatively high VV returns and relatively low VH returns (such as urban or sparsely vegetated areas).<\/span><\/p>
Additional SAR Information<\/span><\/a><\/p>
<\/span><\/p>
Suggested Use:<\/span><\/p>
In this image, water appears in blue, vegetated areas in shades of green and urban areas in bright orange. It is recommended to use this product with ancillary information to derive flooded areas.<\/span><\/p>
Blue areas have low returns in VV and VH (smooth surfaces such as calm water, but also frozen/crusted soil or dry sand), Green areas have high returns in VH (volume scatterers such as vegetation or some types of snow/ice), and Red areas have relatively high VV returns and relatively low VH returns (such as urban or sparsely vegetated areas).<\/span><\/p>
<\/span><\/p>
Satellite/Sensor:<\/span><\/p>
Synthetic Aperture Radar on European Space Agency's (ESA) Copernicus Sentinel-1A satellite<\/span><\/p>
<\/span><\/p>
Resolution:<\/span><\/p>
30 meters<\/span><\/p>
<\/span><\/p>
Credits:<\/span><\/p>
Sentinel data used in this derived product, contains modified Copernicus Sentinel data (2023), processed by ESA, Alaska Satellite Facility, NASA MSFC<\/span><\/p>
<\/span><\/p>
Service URL: <\/span><\/p>
https://gis.earthdata.nasa.gov/portal/home/item.html?id=7a7c0584e53d4cad84af5cdde9b29eb0<\/a><\/p>
<\/span><\/p>
WMS Endpoint:<\/span><\/p>
https://gis.earthdata.nasa.gov/gis05/services/DISASTERS_202302_EARTHQUAKE_TURKIYE/2302_sentinel1/ImageServer/WMSServer<\/a><\/p>
<\/span><\/p><\/div><\/div><\/div>", "serviceItemId": "7a7c0584e53d4cad84af5cdde9b29eb0", "name": "DISASTERS_202302_EARTHQUAKE_TURKIYE/2302_sentinel1", "description": "

Date of Images:<\/span><\/p>
2/4/2023, 2/5/2023, 2/9/2023, 2/10/2023, 2/16/2023, 2/21/2023<\/span><\/p>
<\/span><\/p>
Date of Next Image:<\/span><\/p>
None Expected<\/span><\/p>
<\/span><\/p>
Summary:<\/span><\/p>
The Alaska Satellite Facility has developed false color Red, Green, Blue (RGB) and Radiometrically Terrain-Correct (RTC) composites of the Sentinel-1A/B Synthetic Aperture Radar (SAR) instrument which assigns the co- and cross-polarization information to a channel in the composite. When used to support a flooding event, areas in blue denotes water present at the time of the satellite overpass before or after the start of the hurricane.<\/span><\/p>
Blue areas have low returns in VV and VH (smooth surfaces such as calm water, but also frozen/crusted soil or dry sand), Green areas have high returns in VH (volume scatterers such as vegetation or some types of snow/ice), and Red areas have relatively high VV returns and relatively low VH returns (such as urban or sparsely vegetated areas).<\/span><\/p>
Additional SAR Information<\/span><\/a><\/p>
<\/span><\/p>
Suggested Use:<\/span><\/p>
In this image, water appears in blue, vegetated areas in shades of green and urban areas in bright orange. It is recommended to use this product with ancillary information to derive flooded areas.<\/span><\/p>
Blue areas have low returns in VV and VH (smooth surfaces such as calm water, but also frozen/crusted soil or dry sand), Green areas have high returns in VH (volume scatterers such as vegetation or some types of snow/ice), and Red areas have relatively high VV returns and relatively low VH returns (such as urban or sparsely vegetated areas).<\/span><\/p>
<\/span><\/p>
Satellite/Sensor:<\/span><\/p>
Synthetic Aperture Radar on European Space Agency's (ESA) Copernicus Sentinel-1A satellite<\/span><\/p>
<\/span><\/p>
Resolution:<\/span><\/p>
30 meters<\/span><\/p>
<\/span><\/p>
Credits:<\/span><\/p>
Sentinel data used in this derived product, contains modified Copernicus Sentinel data (2023), processed by ESA, Alaska Satellite Facility, NASA MSFC<\/span><\/p>
<\/span><\/p>
Service URL: <\/span><\/p>
https://gis.earthdata.nasa.gov/portal/home/item.html?id=7a7c0584e53d4cad84af5cdde9b29eb0<\/a><\/p>
<\/span><\/p>
WMS Endpoint:<\/span><\/p>
https://gis.earthdata.nasa.gov/gis05/services/DISASTERS_202302_EARTHQUAKE_TURKIYE/SENTINEL1_RGB/ImageServer/WMSServer<\/a><\/p>
<\/span><\/p><\/div><\/div><\/div>", "extent": { "xmin": 34.30634246400007, "ymin": 33.71851224311929, "xmax": 41.05933778084015, "ymax": 39.07256116800005, "spatialReference": { "wkid": 4326, "latestWkid": 4326 } }, "initialExtent": { "xmin": 34.30634246400007, "ymin": 33.71851224311929, "xmax": 41.05933778084015, "ymax": 39.07256116800005, "spatialReference": { "wkid": 4326, "latestWkid": 4326 } }, "fullExtent": { "xmin": 34.30634246400007, "ymin": 33.71851224311929, "xmax": 41.05933778084015, "ymax": 39.07256116800005, "spatialReference": { "wkid": 4326, "latestWkid": 4326 } }, "sortableFields": "MinPS,MaxPS,LowPS,HighPS,CenterX,CenterY,ZOrder,Shape_Length,Shape_Area,Date", "bandCount": 3, "pixelType": "U8", "minValues": [ 0, 0, 0 ], "maxValues": [ 255, 255, 255 ], "meanValues": [ 107.61078093814703, 88.239333386713, 29.29925236582819 ], "stdvValues": [ 51.66128840120137, 30.88180254362443, 51.1368065064356 ], "serviceProperties": "NorthWest<\/MosaicMethod>First<\/MosaicOperator>true<\/SortAscending><\/LockImageID>Name<\/TileOrderField>0<\/TileOrderBase>600.000000<\/AvgImageSpacingX>300.000000<\/AvgImageSpacingY>0.0<\/ViewPointX>0.0<\/ViewPointY>0.0<\/ViewPointDefShiftX>0.0<\/ViewPointDefShiftY>None<\/CompressionMethod>75<\/CompressionQuality>0.010000<\/CompressionTolerance>Bilinear<\/SamplingMethod><\/ImageServiceProperties><\/ImageServer>", "allowedFields": "Name,MinPS,MaxPS,LowPS,HighPS,Tag,GroupName,ProductName,CenterX,CenterY,ZOrder,Shape_Length,Shape_Area,Date", "hasMultidimensions": false, "pixelSizeX": 2.694945852358562E-4, "pixelSizeY": 2.694945852358563E-4, "meanPixelSize": 29.99999999999998, "datasetFormat": "AMD", "uncompressedSize": 1493481858, "blockWidth": 2048, "blockHeight": 256, "compressionType": "None", "bandNames": [ "Band_1", "Band_2", "Band_3" ], "allowCopy": true, "allowAnalysis": true, "itemAccess": false, "inspectionCapabilities": "", "minPixelSize": 0, "maxPixelSize": 0, "copyrightText": "NASA MSFC, Alaska Satellite Facility, ESA, Copernicus", "serviceDataType": "esriImageServiceDataTypeRGB", "serviceSourceType": "esriImageServiceSourceTypeMosaicDataset", "objectIdField": "OBJECTID", "fields": [ { "name": "OBJECTID", "type": "esriFieldTypeOID", "alias": "OBJECTID", "domain": null }, { "name": "Shape", "type": "esriFieldTypeGeometry", "alias": "Shape", "domain": null }, { "name": "Name", "type": "esriFieldTypeString", "alias": "Name", "domain": null, "length": 200 }, { "name": "MinPS", "type": "esriFieldTypeDouble", "alias": "MinPS", "domain": null }, { "name": "MaxPS", "type": "esriFieldTypeDouble", "alias": "MaxPS", "domain": null }, { "name": "LowPS", "type": "esriFieldTypeDouble", "alias": "LowPS", "domain": null }, { "name": "HighPS", "type": "esriFieldTypeDouble", "alias": "HighPS", "domain": null }, { "name": "Category", "type": "esriFieldTypeInteger", "alias": "Category", "domain": { "type": "codedValue", "name": "MosaicCatalogItemCategoryDomain", "description": "Catalog item categories.", "codedValues": [ { "name": "Unknown", "code": 0 }, { "name": "Primary", "code": 1 }, { "name": "Overview", "code": 2 }, { "name": "Unprocessed Overview", "code": 3 }, { "name": "Partial Overview", "code": 4 }, { "name": "Inactive", "code": 5 }, { "name": "Uploaded", "code": 253 }, { "name": "Incomplete", "code": 254 }, { "name": "Custom", "code": 255 } ], "mergePolicy": "esriMPTDefaultValue", "splitPolicy": "esriSPTDefaultValue" } }, { "name": "Tag", "type": "esriFieldTypeString", "alias": "Tag", "domain": null, "length": 100 }, { "name": "GroupName", "type": "esriFieldTypeString", "alias": "GroupName", "domain": null, "length": 100 }, { "name": "ProductName", "type": "esriFieldTypeString", "alias": "ProductName", "domain": null, "length": 100 }, { "name": "CenterX", "type": "esriFieldTypeDouble", "alias": "CenterX", "domain": null }, { "name": "CenterY", "type": "esriFieldTypeDouble", "alias": "CenterY", "domain": null }, { "name": "ZOrder", "type": "esriFieldTypeInteger", "alias": "ZOrder", "domain": null }, { "name": "Date", "type": "esriFieldTypeDateOnly", "alias": "Date", "domain": null }, { "name": "Shape_Length", "type": "esriFieldTypeDouble", "alias": "Shape_Length", "domain": null }, { "name": "Shape_Area", "type": "esriFieldTypeDouble", "alias": "Shape_Area", "domain": null } ], "capabilities": "Catalog,Mensuration,Image,Metadata", "defaultMosaicMethod": "Northwest", "allowedMosaicMethods": "NorthWest,Center,LockRaster,ByAttribute,Nadir,Viewpoint,Seamline,None", "sortField": "", "sortValue": null, "sortAscending": true, "mosaicOperator": "First", "maxDownloadSizeLimit": 2048, "defaultCompressionQuality": 75, "defaultResamplingMethod": "Bilinear", "maxImageHeight": 4100, "maxImageWidth": 15000, "maxRecordCount": 1000, "maxDownloadImageCount": 20, "maxMosaicImageCount": 20, "allowRasterFunction": true, "rasterFunctionInfos": [ { "name": "None", "description": "", "help": "" } ], "rasterTypeInfos": [ { "name": "Raster Dataset", "description": "Supports all ArcGIS Raster Datasets", "help": "" } ], "mensurationCapabilities": "", "hasHistograms": true, "hasColormap": false, "hasRasterAttributeTable": false, "minScale": 0, "maxScale": 0, "exportTilesAllowed": false, "supportsStatistics": true, "supportsAdvancedQueries": true, "editFieldsInfo": null, "ownershipBasedAccessControlForRasters": null, "allowComputeTiePoints": false, "useStandardizedQueries": true, "advancedQueryCapabilities": { "useStandardizedQueries": true, "supportsStatistics": true, "supportsOrderBy": true, "supportsDistinct": true, "supportsPagination": true }, "spatialReference": { "wkid": 4326, "latestWkid": 4326 }, "resampling": false }