{ "currentVersion": 11.5, "serviceDescription": "

Date of Images:<\/span><\/p>
5/5/2024<\/span><\/p>
<\/p>
Date of Next Image:<\/span><\/p>
Unknown<\/span><\/p>
<\/p>
Summary:<\/span><\/p>
The Color Infrared composite is created using the near-infrared, red, and green channels, allowing for the ability to see areas impacted by the event. The near-infrared gives the ability to see through thin clouds. Healthy vegetation is shown as red, water is in blue.<\/span><\/p>
The Short Wave Infrared (SWIR) RGB is a product that is created using the SWIR, NIR, and Red channels of the respective instrument.<\/span><\/p>
The True Color RGB composite provides a product of how the surface would look to the naked eye from space. The RGB is created using the red, green, and blue channels of the respective instrument.<\/span><\/p>
<\/p>
Suggested Use:<\/span><\/p>
The True Color RGB provides a product of how the surface would look to the naked eye from space and may show damage caused by severe weather. The True Color RGB is produced using the 3 visible wavelength bands (red, green, and blue) from the respective sensor. Some minor atmospheric corrections have occurred.<\/span><\/p>
A Color Infrared composite depicts healthy vegetation as red, water as blue. Some minor atmospheric corrections have occurred.<\/span><\/p>
The Short Wave Infrared (SWIR) RGB is a product that can provides value in flood detection. Areas of water will appear blue, healthy green vegetation will appear as a bright green, urban areas in various shades of magenta, snow will appear as a bright blue/cyan, and bare soils being multicolor dependent on their makeup. Compare pre-event imagery to post-event imagery to identify potential flooding.<\/span><\/p>
<\/p>
Satellite/Sensor:<\/span><\/p>
MultiSpectral Instrument (MSI) on European Space Agency's (ESA) Copernicus Sentinel-2A/2B satellites<\/span><\/p>
<\/p>
Resolution:<\/span><\/p>
True Color RGB: 10 meters<\/span><\/p>
Color Infrared RGB: 10 meters<\/span><\/p>
Shortwave Infrared RGB: 20 meters<\/span><\/p>
<\/p>
Credits:<\/span><\/p>
NASA/MSFC, USGS, ESA Copernicus<\/span><\/p>
<\/p>
Service URL:<\/span><\/p>
<\/p>
WMS Endpoint:<\/span><\/p>
<\/p><\/div><\/div><\/div>", "serviceItemId": "34b74048c81c437bb316969d639adad8", "name": "DISASTERS_202405_FLOOD_TX/2408_sentinel2", "description": "

Date of Images:<\/span><\/p>
5/5/2024<\/span><\/p>
<\/p>
Date of Next Image:<\/span><\/p>
Unknown<\/span><\/p>
<\/p>
Summary:<\/span><\/p>
The Color Infrared composite is created using the near-infrared, red, and green channels, allowing for the ability to see areas impacted by the event. The near-infrared gives the ability to see through thin clouds. Healthy vegetation is shown as red, water is in blue.<\/span><\/p>
The Short Wave Infrared (SWIR) RGB is a product that is created using the SWIR, NIR, and Red channels of the respective instrument.<\/span><\/p>
The True Color RGB composite provides a product of how the surface would look to the naked eye from space. The RGB is created using the red, green, and blue channels of the respective instrument.<\/span><\/p>
<\/p>
Suggested Use:<\/span><\/p>
The True Color RGB provides a product of how the surface would look to the naked eye from space and may show damage caused by severe weather. The True Color RGB is produced using the 3 visible wavelength bands (red, green, and blue) from the respective sensor. Some minor atmospheric corrections have occurred.<\/span><\/p>
A Color Infrared composite depicts healthy vegetation as red, water as blue. Some minor atmospheric corrections have occurred.<\/span><\/p>
The Short Wave Infrared (SWIR) RGB is a product that can provides value in flood detection. Areas of water will appear blue, healthy green vegetation will appear as a bright green, urban areas in various shades of magenta, snow will appear as a bright blue/cyan, and bare soils being multicolor dependent on their makeup. Compare pre-event imagery to post-event imagery to identify potential flooding.<\/span><\/p>
<\/p>
Satellite/Sensor:<\/span><\/p>
MultiSpectral Instrument (MSI) on European Space Agency's (ESA) Copernicus Sentinel-2A/2B satellites<\/span><\/p>
<\/p>
Resolution:<\/span><\/p>
True Color RGB: 10 meters<\/span><\/p>
Color Infrared RGB: 10 meters<\/span><\/p>
Shortwave Infrared RGB: 20 meters<\/span><\/p>
<\/p>
Credits:<\/span><\/p>
NASA/MSFC, USGS, ESA Copernicus<\/span><\/p>
<\/p>
Service URL:<\/span><\/p>
<\/p>
WMS Endpoint:<\/span><\/p>
<\/p><\/div><\/div><\/div>", "extent": { "xmin": -96.16181155899994, "ymin": 29.705836572790968, "xmax": -93.93273201298577, "ymax": 31.632004205000044, "spatialReference": { "wkid": 4326, "latestWkid": 4326 } }, "initialExtent": { "xmin": -96.16181155899994, "ymin": 29.705836572790968, "xmax": -93.93273201298577, "ymax": 31.632004205000044, "spatialReference": { "wkid": 4326, "latestWkid": 4326 } }, "fullExtent": { "xmin": -96.16181155899994, "ymin": 29.705836572790968, "xmax": -93.93273201298577, "ymax": 31.632004205000044, "spatialReference": { "wkid": 4326, "latestWkid": 4326 } }, "sortableFields": "MinPS,MaxPS,LowPS,HighPS,CenterX,CenterY,ZOrder,Shape_Length,Shape_Area", "bandCount": 3, "pixelType": "U8", "minValues": [], "maxValues": [], "meanValues": [], "stdvValues": [], "serviceProperties": "NorthWest<\/MosaicMethod>First<\/MosaicOperator>true<\/SortAscending><\/LockImageID>Name<\/TileOrderField>0<\/TileOrderBase>600.000000<\/AvgImageSpacingX>300.000000<\/AvgImageSpacingY>0.0<\/ViewPointX>0.0<\/ViewPointY>0.0<\/ViewPointDefShiftX>0.0<\/ViewPointDefShiftY>None<\/CompressionMethod>75<\/CompressionQuality>0.010000<\/CompressionTolerance>Bilinear<\/SamplingMethod><\/ImageServiceProperties><\/ImageServer>", "allowedFields": "Name,MinPS,MaxPS,LowPS,HighPS,Tag,GroupName,ProductName,CenterX,CenterY,ZOrder,Shape_Length,Shape_Area,Date", "hasMultidimensions": false, "pixelSizeX": 8.983152841195199E-5, "pixelSizeY": 8.983152841195204E-5, "meanPixelSize": 9.999999999999984, "datasetFormat": "AMD", "uncompressedSize": 1596185364, "blockWidth": 2048, "blockHeight": 256, "compressionType": "None", "bandNames": [ "Band_1", "Band_2", "Band_3" ], "allowCopy": true, "allowAnalysis": true, "itemAccess": false, "inspectionCapabilities": "", "minPixelSize": 0, "maxPixelSize": 0, "copyrightText": "NASA/MSFC, USGS, ESA Copernicus", "serviceDataType": "esriImageServiceDataTypeRGB", "serviceSourceType": "esriImageServiceSourceTypeMosaicDataset", "objectIdField": "OBJECTID", "fields": [ { "name": "OBJECTID", "type": "esriFieldTypeOID", "alias": "OBJECTID", "domain": null }, { "name": "Shape", "type": "esriFieldTypeGeometry", "alias": "Shape", "domain": null }, { "name": "Name", "type": "esriFieldTypeString", "alias": "Name", "domain": null, "length": 200 }, { "name": "MinPS", "type": "esriFieldTypeDouble", "alias": "MinPS", "domain": null }, { "name": "MaxPS", "type": "esriFieldTypeDouble", "alias": "MaxPS", "domain": null }, { "name": "LowPS", "type": "esriFieldTypeDouble", "alias": "LowPS", "domain": null }, { "name": "HighPS", "type": "esriFieldTypeDouble", "alias": "HighPS", "domain": null }, { "name": "Category", "type": "esriFieldTypeInteger", "alias": "Category", "domain": { "type": "codedValue", "name": "MosaicCatalogItemCategoryDomain", "description": "Catalog item categories.", "codedValues": [ { "name": "Unknown", "code": 0 }, { "name": "Primary", "code": 1 }, { "name": "Overview", "code": 2 }, { "name": "Unprocessed Overview", "code": 3 }, { "name": "Partial Overview", "code": 4 }, { "name": "Inactive", "code": 5 }, { "name": "Uploaded", "code": 253 }, { "name": "Incomplete", "code": 254 }, { "name": "Custom", "code": 255 } ], "mergePolicy": "esriMPTDefaultValue", "splitPolicy": "esriSPTDefaultValue" } }, { "name": "Tag", "type": "esriFieldTypeString", "alias": "Tag", "domain": null, "length": 100 }, { "name": "GroupName", "type": "esriFieldTypeString", "alias": "GroupName", "domain": null, "length": 100 }, { "name": "ProductName", "type": "esriFieldTypeString", "alias": "ProductName", "domain": null, "length": 100 }, { "name": "CenterX", "type": "esriFieldTypeDouble", "alias": "CenterX", "domain": null }, { "name": "CenterY", "type": "esriFieldTypeDouble", "alias": "CenterY", "domain": null }, { "name": "ZOrder", "type": "esriFieldTypeInteger", "alias": "ZOrder", "domain": null }, { "name": "Date", "type": "esriFieldTypeDateOnly", "alias": "Date", "domain": null }, { "name": "Shape_Length", "type": "esriFieldTypeDouble", "alias": "Shape_Length", "domain": null }, { "name": "Shape_Area", "type": "esriFieldTypeDouble", "alias": "Shape_Area", "domain": null } ], "capabilities": "Catalog,Mensuration,Image,Metadata", "defaultMosaicMethod": "Northwest", "allowedMosaicMethods": "NorthWest,Center,LockRaster,ByAttribute,Nadir,Viewpoint,Seamline,None", "sortField": "", "sortValue": null, "sortAscending": true, "mosaicOperator": "First", "maxDownloadSizeLimit": 2048, "defaultCompressionQuality": 75, "defaultResamplingMethod": "Bilinear", "maxImageHeight": 4100, "maxImageWidth": 15000, "maxRecordCount": 1000, "maxDownloadImageCount": 20, "maxMosaicImageCount": 20, "allowRasterFunction": true, "rasterFunctionInfos": [ { "name": "None", "description": "", "help": "" } ], "rasterTypeInfos": [ { "name": "Raster Dataset", "description": "Supports all ArcGIS Raster Datasets", "help": "" } ], "mensurationCapabilities": "Basic", "hasHistograms": false, "hasColormap": false, "hasRasterAttributeTable": false, "minScale": 0, "maxScale": 0, "exportTilesAllowed": false, "supportsStatistics": true, "supportsAdvancedQueries": true, "editFieldsInfo": null, "ownershipBasedAccessControlForRasters": null, "allowComputeTiePoints": false, "useStandardizedQueries": true, "advancedQueryCapabilities": { "useStandardizedQueries": true, "supportsStatistics": true, "supportsOrderBy": true, "supportsDistinct": true, "supportsPagination": true }, "spatialReference": { "wkid": 4326, "latestWkid": 4326 }, "resampling": false }