{ "currentVersion": 11.5, "serviceDescription": "

Date of Images:<\/span><\/p>
May 5, 2024, August 9, 2024, August 21, 2024<\/span><\/p>
<\/p>
Summary:<\/span><\/p>
The Advanced Rapid Imaging and Analysis (ARIA) and Observational Products for End-Users from Remote Sensing Analysis (OPERA) teams at NASA's Jet Propulsion Laboratory and California Institute of Technology derived the surface water extent maps from Sentinel-1.<\/span><\/p>
The results posted here are preliminary and unvalidated results, primarily intended to aid the field response and people who wanted to have a rough first look at the inundation extent. The ARIA-share website has always focused on posting preliminary results as fast as possible for disaster response.<\/span><\/p>
<\/p>
Suggested Use:<\/span><\/p>
The OPERA DSWx-S1 products classifies the OPERA Radiometric Terrain Corrected SAR backscatter from Sentinel-1 (RTC-S1) input imagery into: not water, water, and inundated vegetation with the masks such as layover/shadow mask and HAND mask. The WTR layer includes all classes. Open water and inundated vegetation are represented in blue and green in WTR. Areas with masks are gray. The masks include the layover/shadow mask and HAND mask. Areas with no water detected are transparent.<\/span><\/p>
  • Transparent: Not Water<\/span><\/p><\/li>
  • Blue: Water<\/span><\/p><\/li>
  • Green: Inundated Vegetation<\/span><\/p><\/li>
  • Gray: Layover/Shadow/Hand Masks<\/span><\/p><\/li><\/ul>
    <\/p>
    Satellite/Sensor:<\/span><\/p>
    Synthetic Aperture Radar (SAR) instrument on European Space Agency's (ESA) Sentinel-1A satellite<\/span><\/p>
    <\/p>
    Harmonized Landsat Sentinel-2 (HLS): MultiSpectral Instrument (MSI) on European Space Agency's (ESA) Copernicus Sentinel-2A/2B satellites and Operational Land Imager (OLI) on the NASA/USGS Landsat 8 satellite<\/span><\/p>
    <\/p>
    Resolution:<\/span><\/p>
    30 meters<\/span><\/p>
    <\/p>
    The DSWx-S1 products have these flags:<\/span><\/p>
    250 (light gray) and 251 (dark gray) represent HAND and layover/shadow masks, respectively.<\/span><\/p>
    HAND mask (light gray, value 250) delineates regions where the terrain's elevation exceeds a specified threshold relative to the height above the nearest drainage point, indicating areas less likely to be subject to direct inundation. Layover/shadow mask (dark gray, value 251) identifies zones that are either occluded by topographic features taller than the surrounding landscape (layover) or are not illuminated by the radar signal due to obstruction by these elevated features (shadow), leading to potential data voids in SAR imagery.<\/span><\/p>
    <\/p>
    Credits:<\/span><\/p>
    NASA JPL-Caltech ARIA/OPERA Team<\/span><\/p>
    Sentinel-1 data were accessed through the Copernicus Open Hub and the Alaska Satellite Facility server. The product contains modified Copernicus Sentinel data (2024), processed by the European Space Agency and analyzed by the NASA-JPL/Caltech ARIA and OPERA team. The products are produced as part of the OPERA project, which is funded by NASA to address remote sensing needs identified by the Satellite Needs Working Group, and managed by NASA's Jet Propulsion Laboratory.<\/span><\/p>
    The OPERA DSWx products have been in production since September 2024, are freely distributed to the public via NASA's Physical Oceanography Distributed Active Archive Center (PO.DAAC), and can be downloaded through NASA's Earthdata search. For more information about the Dynamic Surface Water eXtent product suite, please refer to the DSWx Product page: https://www.jpl.nasa.gov/go/opera/products/dswx-product-suite.<\/span><\/p>
    For more information about the Caltech-JPL ARIA project, visit https://aria.jpl.nasa.gov.<\/span><\/p>
    For more information about the JPL OPERA project, visit https://www.jpl.nasa.gov/go/opera.<\/span><\/p><\/div><\/div><\/div>", "serviceItemId": "feb8ab36293f4bcfa20ca61e54fa1298", "name": "DISASTERS_202408_FLOOD_BANGLADESH/2423_opera_dswx_s1", "description": "", "extent": { "xmin": 88.59932952000008, "ymin": 20.89943663522049, "xmax": 92.17713963359131, "ymax": 26.10930595700006, "spatialReference": { "wkid": 4326, "latestWkid": 4326 } }, "initialExtent": { "xmin": 88.59932952000008, "ymin": 20.89943663522049, "xmax": 92.17713963359131, "ymax": 26.10930595700006, "spatialReference": { "wkid": 4326, "latestWkid": 4326 } }, "fullExtent": { "xmin": 88.59932952000008, "ymin": 20.89943663522049, "xmax": 92.17713963359131, "ymax": 26.10930595700006, "spatialReference": { "wkid": 4326, "latestWkid": 4326 } }, "sortableFields": "MinPS,MaxPS,LowPS,HighPS,CenterX,CenterY,ZOrder,Shape_Length,Shape_Area", "bandCount": 3, "pixelType": "U8", "minValues": [ 0, 0, 0 ], "maxValues": [ 255, 255, 255 ], "meanValues": [ 167.0192347930355, 177.32454591258116, 244.62984196702786 ], "stdvValues": [ 121.17338552926797, 117.31271185454028, 50.25275165927586 ], "serviceProperties": "NorthWest<\/MosaicMethod>First<\/MosaicOperator>true<\/SortAscending><\/LockImageID>Name<\/TileOrderField>0<\/TileOrderBase>600.000000<\/AvgImageSpacingX>300.000000<\/AvgImageSpacingY>0.0<\/ViewPointX>0.0<\/ViewPointY>0.0<\/ViewPointDefShiftX>0.0<\/ViewPointDefShiftY>None<\/CompressionMethod>75<\/CompressionQuality>0.010000<\/CompressionTolerance>Bilinear<\/SamplingMethod><\/ImageServiceProperties><\/ImageServer>", "allowedFields": "Name,MinPS,MaxPS,LowPS,HighPS,Tag,GroupName,ProductName,CenterX,CenterY,ZOrder,Shape_Length,Shape_Area,Date", "hasMultidimensions": false, "pixelSizeX": 2.694945852358562E-4, "pixelSizeY": 2.6949458523585615E-4, "meanPixelSize": 29.99999999999997, "datasetFormat": "AMD", "uncompressedSize": 769896900, "blockWidth": 2048, "blockHeight": 256, "compressionType": "None", "bandNames": [ "Band_1", "Band_2", "Band_3" ], "allowCopy": true, "allowAnalysis": true, "itemAccess": false, "inspectionCapabilities": "", "minPixelSize": 0, "maxPixelSize": 0, "copyrightText": "NASA JPL-Caltech ARIA/OPERA Team", "serviceDataType": "esriImageServiceDataTypeRGB", "serviceSourceType": "esriImageServiceSourceTypeMosaicDataset", "objectIdField": "OBJECTID", "fields": [ { "name": "OBJECTID", "type": "esriFieldTypeOID", "alias": "OBJECTID", "domain": null }, { "name": "Shape", "type": "esriFieldTypeGeometry", "alias": "Shape", "domain": null }, { "name": "Name", "type": "esriFieldTypeString", "alias": "Name", "domain": null, "length": 200 }, { "name": "MinPS", "type": "esriFieldTypeDouble", "alias": "MinPS", "domain": null }, { "name": "MaxPS", "type": "esriFieldTypeDouble", "alias": "MaxPS", "domain": null }, { "name": "LowPS", "type": "esriFieldTypeDouble", "alias": "LowPS", "domain": null }, { "name": "HighPS", "type": "esriFieldTypeDouble", "alias": "HighPS", "domain": null }, { "name": "Category", "type": "esriFieldTypeInteger", "alias": "Category", "domain": { "type": "codedValue", "name": "MosaicCatalogItemCategoryDomain", "description": "Catalog item categories.", "codedValues": [ { "name": "Unknown", "code": 0 }, { "name": "Primary", "code": 1 }, { "name": "Overview", "code": 2 }, { "name": "Unprocessed Overview", "code": 3 }, { "name": "Partial Overview", "code": 4 }, { "name": "Inactive", "code": 5 }, { "name": "Uploaded", "code": 253 }, { "name": "Incomplete", "code": 254 }, { "name": "Custom", "code": 255 } ], "mergePolicy": "esriMPTDefaultValue", "splitPolicy": "esriSPTDefaultValue" } }, { "name": "Tag", "type": "esriFieldTypeString", "alias": "Tag", "domain": null, "length": 100 }, { "name": "GroupName", "type": "esriFieldTypeString", "alias": "GroupName", "domain": null, "length": 100 }, { "name": "ProductName", "type": "esriFieldTypeString", "alias": "ProductName", "domain": null, "length": 100 }, { "name": "CenterX", "type": "esriFieldTypeDouble", "alias": "CenterX", "domain": null }, { "name": "CenterY", "type": "esriFieldTypeDouble", "alias": "CenterY", "domain": null }, { "name": "ZOrder", "type": "esriFieldTypeInteger", "alias": "ZOrder", "domain": null }, { "name": "Date", "type": "esriFieldTypeDateOnly", "alias": "Date", "domain": null }, { "name": "Shape_Length", "type": "esriFieldTypeDouble", "alias": "Shape_Length", "domain": null }, { "name": "Shape_Area", "type": "esriFieldTypeDouble", "alias": "Shape_Area", "domain": null } ], "capabilities": "Catalog,Image,Metadata", "defaultMosaicMethod": "Northwest", "allowedMosaicMethods": "NorthWest,Center,LockRaster,ByAttribute,Nadir,Viewpoint,Seamline,None", "sortField": "", "sortValue": null, "sortAscending": true, "mosaicOperator": "First", "maxDownloadSizeLimit": 2048, "defaultCompressionQuality": 75, "defaultResamplingMethod": "Bilinear", "maxImageHeight": 4100, "maxImageWidth": 15000, "maxRecordCount": 1000, "maxDownloadImageCount": 20, "maxMosaicImageCount": 20, "allowRasterFunction": true, "rasterFunctionInfos": [ { "name": "None", "description": "", "help": "" } ], "rasterTypeInfos": [ { "name": "Raster Dataset", "description": "Supports all ArcGIS Raster Datasets", "help": "" } ], "mensurationCapabilities": "None", "hasHistograms": true, "hasColormap": false, "hasRasterAttributeTable": false, "minScale": 0, "maxScale": 0, "exportTilesAllowed": false, "supportsStatistics": true, "supportsAdvancedQueries": true, "editFieldsInfo": null, "ownershipBasedAccessControlForRasters": null, "allowComputeTiePoints": false, "useStandardizedQueries": true, "advancedQueryCapabilities": { "useStandardizedQueries": true, "supportsStatistics": true, "supportsOrderBy": true, "supportsDistinct": true, "supportsPagination": true }, "spatialReference": { "wkid": 4326, "latestWkid": 4326 }, "resampling": false }