{ "currentVersion": 11.5, "serviceDescription": "

Data from October 12th onwards can be found here for Hurricane Milton: <\/span>https://maps.disasters.nasa.gov/arcgis/home/item.html?id=93d2cb2403684275af7c47d468a7be5b<\/a><\/p>
Date of Image:<\/span><\/p>
Pre-Event: <\/span>August 2024, September 18, 2024 - September 26, 2024<\/span><\/p>
Post-Event: <\/span>September 27, 2024 - October 11, 2024<\/span><\/p>
Summary:<\/span><\/p>
These Black Marble Day-Night Band (BRDF-Corrected) images were created by the NASA Black Marble Science team. The images corrected for atmospheric, terrain, lunar BRDF, and straylight effects, and directly measures light intensity on the ground in units of nanowatts/(steradian centimeter squared). The images are scaled from 0 - 30, and show the impact of Hurricane Helene on electric grids in the Southeast US. The baseline image is from August 2024, generated from all daily atmospheric and lunar-corrected data from that month, with additional baselines from September 18-25, 2024, and the \u201cafter" image from September 27, 2024. There is a layer to display where clouds are present. This comparison between the images is meant as a visual assessment of outage impacts from Francine to aid various partners who are working to deliver emergency aids to local communities. Power outage maps like these help disaster response efforts in the short-term as well as long-term monitoring during the crucial stages of disaster recovery.<\/span><\/p>
Suggested Use:<\/span><\/p>
NASA's Black Marble Nighttime Light product suite is a state-of-the-art daily global collection of standard products for monitoring nighttime lights (NTL). Utilizing the Visible Imaging Radiometer Suite (VIIRS) Day/Night Band (DNB) aboard the Suomi-NPP, NOAA-20, and NOAA-21 satellites.<\/span><\/p>
The image is in inferno color scale. Yellow represents presence of more light; dark blue less lights. Grey represents cloud cover.<\/span><\/p>
Satellite/Sensor:<\/span><\/p>
Visible Infrared Imaging Radiometer Suite (VIIRS) Day/Night Band (DNB) onboard the Suomi National Polar-orbiting Platform (SNPP), NOAA-20, and NOAA-21<\/span><\/p>
SNPP: August 2024 composite, September 18 - 24, 2024, October 1, 2024, October 10, 2024 - October 11, 2024<\/span><\/p>
NOAA-20: September 25 - September 30, 2024, October 2, 2024 - October 9, 2024<\/span><\/p>
Resolution:<\/span><\/p>
500 meters<\/span><\/p>
Credits<\/span>:<\/span><\/p>
NASA Black Marble Science team<\/span><\/p>
Please cite the following two references when using this data:<\/span><\/p>
Román MO, Stokes EC, Shrestha R, Wang Z, Schultz L, Carlo EA, Sun Q, Bell J, Molthan A, Kalb V, Ji C. Satellite-based assessment of electricity restoration efforts in Puerto Rico after Hurricane Maria. PloS one. 2019 Jun 28;14(6):e0218883.<\/span><\/p>
Román MO, Wang Z, Sun Q, Kalb V, Miller SD, Molthan A, Schultz L, Bell J, Stokes EC, Pandey B, Seto KC. NASA's Black Marble nighttime lights product suite. Remote Sensing of Environment. 2018 Jun 1;210:113-43.<\/span><\/p>
Point of Contact:<\/span><\/p>
Ranjay Shrestha<\/span><\/p>
NASA Goddard Space Flight Center<\/span><\/p>
E-mail: ranjay.m.shrestha@nasa.gov<\/span><\/p>
Additional Links:<\/span><\/p>
NASA\u2019s Black Marble Product Suite<\/span><\/p>
Román, M.O. et al. (2019) Satellite-based assessment of electricity restoration efforts in Puerto Rico after Hurricane Maria. PLoS One, 14 (6).<\/span><\/p>
Román, M.O. et al. (2018) NASA\u2019s Black Marble nighttime lights product suite. Remote Sensing of Environment. 210, 113\u2013143.<\/span><\/p>
Esri REST Endpoint:<\/span><\/p>
See URL section on right side of page.<\/span><\/p>
WMS Endpoint:<\/span><\/p>
https://gis.earthdata.nasa.gov/gis05/services/DISASTERS_202409_HURRICANE_HELENE/BLACKMARBLE_BRDF/ImageServer/WMSServer<\/a><\/p>
Data Download:<\/span><\/p>
https://maps.disasters.nasa.gov/download/gis_products/event_specific/2024/hurricane_helene_202409/blackmarble/<\/a><\/p><\/div>", "serviceItemId": "194a7a1b556e43679f1dc6b27cce1a3e", "name": "DISASTERS_202409_HURRICANE_HELENE/202427_blackmarble_brdf", "description": "

Data from October 12th onwards can be found here for Hurricane Milton: <\/span>https://maps.disasters.nasa.gov/arcgis/home/item.html?id=93d2cb2403684275af7c47d468a7be5b<\/a><\/p>
Date of Image:<\/span><\/p>
Pre-Event: <\/span>August 2024, September 18, 2024 - September 26, 2024<\/span><\/p>
Post-Event: <\/span>September 27, 2024 - October 11, 2024<\/span><\/p>
Summary:<\/span><\/p>
These Black Marble Day-Night Band (BRDF-Corrected) images were created by the NASA Black Marble Science team. The images corrected for atmospheric, terrain, lunar BRDF, and straylight effects, and directly measures light intensity on the ground in units of nanowatts/(steradian centimeter squared). The images are scaled from 0 - 30, and show the impact of Hurricane Helene on electric grids in the Southeast US. The baseline image is from August 2024, generated from all daily atmospheric and lunar-corrected data from that month, with additional baselines from September 18-25, 2024, and the \u201cafter" image from September 27, 2024. There is a layer to display where clouds are present. This comparison between the images is meant as a visual assessment of outage impacts from Francine to aid various partners who are working to deliver emergency aids to local communities. Power outage maps like these help disaster response efforts in the short-term as well as long-term monitoring during the crucial stages of disaster recovery.<\/span><\/p>
Suggested Use:<\/span><\/p>
NASA's Black Marble Nighttime Light product suite is a state-of-the-art daily global collection of standard products for monitoring nighttime lights (NTL). Utilizing the Visible Imaging Radiometer Suite (VIIRS) Day/Night Band (DNB) aboard the Suomi-NPP, NOAA-20, and NOAA-21 satellites.<\/span><\/p>
The image is in inferno color scale. Yellow represents presence of more light; dark blue less lights. Grey represents cloud cover.<\/span><\/p>
Satellite/Sensor:<\/span><\/p>
Visible Infrared Imaging Radiometer Suite (VIIRS) Day/Night Band (DNB) onboard the Suomi National Polar-orbiting Platform (SNPP), NOAA-20, and NOAA-21<\/span><\/p>
SNPP: August 2024 composite, September 18 - 24, 2024, October 1, 2024, October 10, 2024 - October 11, 2024<\/span><\/p>
NOAA-20: September 25 - September 30, 2024, October 2, 2024 - October 9, 2024<\/span><\/p>
Resolution:<\/span><\/p>
500 meters<\/span><\/p>
Credits<\/span>:<\/span><\/p>
NASA Black Marble Science team<\/span><\/p>
Please cite the following two references when using this data:<\/span><\/p>
Román MO, Stokes EC, Shrestha R, Wang Z, Schultz L, Carlo EA, Sun Q, Bell J, Molthan A, Kalb V, Ji C. Satellite-based assessment of electricity restoration efforts in Puerto Rico after Hurricane Maria. PloS one. 2019 Jun 28;14(6):e0218883.<\/span><\/p>
Román MO, Wang Z, Sun Q, Kalb V, Miller SD, Molthan A, Schultz L, Bell J, Stokes EC, Pandey B, Seto KC. NASA's Black Marble nighttime lights product suite. Remote Sensing of Environment. 2018 Jun 1;210:113-43.<\/span><\/p>
Point of Contact:<\/span><\/p>
Ranjay Shrestha<\/span><\/p>
NASA Goddard Space Flight Center<\/span><\/p>
E-mail: ranjay.m.shrestha@nasa.gov<\/span><\/p>
Additional Links:<\/span><\/p>
NASA\u2019s Black Marble Product Suite<\/span><\/p>
Román, M.O. et al. (2019) Satellite-based assessment of electricity restoration efforts in Puerto Rico after Hurricane Maria. PLoS One, 14 (6).<\/span><\/p>
Román, M.O. et al. (2018) NASA\u2019s Black Marble nighttime lights product suite. Remote Sensing of Environment. 210, 113\u2013143.<\/span><\/p>
Esri REST Endpoint:<\/span><\/p>
See URL section on right side of page.<\/span><\/p>
WMS Endpoint:<\/span><\/p>
https://gis.earthdata.nasa.gov/gis05/services/DISASTERS_202409_HURRICANE_HELENE/BLACKMARBLE_BRDF/ImageServer/WMSServer<\/a><\/p>
Data Download:<\/span><\/p>
https://maps.disasters.nasa.gov/download/gis_products/event_specific/2024/hurricane_helene_202409/blackmarble/<\/a><\/p><\/div>", "extent": { "xmin": -1.00187541714E7, "ymin": 2273022.9061998, "xmax": -8905561.324079132, "ymax": 4865942.2795, "spatialReference": { "wkid": 102100, "latestWkid": 3857 } }, "initialExtent": { "xmin": -1.00187541714E7, "ymin": 2273022.9061998, "xmax": -8905561.324079132, "ymax": 4865942.2795, "spatialReference": { "wkid": 102100, "latestWkid": 3857 } }, "fullExtent": { "xmin": -1.00187541714E7, "ymin": 2273022.9061998, "xmax": -8905561.324079132, "ymax": 4865942.2795, "spatialReference": { "wkid": 102100, "latestWkid": 3857 } }, "sortableFields": "MinPS,MaxPS,LowPS,HighPS,CenterX,CenterY,ZOrder,Shape_Length,Shape_Area", "bandCount": 1, "pixelType": "F32", "minValues": [ -999.9000244140625 ], "maxValues": [ 754.7274169921875 ], "meanValues": [ -426.23389428837766 ], "stdvValues": [ 468.2408827017296 ], "serviceProperties": "NorthWest<\/MosaicMethod>First<\/MosaicOperator>true<\/SortAscending><\/LockImageID>Name<\/TileOrderField>0<\/TileOrderBase>600.000000<\/AvgImageSpacingX>300.000000<\/AvgImageSpacingY>0.0<\/ViewPointX>0.0<\/ViewPointY>0.0<\/ViewPointDefShiftX>0.0<\/ViewPointDefShiftY>None<\/CompressionMethod>75<\/CompressionQuality>0.010000<\/CompressionTolerance>Bilinear<\/SamplingMethod><\/ImageServiceProperties><\/ImageServer>", "allowedFields": "Name,MinPS,MaxPS,LowPS,HighPS,Tag,GroupName,ProductName,CenterX,CenterY,ZOrder,Shape_Length,Shape_Area,Date", "hasMultidimensions": false, "pixelSizeX": 12.367435255203507, "pixelSizeY": 12.367435255203501, "meanPixelSize": 12.367435255203503, "datasetFormat": "AMD", "uncompressedSize": 75484906280, "blockWidth": 2048, "blockHeight": 256, "compressionType": "None", "bandNames": [ "Band_1" ], "allowCopy": true, "allowAnalysis": true, "itemAccess": false, "inspectionCapabilities": "", "minPixelSize": 0, "maxPixelSize": 0, "copyrightText": "USRA/NASA Black Marble Science team", "serviceDataType": "esriImageServiceDataTypeGeneric", "serviceSourceType": "esriImageServiceSourceTypeMosaicDataset", "objectIdField": "OBJECTID", "fields": [ { "name": "OBJECTID", "type": "esriFieldTypeOID", "alias": "OBJECTID", "domain": null }, { "name": "Shape", "type": "esriFieldTypeGeometry", "alias": "Shape", "domain": null }, { "name": "Name", "type": "esriFieldTypeString", "alias": "Name", "domain": null, "length": 200 }, { "name": "MinPS", "type": "esriFieldTypeDouble", "alias": "MinPS", "domain": null }, { "name": "MaxPS", "type": "esriFieldTypeDouble", "alias": "MaxPS", "domain": null }, { "name": "LowPS", "type": "esriFieldTypeDouble", "alias": "LowPS", "domain": null }, { "name": "HighPS", "type": "esriFieldTypeDouble", "alias": "HighPS", "domain": null }, { "name": "Category", "type": "esriFieldTypeInteger", "alias": "Category", "domain": { "type": "codedValue", "name": "MosaicCatalogItemCategoryDomain", "description": "Catalog item categories.", "codedValues": [ { "name": "Unknown", "code": 0 }, { "name": "Primary", "code": 1 }, { "name": "Overview", "code": 2 }, { "name": "Unprocessed Overview", "code": 3 }, { "name": "Partial Overview", "code": 4 }, { "name": "Inactive", "code": 5 }, { "name": "Uploaded", "code": 253 }, { "name": "Incomplete", "code": 254 }, { "name": "Custom", "code": 255 } ], "mergePolicy": "esriMPTDefaultValue", "splitPolicy": "esriSPTDefaultValue" } }, { "name": "Tag", "type": "esriFieldTypeString", "alias": "Tag", "domain": null, "length": 100 }, { "name": "GroupName", "type": "esriFieldTypeString", "alias": "GroupName", "domain": null, "length": 100 }, { "name": "ProductName", "type": "esriFieldTypeString", "alias": "ProductName", "domain": null, "length": 100 }, { "name": "CenterX", "type": "esriFieldTypeDouble", "alias": "CenterX", "domain": null }, { "name": "CenterY", "type": "esriFieldTypeDouble", "alias": "CenterY", "domain": null }, { "name": "ZOrder", "type": "esriFieldTypeInteger", "alias": "ZOrder", "domain": null }, { "name": "Date", "type": "esriFieldTypeDateOnly", "alias": "Date", "domain": null }, { "name": "Shape_Length", "type": "esriFieldTypeDouble", "alias": "Shape_Length", "domain": null }, { "name": "Shape_Area", "type": "esriFieldTypeDouble", "alias": "Shape_Area", "domain": null } ], "capabilities": "Catalog,Mensuration,Image,Metadata", "defaultMosaicMethod": "Northwest", "allowedMosaicMethods": "NorthWest,Center,LockRaster,ByAttribute,Nadir,Viewpoint,Seamline,None", "sortField": "", "sortValue": null, "sortAscending": true, "mosaicOperator": "First", "maxDownloadSizeLimit": 2048, "defaultCompressionQuality": 75, "defaultResamplingMethod": "Bilinear", "maxImageHeight": 4100, "maxImageWidth": 15000, "maxRecordCount": 1000, "maxDownloadImageCount": 20, "maxMosaicImageCount": 20, "allowRasterFunction": true, "rasterFunctionInfos": [ { "name": "None", "description": "Make a Raster or Raster Dataset into a Function Raster Dataset.", "help": "" } ], "rasterTypeInfos": [ { "name": "Raster Dataset", "description": "Supports all ArcGIS Raster Datasets", "help": "" } ], "mensurationCapabilities": "", "hasHistograms": true, "hasColormap": false, "hasRasterAttributeTable": false, "minScale": 0, "maxScale": 0, "exportTilesAllowed": false, "supportsStatistics": true, "supportsAdvancedQueries": true, "editFieldsInfo": null, "ownershipBasedAccessControlForRasters": null, "allowComputeTiePoints": false, "useStandardizedQueries": true, "advancedQueryCapabilities": { "useStandardizedQueries": true, "supportsStatistics": true, "supportsOrderBy": true, "supportsDistinct": true, "supportsPagination": true }, "spatialReference": { "wkid": 102100, "latestWkid": 3857 }, "resampling": false }