{ "currentVersion": 11.5, "serviceDescription": "

Date of Image:<\/span><\/p>
Pre-Event: August 2024<\/span><\/p>
Post-Event: September 28, 2024<\/span><\/p>
Summary:<\/span><\/p>
These Black Marble High-Definition (BMHD) images were created by the NASA Black Marble Science team, with directed funding the NASA-Google Partnership program. The images map the impact of Hurricane Helene on electric grids. The baseline image is from August 2024, a cloud-free, moon-free composite, and the \u201cafter" image is from September 28. There is a layer to display where clouds are present in the "after" images. This comparison between the images is meant as a visual assessment of outage impacts from the extreme heat to aid various partners who are working to deliver emergency aids to local communities. Power outage maps like these help disaster response efforts in the short-term as well as long-term monitoring during the crucial stages of disaster recovery.<\/span><\/p>
Suggested Use:<\/span><\/p>
NOTE: Black Marble HD images are downscaled from NASA\u2019s Black Marble nighttime lights product (VNP46), and as such are a \u201cmodelled\u201d or \u201cbest guess\u201d estimate of how lights are distributed at a 30m resolution. These images should be used for visualization purposes, not for quantitative analysis.<\/span><\/p>
The image is in inferno color scale. Yellow represents presence of more light; dark blue less lights.<\/span><\/p>
Satellite/Sensor:<\/span><\/p>
The primary data source, NASA\u2019s Black Marble nighttime lights product suite (VNP46), utilized to generate this product is derived from the Visible Infrared Imaging Radiometer Suite (VIIRS) Day/Night Band (DNB) onboard the Suomi National Polar-orbiting Platform (SNPP) along with high resolution base layers - Landsat derived normalized index products (NDVI and NDWI) and OpenStreetMap (OSM) derived road layer<\/span><\/p>
Resolution:<\/span><\/p>
Scaled resolution of 30 meters<\/span><\/p>
Credits:<\/span><\/p>
NASA Black Marble Science team<\/span><\/p>
Please cite the following two references when using this data<\/span><\/p>
Román MO, Stokes EC, Shrestha R, Wang Z, Schultz L, Carlo EA, Sun Q, Bell J, Molthan A, Kalb V, Ji C. Satellite-based assessment of electricity restoration efforts in Puerto Rico after Hurricane Maria. PloS one. 2019 Jun 28;14(6):e0218883.<\/span><\/p>
Román MO, Wang Z, Sun Q, Kalb V, Miller SD, Molthan A, Schultz L, Bell J, Stokes EC, Pandey B, Seto KC. NASA's Black Marble nighttime lights product suite. Remote Sensing of Environment. 2018 Jun 1;210:113-43.<\/span><\/p>
Point of Contact:<\/span><\/p>
Ranjay Shrestha<\/span><\/p>
NASA Goddard Space Flight Center<\/span><\/p>
E-mail: ranjay.m.shrestha@nasa.gov<\/span><\/p>
Additional Links:<\/b><\/span><\/p>
NASA\u2019s Black Marble Product Suite<\/span><\/p>
Román, M.O. et al. (2019) Satellite-based assessment of electricity restoration efforts in Puerto Rico after Hurricane Maria. PLoS One, 14 (6).<\/span><\/p>
Román, M.O. et al. (2018) NASA\u2019s Black Marble nighttime lights product suite. Remote Sensing of Environment. 210, 113\u2013143.<\/span><\/p>
Esri REST Endpoint:<\/b><\/span><\/p>
See URL section on right side of page.<\/span><\/p>
WMS Endpoint:<\/span><\/p>
https://gis.earthdata.nasa.gov/gis05/services/DISASTERS_202409_HURRICANE_HELENE/BMHD/ImageServer/WMSServer<\/a><\/p>
<\/span><\/p><\/div>", "serviceItemId": "dc28cc853451408fbd897cf9c2bb48e5", "name": "DISASTERS_202409_HURRICANE_HELENE/202427_bmhd", "description": "

Date of Image:<\/span><\/p>
Pre-Event: August 2024<\/span><\/p>
Post-Event: September 28, 2024<\/span><\/p>
Summary:<\/span><\/p>
These Black Marble High-Definition (BMHD) images were created by the NASA Black Marble Science team, with directed funding the NASA-Google Partnership program. The images map the impact of Hurricane Helene on electric grids. The baseline image is from August 2024, a cloud-free, moon-free composite, and the \u201cafter" image is from September 28. There is a layer to display where clouds are present in the "after" images. This comparison between the images is meant as a visual assessment of outage impacts from the extreme heat to aid various partners who are working to deliver emergency aids to local communities. Power outage maps like these help disaster response efforts in the short-term as well as long-term monitoring during the crucial stages of disaster recovery.<\/span><\/p>
Suggested Use:<\/span><\/p>
NOTE: Black Marble HD images are downscaled from NASA\u2019s Black Marble nighttime lights product (VNP46), and as such are a \u201cmodelled\u201d or \u201cbest guess\u201d estimate of how lights are distributed at a 30m resolution. These images should be used for visualization purposes, not for quantitative analysis.<\/span><\/p>
The image is in inferno color scale. Yellow represents presence of more light; dark blue less lights.<\/span><\/p>
Satellite/Sensor:<\/span><\/p>
The primary data source, NASA\u2019s Black Marble nighttime lights product suite (VNP46), utilized to generate this product is derived from the Visible Infrared Imaging Radiometer Suite (VIIRS) Day/Night Band (DNB) onboard the Suomi National Polar-orbiting Platform (SNPP) along with high resolution base layers - Landsat derived normalized index products (NDVI and NDWI) and OpenStreetMap (OSM) derived road layer<\/span><\/p>
Resolution:<\/span><\/p>
Scaled resolution of 30 meters<\/span><\/p>
Credits:<\/span><\/p>
NASA Black Marble Science team<\/span><\/p>
Please cite the following two references when using this data<\/span><\/p>
Román MO, Stokes EC, Shrestha R, Wang Z, Schultz L, Carlo EA, Sun Q, Bell J, Molthan A, Kalb V, Ji C. Satellite-based assessment of electricity restoration efforts in Puerto Rico after Hurricane Maria. PloS one. 2019 Jun 28;14(6):e0218883.<\/span><\/p>
Román MO, Wang Z, Sun Q, Kalb V, Miller SD, Molthan A, Schultz L, Bell J, Stokes EC, Pandey B, Seto KC. NASA's Black Marble nighttime lights product suite. Remote Sensing of Environment. 2018 Jun 1;210:113-43.<\/span><\/p>
Point of Contact:<\/span><\/p>
Ranjay Shrestha<\/span><\/p>
NASA Goddard Space Flight Center<\/span><\/p>
E-mail: ranjay.m.shrestha@nasa.gov<\/span><\/p>
Additional Links:<\/b><\/span><\/p>
NASA\u2019s Black Marble Product Suite<\/span><\/p>
Román, M.O. et al. (2019) Satellite-based assessment of electricity restoration efforts in Puerto Rico after Hurricane Maria. PLoS One, 14 (6).<\/span><\/p>
Román, M.O. et al. (2018) NASA\u2019s Black Marble nighttime lights product suite. Remote Sensing of Environment. 210, 113\u2013143.<\/span><\/p>
Esri REST Endpoint:<\/b><\/span><\/p>
See URL section on right side of page.<\/span><\/p>
WMS Endpoint:<\/span><\/p>
https://gis.earthdata.nasa.gov/gis05/services/DISASTERS_202409_HURRICANE_HELENE/BMHD/ImageServer/WMSServer<\/a><\/p>
<\/span><\/p><\/div>", "extent": { "xmin": -9173733.7054, "ymin": 3917482.0549888113, "xmax": -9077947.919348449, "ymax": 3999923.378399998, "spatialReference": { "wkid": 102100, "latestWkid": 3857 } }, "initialExtent": { "xmin": -9173733.7054, "ymin": 3917482.0549888113, "xmax": -9077947.919348449, "ymax": 3999923.378399998, "spatialReference": { "wkid": 102100, "latestWkid": 3857 } }, "fullExtent": { "xmin": -9173733.7054, "ymin": 3917482.0549888113, "xmax": -9077947.919348449, "ymax": 3999923.378399998, "spatialReference": { "wkid": 102100, "latestWkid": 3857 } }, "sortableFields": "MinPS,MaxPS,LowPS,HighPS,CenterX,CenterY,ZOrder,Shape_Length,Shape_Area", "bandCount": 3, "pixelType": "U8", "minValues": [ 0, 0, 0 ], "maxValues": [ 255, 255, 174 ], "meanValues": [ 11.463646563997575, 4.303956654976242, 8.131392588026893 ], "stdvValues": [ 41.15251445674767, 19.808122657793557, 25.317205239304094 ], "serviceProperties": "NorthWest<\/MosaicMethod>First<\/MosaicOperator>true<\/SortAscending><\/LockImageID>Name<\/TileOrderField>0<\/TileOrderBase>600.000000<\/AvgImageSpacingX>300.000000<\/AvgImageSpacingY>0.0<\/ViewPointX>0.0<\/ViewPointY>0.0<\/ViewPointDefShiftX>0.0<\/ViewPointDefShiftY>None<\/CompressionMethod>75<\/CompressionQuality>0.010000<\/CompressionTolerance>Bilinear<\/SamplingMethod><\/ImageServiceProperties><\/ImageServer>", "allowedFields": "Name,MinPS,MaxPS,LowPS,HighPS,Tag,GroupName,ProductName,CenterX,CenterY,ZOrder,Shape_Length,Shape_Area,Date", "hasMultidimensions": false, "pixelSizeX": 12.367435255203471, "pixelSizeY": 12.367435255203524, "meanPixelSize": 12.367435255203498, "datasetFormat": "AMD", "uncompressedSize": 154884510, "blockWidth": 2048, "blockHeight": 256, "compressionType": "None", "bandNames": [ "Band_1", "Band_2", "Band_3" ], "allowCopy": true, "allowAnalysis": true, "itemAccess": false, "inspectionCapabilities": "", "minPixelSize": 0, "maxPixelSize": 0, "copyrightText": "USRA/NASA Black Marble Science team", "serviceDataType": "esriImageServiceDataTypeRGB", "serviceSourceType": "esriImageServiceSourceTypeMosaicDataset", "objectIdField": "OBJECTID", "fields": [ { "name": "OBJECTID", "type": "esriFieldTypeOID", "alias": "OBJECTID", "domain": null }, { "name": "Shape", "type": "esriFieldTypeGeometry", "alias": "Shape", "domain": null }, { "name": "Name", "type": "esriFieldTypeString", "alias": "Name", "domain": null, "length": 200 }, { "name": "MinPS", "type": "esriFieldTypeDouble", "alias": "MinPS", "domain": null }, { "name": "MaxPS", "type": "esriFieldTypeDouble", "alias": "MaxPS", "domain": null }, { "name": "LowPS", "type": "esriFieldTypeDouble", "alias": "LowPS", "domain": null }, { "name": "HighPS", "type": "esriFieldTypeDouble", "alias": "HighPS", "domain": null }, { "name": "Category", "type": "esriFieldTypeInteger", "alias": "Category", "domain": { "type": "codedValue", "name": "MosaicCatalogItemCategoryDomain", "description": "Catalog item categories.", "codedValues": [ { "name": "Unknown", "code": 0 }, { "name": "Primary", "code": 1 }, { "name": "Overview", "code": 2 }, { "name": "Unprocessed Overview", "code": 3 }, { "name": "Partial Overview", "code": 4 }, { "name": "Inactive", "code": 5 }, { "name": "Uploaded", "code": 253 }, { "name": "Incomplete", "code": 254 }, { "name": "Custom", "code": 255 } ], "mergePolicy": "esriMPTDefaultValue", "splitPolicy": "esriSPTDefaultValue" } }, { "name": "Tag", "type": "esriFieldTypeString", "alias": "Tag", "domain": null, "length": 100 }, { "name": "GroupName", "type": "esriFieldTypeString", "alias": "GroupName", "domain": null, "length": 100 }, { "name": "ProductName", "type": "esriFieldTypeString", "alias": "ProductName", "domain": null, "length": 100 }, { "name": "CenterX", "type": "esriFieldTypeDouble", "alias": "CenterX", "domain": null }, { "name": "CenterY", "type": "esriFieldTypeDouble", "alias": "CenterY", "domain": null }, { "name": "ZOrder", "type": "esriFieldTypeInteger", "alias": "ZOrder", "domain": null }, { "name": "Date", "type": "esriFieldTypeDateOnly", "alias": "Date", "domain": null }, { "name": "Shape_Length", "type": "esriFieldTypeDouble", "alias": "Shape_Length", "domain": null }, { "name": "Shape_Area", "type": "esriFieldTypeDouble", "alias": "Shape_Area", "domain": null } ], "capabilities": "Catalog,Mensuration,Image,Metadata", "defaultMosaicMethod": "Northwest", "allowedMosaicMethods": "NorthWest,Center,LockRaster,ByAttribute,Nadir,Viewpoint,Seamline,None", "sortField": "", "sortValue": null, "sortAscending": true, "mosaicOperator": "First", "maxDownloadSizeLimit": 2048, "defaultCompressionQuality": 75, "defaultResamplingMethod": "Bilinear", "maxImageHeight": 4100, "maxImageWidth": 15000, "maxRecordCount": 1000, "maxDownloadImageCount": 20, "maxMosaicImageCount": 20, "allowRasterFunction": true, "rasterFunctionInfos": [ { "name": "None", "description": "", "help": "" } ], "rasterTypeInfos": [ { "name": "Raster Dataset", "description": "Supports all ArcGIS Raster Datasets", "help": "" } ], "mensurationCapabilities": "", "hasHistograms": true, "hasColormap": false, "hasRasterAttributeTable": false, "minScale": 0, "maxScale": 0, "exportTilesAllowed": false, "supportsStatistics": true, "supportsAdvancedQueries": true, "editFieldsInfo": null, "ownershipBasedAccessControlForRasters": null, "allowComputeTiePoints": false, "useStandardizedQueries": true, "advancedQueryCapabilities": { "useStandardizedQueries": true, "supportsStatistics": true, "supportsOrderBy": true, "supportsDistinct": true, "supportsPagination": true }, "spatialReference": { "wkid": 102100, "latestWkid": 3857 }, "resampling": false }