{ "currentVersion": 11.5, "serviceDescription": "

The Experimental Binary NDVI change product is highlighting areas that experienced change (of any kind) since the pre-event Copernicus Sentinel-2 pass (October 2024) used in the analysis. The product is further filters to reduce noise and focus the identification on the more pronounced areas of change in an effort to identify areas that may have experienced damage during Hurricane Helene's passage and associated water and wind impacts.<\/span><\/p>
<\/p>
Usage:<\/span><\/p>
This binary mask layer is designed to overlaid with post event imagery (pre if it is available as well). The True color imagery or the Color IR RGB should be used to orient the user to areas that match the type of change being investigated. Color IR RGB uses infrared channels to isolate areas of high vegetation (and greenness) in red from areas that are not, such as cities, rivers, which will appear in shades of green/teal. Clouds are white while cloud shadows tend to be black (or close to it)<\/span><\/p>
<\/p>
Caveats:<\/span><\/p>
The include cloud mask is not capturing all of the clouds and is causing some areas to be falsely identified as change in the product. This is why it is recommended to use the product with the True Color and Color Infrared RGB. Some areas of open water were flagged as change and this is most likely due to changes of sediment and debris in these open water areas. Many areas of changed were flagged within areas of rugged terrain. Some of these area are actual changed as result of damaging winds and water. Others may be related to clouds and cloud shadows. Using the this product with the RGB imagery should be help support interpretation.<\/span><\/p>
<\/p>
Satellite/Sensor:<\/span><\/p>
Copernicus Sentinel-2<\/span><\/p>
<\/p>
Resolution:<\/span><\/p>
10 meters<\/span><\/p>
<\/p>
Service URL:<\/span><\/p>
<\/p>
<\/p>
WMS Endpoint:<\/span><\/p>
<\/p><\/div><\/div><\/div>", "serviceItemId": "bf62f4dba7cd4f1da2f60464d9d48917", "name": "DISASTERS_202410_HURRICANE_MILTON/2428_bndvi_change", "description": "

The Experimental Binary NDVI change product is highlighting areas that experienced change (of any kind) since the pre-event Copernicus Sentinel-2 pass (October 2024) used in the analysis. The product is further filters to reduce noise and focus the identification on the more pronounced areas of change in an effort to identify areas that may have experienced damage during Hurricane Helene's passage and associated water and wind impacts.<\/span><\/p>
<\/p>
Usage:<\/span><\/p>
This binary mask layer is designed to overlaid with post event imagery (pre if it is available as well). The True color imagery or the Color IR RGB should be used to orient the user to areas that match the type of change being investigated. Color IR RGB uses infrared channels to isolate areas of high vegetation (and greenness) in red from areas that are not, such as cities, rivers, which will appear in shades of green/teal. Clouds are white while cloud shadows tend to be black (or close to it)<\/span><\/p>
<\/p>
Caveats:<\/span><\/p>
The include cloud mask is not capturing all of the clouds and is causing some areas to be falsely identified as change in the product. This is why it is recommended to use the product with the True Color and Color Infrared RGB. Some areas of open water were flagged as change and this is most likely due to changes of sediment and debris in these open water areas. Many areas of changed were flagged within areas of rugged terrain. Some of these area are actual changed as result of damaging winds and water. Others may be related to clouds and cloud shadows. Using the this product with the RGB imagery should be help support interpretation.<\/span><\/p>
<\/p>
Satellite/Sensor:<\/span><\/p>
Copernicus Sentinel-2<\/span><\/p>
<\/p>
Resolution:<\/span><\/p>
10 meters<\/span><\/p>
<\/p>
Service URL:<\/span><\/p>
<\/p>
<\/p>
WMS Endpoint:<\/span><\/p>
<\/p><\/div><\/div><\/div>", "extent": { "xmin": -85.02567306299994, "ymin": 24.31225048495338, "xmax": -79.85335332009656, "ymax": 30.771856030000038, "spatialReference": { "wkid": 4326, "latestWkid": 4326 } }, "initialExtent": { "xmin": -85.02567306299994, "ymin": 24.31225048495338, "xmax": -79.85335332009656, "ymax": 30.771856030000038, "spatialReference": { "wkid": 4326, "latestWkid": 4326 } }, "fullExtent": { "xmin": -85.02567306299994, "ymin": 24.31225048495338, "xmax": -79.85335332009656, "ymax": 30.771856030000038, "spatialReference": { "wkid": 4326, "latestWkid": 4326 } }, "sortableFields": "MinPS,MaxPS,LowPS,HighPS,CenterX,CenterY,ZOrder,Shape_Length,Shape_Area", "bandCount": 1, "pixelType": "U8", "minValues": [], "maxValues": [], "meanValues": [], "stdvValues": [], "serviceProperties": "NorthWest<\/MosaicMethod>First<\/MosaicOperator>true<\/SortAscending><\/LockImageID>Name<\/TileOrderField>0<\/TileOrderBase>600.000000<\/AvgImageSpacingX>300.000000<\/AvgImageSpacingY>0.0<\/ViewPointX>0.0<\/ViewPointY>0.0<\/ViewPointDefShiftX>0.0<\/ViewPointDefShiftY>None<\/CompressionMethod>75<\/CompressionQuality>0.010000<\/CompressionTolerance>Bilinear<\/SamplingMethod><\/ImageServiceProperties><\/ImageServer>", "allowedFields": "Name,MinPS,MaxPS,LowPS,HighPS,Tag,GroupName,ProductName,CenterX,CenterY,ZOrder,Shape_Length,Shape_Area,Date", "hasMultidimensions": false, "pixelSizeX": 8.983152841195219E-5, "pixelSizeY": 8.983152841195216E-5, "meanPixelSize": 10.000000000000004, "datasetFormat": "AMD", "uncompressedSize": 4140318824, "blockWidth": 2048, "blockHeight": 256, "compressionType": "None", "bandNames": [ "Band_1" ], "allowCopy": true, "allowAnalysis": true, "itemAccess": false, "inspectionCapabilities": "", "minPixelSize": 0, "maxPixelSize": 0, "copyrightText": "MSFC, NASA, Copernicus Sentinel-2", "serviceDataType": "esriImageServiceDataTypeGeneric", "serviceSourceType": "esriImageServiceSourceTypeMosaicDataset", "objectIdField": "OBJECTID", "fields": [ { "name": "OBJECTID", "type": "esriFieldTypeOID", "alias": "OBJECTID", "domain": null }, { "name": "Shape", "type": "esriFieldTypeGeometry", "alias": "Shape", "domain": null }, { "name": "Name", "type": "esriFieldTypeString", "alias": "Name", "domain": null, "length": 200 }, { "name": "MinPS", "type": "esriFieldTypeDouble", "alias": "MinPS", "domain": null }, { "name": "MaxPS", "type": "esriFieldTypeDouble", "alias": "MaxPS", "domain": null }, { "name": "LowPS", "type": "esriFieldTypeDouble", "alias": "LowPS", "domain": null }, { "name": "HighPS", "type": "esriFieldTypeDouble", "alias": "HighPS", "domain": null }, { "name": "Category", "type": "esriFieldTypeInteger", "alias": "Category", "domain": { "type": "codedValue", "name": "MosaicCatalogItemCategoryDomain", "description": "Catalog item categories.", "codedValues": [ { "name": "Unknown", "code": 0 }, { "name": "Primary", "code": 1 }, { "name": "Overview", "code": 2 }, { "name": "Unprocessed Overview", "code": 3 }, { "name": "Partial Overview", "code": 4 }, { "name": "Inactive", "code": 5 }, { "name": "Uploaded", "code": 253 }, { "name": "Incomplete", "code": 254 }, { "name": "Custom", "code": 255 } ], "mergePolicy": "esriMPTDefaultValue", "splitPolicy": "esriSPTDefaultValue" } }, { "name": "Tag", "type": "esriFieldTypeString", "alias": "Tag", "domain": null, "length": 100 }, { "name": "GroupName", "type": "esriFieldTypeString", "alias": "GroupName", "domain": null, "length": 100 }, { "name": "ProductName", "type": "esriFieldTypeString", "alias": "ProductName", "domain": null, "length": 100 }, { "name": "CenterX", "type": "esriFieldTypeDouble", "alias": "CenterX", "domain": null }, { "name": "CenterY", "type": "esriFieldTypeDouble", "alias": "CenterY", "domain": null }, { "name": "ZOrder", "type": "esriFieldTypeInteger", "alias": "ZOrder", "domain": null }, { "name": "Date", "type": "esriFieldTypeDateOnly", "alias": "Date", "domain": null }, { "name": "Shape_Length", "type": "esriFieldTypeDouble", "alias": "Shape_Length", "domain": null }, { "name": "Shape_Area", "type": "esriFieldTypeDouble", "alias": "Shape_Area", "domain": null } ], "capabilities": "Catalog,Mensuration,Image,Metadata", "defaultMosaicMethod": "Northwest", "allowedMosaicMethods": "NorthWest,Center,LockRaster,ByAttribute,Nadir,Viewpoint,Seamline,None", "sortField": "", "sortValue": null, "sortAscending": true, "mosaicOperator": "First", "maxDownloadSizeLimit": 2048, "defaultCompressionQuality": 75, "defaultResamplingMethod": "Bilinear", "maxImageHeight": 4100, "maxImageWidth": 15000, "maxRecordCount": 1000, "maxDownloadImageCount": 20, "maxMosaicImageCount": 20, "allowRasterFunction": true, "rasterFunctionInfos": [ { "name": "None", "description": "", "help": "" } ], "rasterTypeInfos": [ { "name": "Raster Dataset", "description": "Supports all ArcGIS Raster Datasets", "help": "" } ], "mensurationCapabilities": "Basic", "hasHistograms": false, "hasColormap": false, "hasRasterAttributeTable": false, "minScale": 0, "maxScale": 0, "exportTilesAllowed": false, "supportsStatistics": true, "supportsAdvancedQueries": true, "editFieldsInfo": null, "ownershipBasedAccessControlForRasters": null, "allowComputeTiePoints": false, "useStandardizedQueries": true, "advancedQueryCapabilities": { "useStandardizedQueries": true, "supportsStatistics": true, "supportsOrderBy": true, "supportsDistinct": true, "supportsPagination": true }, "spatialReference": { "wkid": 4326, "latestWkid": 4326 }, "resampling": false }