Date of Image(s):<\/span><\/p>1/10/25; UTC: 223109<\/span><\/p>1/10/25; UTC: 222449<\/span><\/p><\/p>
Summary:<\/span><\/p>The images are false-color \u201cquick looks\u201d generated from the NASA AVIRIS-3 (Airborne Visible/Infrared Imaging Spectrometer -3). They are generated from un-atmospherically-corrected, at-sensor radiance data. Specifically: AVIRIS 3 L1B calibrated spectral radiance (units: uW nm-1 cm-2 sr-1). The images have been orthorectified.<\/span><\/p>Given that these images were derived from solely calibrated, at-sensor radiance data, they have not undergone atmospheric correction and do not quantitatively represent surface reflectance.<\/span><\/p><\/p>
Suggested Usage:<\/span><\/p>Despite the rawer form of this quick-look product, it is still useful for burned area mapping.<\/span><\/p><\/p>
Sensor:<\/span><\/p>Airborne Visible/Infrared Imaging Spectrometer 3rd-Generation (AVIRIS-3)<\/span><\/p>AV320250110t223109 Resolution: 3.70 x 3.70 m pixels<\/span><\/p>Dimensions for AV320250110t223109: X: 6210 Y: 3068 Bands: 3<\/span><\/p>AV320250110t222449 Resolution: 3.40 x 3.40 m pixels<\/span><\/p>Dimensions for AV320250110t222449: X: 6593 Y: 3465 Bands: 3<\/span><\/p>The AVIRIS-3 False color RGB wavelengths are 1660nm, 850nm, and 560nm for (R, G, B) respectively.<\/span><\/p><\/p>
Credits:<\/span><\/p>Rob Green (JPL), Phil Brodrick (JPL), David Thompson (JPL), John Chapman (JPL), Michael Eastwood (JPL), and Adam Chlus (JPL).<\/span><\/p><\/div><\/div><\/div>",
"serviceItemId": "843bb9103d94417bac6724a8d90a27ce",
"name": "DISASTERS_202501_FIRE_CA/2501_aviris_QuickLook",
"description": "Date of Image(s):<\/span><\/p>1/10/25; UTC: 223109<\/span><\/p>1/10/25; UTC: 222449<\/span><\/p><\/p>
Summary:<\/span><\/p>The images are false-color \u201cquick looks\u201d generated from the NASA AVIRIS-3 (Airborne Visible/Infrared Imaging Spectrometer -3). They are generated from un-atmospherically-corrected, at-sensor radiance data. Specifically: AVIRIS 3 L1B calibrated spectral radiance (units: uW nm-1 cm-2 sr-1). The images have been orthorectified.<\/span><\/p>Given that these images were derived from solely calibrated, at-sensor radiance data, they have not undergone atmospheric correction and do not quantitatively represent surface reflectance.<\/span><\/p><\/p>
Suggested Usage:<\/span><\/p>Despite the rawer form of this quick-look product, it is still useful for burned area mapping.<\/span><\/p><\/p>
Sensor:<\/span><\/p>Airborne Visible/Infrared Imaging Spectrometer 3rd-Generation (AVIRIS-3)<\/span><\/p>AV320250110t223109 Resolution: 3.70 x 3.70 m pixels<\/span><\/p>Dimensions for AV320250110t223109: X: 6210 Y: 3068 Bands: 3<\/span><\/p>AV320250110t222449 Resolution: 3.40 x 3.40 m pixels<\/span><\/p>Dimensions for AV320250110t222449: X: 6593 Y: 3465 Bands: 3<\/span><\/p>The AVIRIS-3 False color RGB wavelengths are 1660nm, 850nm, and 560nm for (R, G, B) respectively.<\/span><\/p><\/p>
Credits:<\/span><\/p>Rob Green (JPL), Phil Brodrick (JPL), David Thompson (JPL), John Chapman (JPL), Michael Eastwood (JPL), and Adam Chlus (JPL).<\/span><\/p><\/div><\/div><\/div>",
"extent": {
"xmin": -118.23159796299996,
"ymin": 34.13801490166325,
"xmax": -117.96486839220861,
"ymax": 34.27307480800005,
"spatialReference": {
"wkid": 4326,
"latestWkid": 4326
}
},
"initialExtent": {
"xmin": -118.23159796299996,
"ymin": 34.13801490166325,
"xmax": -117.96486839220861,
"ymax": 34.27307480800005,
"spatialReference": {
"wkid": 4326,
"latestWkid": 4326
}
},
"fullExtent": {
"xmin": -118.23159796299996,
"ymin": 34.13801490166325,
"xmax": -117.96486839220861,
"ymax": 34.27307480800005,
"spatialReference": {
"wkid": 4326,
"latestWkid": 4326
}
},
"sortableFields": "MinPS,MaxPS,LowPS,HighPS,CenterX,CenterY,ZOrder,Shape_Length,Shape_Area",
"bandCount": 3,
"pixelType": "U8",
"minValues": [
0,
0,
0
],
"maxValues": [
255,
255,
255
],
"meanValues": [
51.853296919524105,
84.74706627028664,
83.92950751271727
],
"stdvValues": [
54.60504292416359,
58.18736479102475,
49.61398972813237
],
"serviceProperties": "NorthWest<\/MosaicMethod>First<\/MosaicOperator>true<\/SortAscending><\/LockImageID>Name<\/TileOrderField>0<\/TileOrderBase>600.000000<\/AvgImageSpacingX>300.000000<\/AvgImageSpacingY>0.0<\/ViewPointX>0.0<\/ViewPointY>0.0<\/ViewPointDefShiftX>0.0<\/ViewPointDefShiftY>None<\/CompressionMethod>75<\/CompressionQuality>0.010000<\/CompressionTolerance>Bilinear<\/SamplingMethod><\/ImageServiceProperties><\/ImageServer>",
"allowedFields": "Name,MinPS,MaxPS,LowPS,HighPS,Tag,GroupName,ProductName,CenterX,CenterY,ZOrder,Shape_Length,Shape_Area,Date",
"hasMultidimensions": false,
"pixelSizeX": 3.054271966006425E-5,
"pixelSizeY": 3.054271966006319E-5,
"meanPixelSize": 3.3999999999999986,
"datasetFormat": "AMD",
"uncompressedSize": 115851978,
"blockWidth": 2048,
"blockHeight": 256,
"compressionType": "None",
"bandNames": [
"Band_1",
"Band_2",
"Band_3"
],
"allowCopy": true,
"allowAnalysis": true,
"itemAccess": false,
"inspectionCapabilities": "",
"minPixelSize": 0,
"maxPixelSize": 0,
"copyrightText": "Rob Green (JPL), Phil Brodrick (JPL), David Thompson (JPL), John Chapman (JPL), Adam Chlus (JPL), Michael Eastwood (JPL)",
"serviceDataType": "esriImageServiceDataTypeRGB",
"serviceSourceType": "esriImageServiceSourceTypeMosaicDataset",
"objectIdField": "OBJECTID",
"fields": [
{
"name": "OBJECTID",
"type": "esriFieldTypeOID",
"alias": "OBJECTID",
"domain": null
},
{
"name": "Shape",
"type": "esriFieldTypeGeometry",
"alias": "Shape",
"domain": null
},
{
"name": "Name",
"type": "esriFieldTypeString",
"alias": "Name",
"domain": null,
"length": 200
},
{
"name": "MinPS",
"type": "esriFieldTypeDouble",
"alias": "MinPS",
"domain": null
},
{
"name": "MaxPS",
"type": "esriFieldTypeDouble",
"alias": "MaxPS",
"domain": null
},
{
"name": "LowPS",
"type": "esriFieldTypeDouble",
"alias": "LowPS",
"domain": null
},
{
"name": "HighPS",
"type": "esriFieldTypeDouble",
"alias": "HighPS",
"domain": null
},
{
"name": "Category",
"type": "esriFieldTypeInteger",
"alias": "Category",
"domain": {
"type": "codedValue",
"name": "MosaicCatalogItemCategoryDomain",
"description": "Catalog item categories.",
"codedValues": [
{
"name": "Unknown",
"code": 0
},
{
"name": "Primary",
"code": 1
},
{
"name": "Overview",
"code": 2
},
{
"name": "Unprocessed Overview",
"code": 3
},
{
"name": "Partial Overview",
"code": 4
},
{
"name": "Inactive",
"code": 5
},
{
"name": "Uploaded",
"code": 253
},
{
"name": "Incomplete",
"code": 254
},
{
"name": "Custom",
"code": 255
}
],
"mergePolicy": "esriMPTDefaultValue",
"splitPolicy": "esriSPTDefaultValue"
}
},
{
"name": "Tag",
"type": "esriFieldTypeString",
"alias": "Tag",
"domain": null,
"length": 100
},
{
"name": "GroupName",
"type": "esriFieldTypeString",
"alias": "GroupName",
"domain": null,
"length": 100
},
{
"name": "ProductName",
"type": "esriFieldTypeString",
"alias": "ProductName",
"domain": null,
"length": 100
},
{
"name": "CenterX",
"type": "esriFieldTypeDouble",
"alias": "CenterX",
"domain": null
},
{
"name": "CenterY",
"type": "esriFieldTypeDouble",
"alias": "CenterY",
"domain": null
},
{
"name": "ZOrder",
"type": "esriFieldTypeInteger",
"alias": "ZOrder",
"domain": null
},
{
"name": "Date",
"type": "esriFieldTypeDateOnly",
"alias": "Date",
"domain": null
},
{
"name": "Shape_Length",
"type": "esriFieldTypeDouble",
"alias": "Shape_Length",
"domain": null
},
{
"name": "Shape_Area",
"type": "esriFieldTypeDouble",
"alias": "Shape_Area",
"domain": null
}
],
"capabilities": "Image,Metadata,Catalog",
"defaultMosaicMethod": "Northwest",
"allowedMosaicMethods": "NorthWest,Center,LockRaster,ByAttribute,Nadir,Viewpoint,Seamline,None",
"sortField": "",
"sortValue": null,
"sortAscending": true,
"mosaicOperator": "First",
"maxDownloadSizeLimit": 2048,
"defaultCompressionQuality": 75,
"defaultResamplingMethod": "Bilinear",
"maxImageHeight": 4100,
"maxImageWidth": 15000,
"maxRecordCount": 1000,
"maxDownloadImageCount": 20,
"maxMosaicImageCount": 20,
"allowRasterFunction": true,
"rasterFunctionInfos": [
{
"name": "None",
"description": "",
"help": ""
}
],
"rasterTypeInfos": [
{
"name": "Raster Dataset",
"description": "Supports all ArcGIS Raster Datasets",
"help": ""
}
],
"mensurationCapabilities": "None",
"hasHistograms": true,
"hasColormap": false,
"hasRasterAttributeTable": false,
"minScale": 0,
"maxScale": 0,
"exportTilesAllowed": false,
"supportsStatistics": true,
"supportsAdvancedQueries": true,
"editFieldsInfo": null,
"ownershipBasedAccessControlForRasters": null,
"allowComputeTiePoints": false,
"useStandardizedQueries": true,
"advancedQueryCapabilities": {
"useStandardizedQueries": true,
"supportsStatistics": true,
"supportsOrderBy": true,
"supportsDistinct": true,
"supportsPagination": true
},
"spatialReference": {
"wkid": 4326,
"latestWkid": 4326
}
}