{ "currentVersion": 11.5, "serviceDescription": "

Date of Image(s)<\/span><\/p>
Sentinel-1 Synthetic Aperture Radar (SAR):<\/span><\/p>
12/28/2024 (Pre-fire)<\/span><\/p>
01/09/2025 (Called post-fire, but fires may still burning)<\/span><\/p>
<\/p>
Sentinel-2 MultiSpectral Instrument (MSI):<\/span><\/p>
01/02/2025 (Pre-fire)<\/span><\/p>
01/12/2025 (Called post-fire, but fires may still burning)<\/span><\/p>
<\/p>
Ancillary data<\/span><\/p>
ESA Global Land Cover in 2021<\/span><\/p>
01/23/2025<\/span><\/p>
<\/p>
Summary<\/span><\/p>
The burned areas and burn severity levels for vegetation and urban areas were generated separately based on an integration of Sentinel-2 and Sentinel-1 data. Specifically, the Sentinel-2 MSI data provide large changes in vegetation reflectance after burning due to changes in near-infrared (NIR) and shortwave-infrared (SWIR) bands, but changes in these spectral ranges were less obvious or nonexistent in affected urban environments. In a complementary sense, Sentinel-1 synthetic aperture radar (SAR) is sensitive to surface roughness changes, a signal which is more apparent (usually rougher or higher backscatter) due to the fire destruction of built infrastructure. Thus, we leveraged these two key physical characteristics together to distinguish the urban-burned areas and vegetation-burned areas. Note that while the magnitude of calculated changes in NIR, SWIR, and SAR backscatter in pre-and post-event imagery imply a range of burn severity, these metrics are still considered proxies for actual burn severity and should be interpreted as such.<\/span><\/p>
We first calculated the differenced Normalized Burn Ratio (dNBR = NBR_pre \u2013 NBR_post) from Sentinel-2 data in which the NBR = (NIR \u2013 SWIR)/(NIR+SWIR). This provides critical changes in vegetation due to burning. Second, we calculated the differenced vertical/horizontal polarization (VH) backscatter (dVH = VH_post \u2013 VH_pre) from Sentinel-1 SAR data. The ESA Land Cover classification map and the relationship between dNBR and dVH were used to distinguish urban and vegetation-burned areas.<\/span><\/p>
The generated dNBR was used to divide the vegetation-burned areas into 4 groups: Low (values ≤0.25), Moderate (0.25< values ≤0.35), High (0.35< values ≤0.45), and Very High (values >0.45). The generated dVH was used to divide the urban-burned areas into 3 groups: Low (values ≤1), Moderate (1< values ≤4), and High (values >4). Notes that these thresholds were defined for contrast visualization of severity levels across four southern California fires and may not reflect other regions.<\/span><\/p>
All analysis was performed in Google Earth Engine.<\/span><\/p>
From these layers, we can clearly see the vegetation and urban-burned areas and their burn levels. The structure damage could be overlayed on top of burn maps generated by the integration of Sentinel-1 and -2.<\/span><\/p>
The maps were preliminary results only and no ground-validation has been considered at the time of posting. To separate vegetation and urban-burned areas, we applied the empirical thresholds of Sentinel-2 dNBR and Sentinel-1 dVH, which could be imperfect in some locations on a large scale. Sentinel-1 SAR data was subject to signal noise in some areas likely due to terrain and speckle noise, which could lead to incorrect severity levels in urban-burned areas to some extents. Refinement of the results is in progress.<\/span><\/p>
<\/p>
Suggested Usage<\/span><\/p>
Despite the rawer form of this quick-look product, it is still useful for distinguishing vegetation and urban-burned areas and severity assessment.<\/span><\/p>
<\/p>
Resolution<\/span><\/p>
Sentinel-1A SAR C-band, 10m spatial resolution<\/span><\/p>
Sentinel-2 MSI, 10-60m spatial resolution<\/span><\/p>
<\/p>
Credits<\/span><\/p>
Khuong Tran (ARC), Taejin Park (ARC), Aakash Chhabra (ARC), Weile Wang (ARC), Kyle Kabasares (ARC).<\/span><\/p>
<\/p>
Service URL<\/span><\/p>
<\/p>
WMS Endpoint<\/span><\/p><\/div><\/div><\/div>", "serviceItemId": "88fe789c74f9459392d293931ac7aac5", "name": "DISASTERS_202501_FIRE_CA/2501_s1_s2_burnseverity", "description": "

Date of Image(s)<\/span><\/p>
Sentinel-1 Synthetic Aperture Radar (SAR):<\/span><\/p>
12/28/2024 (Pre-fire)<\/span><\/p>
01/09/2025 (Called post-fire, but fires may still burning)<\/span><\/p>
<\/p>
Sentinel-2 MultiSpectral Instrument (MSI):<\/span><\/p>
01/02/2025 (Pre-fire)<\/span><\/p>
01/12/2025 (Called post-fire, but fires may still burning)<\/span><\/p>
<\/p>
Ancillary data<\/span><\/p>
ESA Global Land Cover in 2021<\/span><\/p>
01/23/2025<\/span><\/p>
<\/p>
Summary<\/span><\/p>
The burned areas and burn severity levels for vegetation and urban areas were generated separately based on an integration of Sentinel-2 and Sentinel-1 data. Specifically, the Sentinel-2 MSI data provide large changes in vegetation reflectance after burning due to changes in near-infrared (NIR) and shortwave-infrared (SWIR) bands, but changes in these spectral ranges were less obvious or nonexistent in affected urban environments. In a complementary sense, Sentinel-1 synthetic aperture radar (SAR) is sensitive to surface roughness changes, a signal which is more apparent (usually rougher or higher backscatter) due to the fire destruction of built infrastructure. Thus, we leveraged these two key physical characteristics together to distinguish the urban-burned areas and vegetation-burned areas. Note that while the magnitude of calculated changes in NIR, SWIR, and SAR backscatter in pre-and post-event imagery imply a range of burn severity, these metrics are still considered proxies for actual burn severity and should be interpreted as such.<\/span><\/p>
We first calculated the differenced Normalized Burn Ratio (dNBR = NBR_pre \u2013 NBR_post) from Sentinel-2 data in which the NBR = (NIR \u2013 SWIR)/(NIR+SWIR). This provides critical changes in vegetation due to burning. Second, we calculated the differenced vertical/horizontal polarization (VH) backscatter (dVH = VH_post \u2013 VH_pre) from Sentinel-1 SAR data. The ESA Land Cover classification map and the relationship between dNBR and dVH were used to distinguish urban and vegetation-burned areas.<\/span><\/p>
The generated dNBR was used to divide the vegetation-burned areas into 4 groups: Low (values ≤0.25), Moderate (0.25< values ≤0.35), High (0.35< values ≤0.45), and Very High (values >0.45). The generated dVH was used to divide the urban-burned areas into 3 groups: Low (values ≤1), Moderate (1< values ≤4), and High (values >4). Notes that these thresholds were defined for contrast visualization of severity levels across four southern California fires and may not reflect other regions.<\/span><\/p>
All analysis was performed in Google Earth Engine.<\/span><\/p>
From these layers, we can clearly see the vegetation and urban-burned areas and their burn levels. The structure damage could be overlayed on top of burn maps generated by the integration of Sentinel-1 and -2.<\/span><\/p>
The maps were preliminary results only and no ground-validation has been considered at the time of posting. To separate vegetation and urban-burned areas, we applied the empirical thresholds of Sentinel-2 dNBR and Sentinel-1 dVH, which could be imperfect in some locations on a large scale. Sentinel-1 SAR data was subject to signal noise in some areas likely due to terrain and speckle noise, which could lead to incorrect severity levels in urban-burned areas to some extents. Refinement of the results is in progress.<\/span><\/p>
<\/p>
Suggested Usage<\/span><\/p>
Despite the rawer form of this quick-look product, it is still useful for distinguishing vegetation and urban-burned areas and severity assessment.<\/span><\/p>
<\/p>
Resolution<\/span><\/p>
Sentinel-1A SAR C-band, 10m spatial resolution<\/span><\/p>
Sentinel-2 MSI, 10-60m spatial resolution<\/span><\/p>
<\/p>
Credits<\/span><\/p>
Khuong Tran (ARC), Taejin Park (ARC), Aakash Chhabra (ARC), Weile Wang (ARC), Kyle Kabasares (ARC).<\/span><\/p>
<\/p>
Service URL<\/span><\/p>
<\/p>
WMS Endpoint<\/span><\/p><\/div><\/div><\/div>", "extent": { "xmin": -118.72049902899994, "ymin": 34.01272096110261, "xmax": -118.00517056825556, "ymax": 34.360189313000035, "spatialReference": { "wkid": 4326, "latestWkid": 4326 } }, "initialExtent": { "xmin": -118.72049902899994, "ymin": 34.01272096110261, "xmax": -118.00517056825556, "ymax": 34.360189313000035, "spatialReference": { "wkid": 4326, "latestWkid": 4326 } }, "fullExtent": { "xmin": -118.72049902899994, "ymin": 34.01272096110261, "xmax": -118.00517056825556, "ymax": 34.360189313000035, "spatialReference": { "wkid": 4326, "latestWkid": 4326 } }, "sortableFields": "MinPS,MaxPS,LowPS,HighPS,CenterX,CenterY,ZOrder,Shape_Length,Shape_Area", "bandCount": 1, "pixelType": "U8", "minValues": [ 0 ], "maxValues": [ 10 ], "meanValues": [ 0.013800763802371946 ], "stdvValues": [ 0.16179653183011167 ], "serviceProperties": "NorthWest<\/MosaicMethod>First<\/MosaicOperator>true<\/SortAscending><\/LockImageID>Name<\/TileOrderField>0<\/TileOrderBase>600.000000<\/AvgImageSpacingX>300.000000<\/AvgImageSpacingY>0.0<\/ViewPointX>0.0<\/ViewPointY>0.0<\/ViewPointDefShiftX>0.0<\/ViewPointDefShiftY>None<\/CompressionMethod>75<\/CompressionQuality>0.010000<\/CompressionTolerance>Bilinear<\/SamplingMethod><\/ImageServiceProperties><\/ImageServer>", "allowedFields": "Name,MinPS,MaxPS,LowPS,HighPS,Tag,GroupName,ProductName,CenterX,CenterY,ZOrder,Shape_Length,Shape_Area,Date", "hasMultidimensions": false, "pixelSizeX": 8.9831528411952E-5, "pixelSizeY": 8.983152841195087E-5, "meanPixelSize": 9.999999999999922, "datasetFormat": "AMD", "uncompressedSize": 30797016, "blockWidth": 2048, "blockHeight": 256, "compressionType": "None", "bandNames": [ "Band_1" ], "allowCopy": true, "allowAnalysis": true, "itemAccess": false, "inspectionCapabilities": "", "minPixelSize": 0, "maxPixelSize": 0, "copyrightText": "Khuong Tran (ARC), Taejin Park (ARC), Aakash Chhabra (ARC), Weile Wang (ARC), Kyle Kabasares (ARC).", "serviceDataType": "esriImageServiceDataTypeGeneric", "serviceSourceType": "esriImageServiceSourceTypeMosaicDataset", "objectIdField": "OBJECTID", "fields": [ { "name": "OBJECTID", "type": "esriFieldTypeOID", "alias": "OBJECTID", "domain": null }, { "name": "Shape", "type": "esriFieldTypeGeometry", "alias": "Shape", "domain": null }, { "name": "Name", "type": "esriFieldTypeString", "alias": "Name", "domain": null, "length": 200 }, { "name": "MinPS", "type": "esriFieldTypeDouble", "alias": "MinPS", "domain": null }, { "name": "MaxPS", "type": "esriFieldTypeDouble", "alias": "MaxPS", "domain": null }, { "name": "LowPS", "type": "esriFieldTypeDouble", "alias": "LowPS", "domain": null }, { "name": "HighPS", "type": "esriFieldTypeDouble", "alias": "HighPS", "domain": null }, { "name": "Category", "type": "esriFieldTypeInteger", "alias": "Category", "domain": { "type": "codedValue", "name": "MosaicCatalogItemCategoryDomain", "description": "Catalog item categories.", "codedValues": [ { "name": "Unknown", "code": 0 }, { "name": "Primary", "code": 1 }, { "name": "Overview", "code": 2 }, { "name": "Unprocessed Overview", "code": 3 }, { "name": "Partial Overview", "code": 4 }, { "name": "Inactive", "code": 5 }, { "name": "Uploaded", "code": 253 }, { "name": "Incomplete", "code": 254 }, { "name": "Custom", "code": 255 } ], "mergePolicy": "esriMPTDefaultValue", "splitPolicy": "esriSPTDefaultValue" } }, { "name": "Tag", "type": "esriFieldTypeString", "alias": "Tag", "domain": null, "length": 100 }, { "name": "GroupName", "type": "esriFieldTypeString", "alias": "GroupName", "domain": null, "length": 100 }, { "name": "ProductName", "type": "esriFieldTypeString", "alias": "ProductName", "domain": null, "length": 100 }, { "name": "CenterX", "type": "esriFieldTypeDouble", "alias": "CenterX", "domain": null }, { "name": "CenterY", "type": "esriFieldTypeDouble", "alias": "CenterY", "domain": null }, { "name": "ZOrder", "type": "esriFieldTypeInteger", "alias": "ZOrder", "domain": null }, { "name": "Date", "type": "esriFieldTypeDateOnly", "alias": "Date", "domain": null }, { "name": "Shape_Length", "type": "esriFieldTypeDouble", "alias": "Shape_Length", "domain": null }, { "name": "Shape_Area", "type": "esriFieldTypeDouble", "alias": "Shape_Area", "domain": null } ], "capabilities": "Catalog,Image,Metadata", "defaultMosaicMethod": "Northwest", "allowedMosaicMethods": "NorthWest,Center,LockRaster,ByAttribute,Nadir,Viewpoint,Seamline,None", "sortField": "", "sortValue": null, "sortAscending": true, "mosaicOperator": "First", "maxDownloadSizeLimit": 2048, "defaultCompressionQuality": 75, "defaultResamplingMethod": "Bilinear", "maxImageHeight": 4100, "maxImageWidth": 15000, "maxRecordCount": 1000, "maxDownloadImageCount": 20, "maxMosaicImageCount": 20, "allowRasterFunction": true, "rasterFunctionInfos": [ { "name": "None", "description": "", "help": "" } ], "rasterTypeInfos": [ { "name": "Raster Dataset", "description": "Supports all ArcGIS Raster Datasets", "help": "" } ], "mensurationCapabilities": "None", "hasHistograms": true, "hasColormap": false, "hasRasterAttributeTable": false, "minScale": 0, "maxScale": 0, "exportTilesAllowed": false, "supportsStatistics": true, "supportsAdvancedQueries": true, "editFieldsInfo": null, "ownershipBasedAccessControlForRasters": null, "allowComputeTiePoints": false, "useStandardizedQueries": true, "advancedQueryCapabilities": { "useStandardizedQueries": true, "supportsStatistics": true, "supportsOrderBy": true, "supportsDistinct": true, "supportsPagination": true }, "spatialReference": { "wkid": 4326, "latestWkid": 4326 }, "resampling": false }