The visible-wavelength true color RGB digital camera images were taken by astronauts aboard the International Space Station showing areas affected by tornadoes in the US such as the cities of Nashville, TN, Murfreesboro, TN, Huntsville, AL, and Bowling Green, KY. These images were manually georeferenced by members of the Earth Science and Remote Sensing Unit at NASA Johnson Space Center.<\/span><\/p>Date of Images:<\/span><\/p>March 17, 2025<\/span><\/p>Suggested Use:<\/span><\/p>This image provides regional context, and may be useful for visualization of the ongoing event. Higher spatial resolution images may be suitable for spatial analysis to support decision making or research applications.<\/span><\/p>Sensor<\/span>:<\/span><\/p>Nikon Z9 Electronic Still Camera. Focal Length: 200mm.<\/span><\/p>Additional Information about the astronaut photography from the ISS.<\/span><\/p>Credits<\/span>:<\/span><\/p>International Space Station Program, NASA Johnson Space Center Earth Science and Remote Sensing Unit, ARES Division, Exploration Architecture, Integration & Science Directorate<\/span><\/p>Data Download:<\/span><\/p>Full datasets are available for download at the Gateway to Astronaut Photography of Earth.<\/span><\/p>Download for this specific data can be found at: https://eol.jsc.nasa.gov/WebShare/WebShare.pl?folder=NASADisastersProgram/NDP_TornadoesMidwesternUS_17MAR2025<\/span><\/p><\/div><\/div><\/div>",
"serviceItemId": "f6ddfeb23d3449ebb05770e6cd44f5e8",
"name": "DISASTERS_202503_SEVEREWX_SOUTHEASTUS/202504_iss",
"description": "The visible-wavelength true color RGB digital camera images were taken by astronauts aboard the International Space Station showing areas affected by tornadoes in the US such as the cities of Nashville, TN, Murfreesboro, TN, Huntsville, AL, and Bowling Green, KY. These images were manually georeferenced by members of the Earth Science and Remote Sensing Unit at NASA Johnson Space Center.<\/span><\/p>Date of Images:<\/span><\/p>March 17, 2025<\/span><\/p>Suggested Use:<\/span><\/p>This image provides regional context, and may be useful for visualization of the ongoing event. Higher spatial resolution images may be suitable for spatial analysis to support decision making or research applications.<\/span><\/p>Sensor<\/span>:<\/span><\/p>Nikon Z9 Electronic Still Camera. Focal Length: 200mm.<\/span><\/p>Additional Information about the astronaut photography from the ISS.<\/span><\/p>Credits<\/span>:<\/span><\/p>International Space Station Program, NASA Johnson Space Center Earth Science and Remote Sensing Unit, ARES Division, Exploration Architecture, Integration & Science Directorate<\/span><\/p>Data Download:<\/span><\/p>Full datasets are available for download at the Gateway to Astronaut Photography of Earth.<\/span><\/p>Download for this specific data can be found at: https://eol.jsc.nasa.gov/WebShare/WebShare.pl?folder=NASADisastersProgram/NDP_TornadoesMidwesternUS_17MAR2025<\/span><\/p><\/div><\/div><\/div>",
"extent": {
"xmin": -9728041.8234,
"ymin": 4040063.290788967,
"xmax": -9553651.829104783,
"ymax": 4501305.207000002,
"spatialReference": {
"wkid": 102100,
"latestWkid": 3857
}
},
"initialExtent": {
"xmin": -9728041.8234,
"ymin": 4040063.290788967,
"xmax": -9553651.829104783,
"ymax": 4501305.207000002,
"spatialReference": {
"wkid": 102100,
"latestWkid": 3857
}
},
"fullExtent": {
"xmin": -9728041.8234,
"ymin": 4040063.290788967,
"xmax": -9553651.829104783,
"ymax": 4501305.207000002,
"spatialReference": {
"wkid": 102100,
"latestWkid": 3857
}
},
"sortableFields": "MinPS,MaxPS,LowPS,HighPS,CenterX,CenterY,ZOrder,Shape_Length,Shape_Area",
"bandCount": 4,
"pixelType": "U8",
"minValues": [],
"maxValues": [],
"meanValues": [],
"stdvValues": [],
"serviceProperties": "NorthWest<\/MosaicMethod>First<\/MosaicOperator>true<\/SortAscending><\/LockImageID>Name<\/TileOrderField>0<\/TileOrderBase>600.000000<\/AvgImageSpacingX>300.000000<\/AvgImageSpacingY>0.0<\/ViewPointX>0.0<\/ViewPointY>0.0<\/ViewPointDefShiftX>0.0<\/ViewPointDefShiftY>None<\/CompressionMethod>75<\/CompressionQuality>0.010000<\/CompressionTolerance>Bilinear<\/SamplingMethod><\/ImageServiceProperties><\/ImageServer>",
"allowedFields": "Name,MinPS,MaxPS,LowPS,HighPS,Tag,GroupName,ProductName,CenterX,CenterY,ZOrder,Shape_Length,Shape_Area",
"hasMultidimensions": false,
"pixelSizeX": 13.963487412540402,
"pixelSizeY": 13.963487412540418,
"meanPixelSize": 13.96348741254041,
"datasetFormat": "AMD",
"uncompressedSize": 1650146592,
"blockWidth": 2048,
"blockHeight": 256,
"compressionType": "None",
"bandNames": [
"Band_1",
"Band_2",
"Band_3",
"Band_4"
],
"allowCopy": true,
"allowAnalysis": true,
"itemAccess": false,
"inspectionCapabilities": "",
"minPixelSize": 0,
"maxPixelSize": 0,
"copyrightText": "International Space Station Program, NASA Johnson Space Center Earth Science and Remote Sensing Unit, ARES Division, Exploration Architecture, Integration & Science Directorate",
"serviceDataType": "esriImageServiceDataTypeGeneric",
"serviceSourceType": "esriImageServiceSourceTypeMosaicDataset",
"objectIdField": "OBJECTID",
"fields": [
{
"name": "OBJECTID",
"type": "esriFieldTypeOID",
"alias": "OBJECTID",
"domain": null
},
{
"name": "Shape",
"type": "esriFieldTypeGeometry",
"alias": "Shape",
"domain": null
},
{
"name": "Name",
"type": "esriFieldTypeString",
"alias": "Name",
"domain": null,
"length": 200
},
{
"name": "MinPS",
"type": "esriFieldTypeDouble",
"alias": "MinPS",
"domain": null
},
{
"name": "MaxPS",
"type": "esriFieldTypeDouble",
"alias": "MaxPS",
"domain": null
},
{
"name": "LowPS",
"type": "esriFieldTypeDouble",
"alias": "LowPS",
"domain": null
},
{
"name": "HighPS",
"type": "esriFieldTypeDouble",
"alias": "HighPS",
"domain": null
},
{
"name": "Category",
"type": "esriFieldTypeInteger",
"alias": "Category",
"domain": {
"type": "codedValue",
"name": "MosaicCatalogItemCategoryDomain",
"description": "Catalog item categories.",
"codedValues": [
{
"name": "Unknown",
"code": 0
},
{
"name": "Primary",
"code": 1
},
{
"name": "Overview",
"code": 2
},
{
"name": "Unprocessed Overview",
"code": 3
},
{
"name": "Partial Overview",
"code": 4
},
{
"name": "Inactive",
"code": 5
},
{
"name": "Uploaded",
"code": 253
},
{
"name": "Incomplete",
"code": 254
},
{
"name": "Custom",
"code": 255
}
],
"mergePolicy": "esriMPTDefaultValue",
"splitPolicy": "esriSPTDefaultValue"
}
},
{
"name": "Tag",
"type": "esriFieldTypeString",
"alias": "Tag",
"domain": null,
"length": 100
},
{
"name": "GroupName",
"type": "esriFieldTypeString",
"alias": "GroupName",
"domain": null,
"length": 100
},
{
"name": "ProductName",
"type": "esriFieldTypeString",
"alias": "ProductName",
"domain": null,
"length": 100
},
{
"name": "CenterX",
"type": "esriFieldTypeDouble",
"alias": "CenterX",
"domain": null
},
{
"name": "CenterY",
"type": "esriFieldTypeDouble",
"alias": "CenterY",
"domain": null
},
{
"name": "ZOrder",
"type": "esriFieldTypeInteger",
"alias": "ZOrder",
"domain": null
},
{
"name": "Shape_Length",
"type": "esriFieldTypeDouble",
"alias": "Shape_Length",
"domain": null
},
{
"name": "Shape_Area",
"type": "esriFieldTypeDouble",
"alias": "Shape_Area",
"domain": null
}
],
"capabilities": "Catalog,Mensuration,Image,Metadata",
"defaultMosaicMethod": "Northwest",
"allowedMosaicMethods": "NorthWest,Center,LockRaster,ByAttribute,Nadir,Viewpoint,Seamline,None",
"sortField": "",
"sortValue": null,
"sortAscending": true,
"mosaicOperator": "First",
"maxDownloadSizeLimit": 2048,
"defaultCompressionQuality": 75,
"defaultResamplingMethod": "Bilinear",
"maxImageHeight": 4100,
"maxImageWidth": 15000,
"maxRecordCount": 1000,
"maxDownloadImageCount": 20,
"maxMosaicImageCount": 20,
"allowRasterFunction": true,
"rasterFunctionInfos": [
{
"name": "None",
"description": "",
"help": ""
}
],
"rasterTypeInfos": [
{
"name": "Raster Dataset",
"description": "Supports all ArcGIS Raster Datasets",
"help": ""
}
],
"mensurationCapabilities": "Basic",
"hasHistograms": false,
"hasColormap": false,
"hasRasterAttributeTable": false,
"minScale": 0,
"maxScale": 0,
"exportTilesAllowed": false,
"supportsStatistics": true,
"supportsAdvancedQueries": true,
"editFieldsInfo": null,
"ownershipBasedAccessControlForRasters": null,
"allowComputeTiePoints": false,
"useStandardizedQueries": true,
"advancedQueryCapabilities": {
"useStandardizedQueries": true,
"supportsStatistics": true,
"supportsOrderBy": true,
"supportsDistinct": true,
"supportsPagination": true
},
"spatialReference": {
"wkid": 102100,
"latestWkid": 3857
},
"resampling": false
}