{ "currentVersion": 11.5, "serviceDescription": "

Summary:<\/span><\/p>
Researchers working with the Global Land Analysis & Discovery (GLAD) at University of Maryland, College Park, Maryland and Advanced Rapid Imaging and Analysis (ARIA) and Observational Products for End-Users from Remote Sensing Analysis (OPERA) teams at NASA's Jet Propulsion Laboratory, Pasadena, California, created maps of surface disturbance due to ongoing wildfires in eastern and central New Mexico in June 2025 using the OPERA Disturbance Alert from Harmonized Landsat Sentinel-2 (DIST-ALERT-HLS) products.<\/span><\/p>
The results posted here are preliminary results, primarily intended to aid the field response and people who wanted to have a rough first look at the area impacted by wildfire. The ARIA-share website has always focused on posting preliminary results as fast as possible for urgent response. All information is provisional for use under emergency response guidelines. These data are provided with absolutely no warranty of any kind. Use at your own risk.<\/span><\/p>
<\/p>
OPERA DIST-ALERT-HLS:<\/span><\/p>
The Disturbance product (DIST) maps per pixel vegetation disturbance (specifically, vegetation cover loss) from the Harmonized Landsat Sentinel-2 (HLS) scenes. We provide the (1) maximum vegetation anomaly value (VEG-ANOM-MAX) layer and (2) vegetation disturbance status (VEG-DIST-STATUS). All provided layers have been filtered to include only disturbance detected following the start of the Seven Springs Fire, near Mescalero, NM (starting June 17, 2025). DIST-HLS-ALERT data provided were generated on June 30, 2025 and are derived from data acquired by the Copernicus Sentinel-2C satellite on June 26, 2025 (Seven Springs) and June 24, 2025 (Trout). The images are provided as GeoTIFF files.<\/span><\/p>
<\/p>
VEG-ANOM-MAX:<\/span><\/p>
Difference between historical and current year observed vegetation cover at the date of maximum decrease (vegetation loss of 0-100%). This layer can be used to threshold vegetation disturbance per a given sensitivity (e.g. disturbance of >=20% vegetation cover loss). The sum of the historical percent vegetation and the anomaly value will be the vegetation cover estimate for the current year.<\/span><\/p>
<\/p>
VEG-DIST-STATUS:<\/span><\/p>
Indication of vegetation cover loss (vegetation disturbance). The status label is based on the maximum anomaly value, confidence level, and whether it is ongoing or finished. ''First'' means the pixel has had an anomaly detection but no subsequent observations whether anomalous or not. ''Provisional'' means there have been two consecutive disturbance detections but not yet with high confidence. ''Confirmed'' means that vegetation disturbance is detected with high confidence. The label ''finished'' is applied to confirmed disturbances that have had two consecutive no-anomaly observations or one 15 days or more after the last anomaly detection. If a new disturbance is detected, it will overwrite those in a ''finished'' state. These labels are reported for both above and below the 50% disturbance threshold based on the maximum anomaly value.<\/span><\/p>
<\/p>
Suggested Use:<\/span><\/p>
VEG-DIST-STATUS<\/span><\/p>
Layer values:<\/span><\/p>
0: No disturbance (suggested color: #121212)<\/span><\/p>
1: first <50% (suggested color: #005555)<\/span><\/p>
2: provisional <50% (suggested color: #897f4e)<\/span><\/p>
3: confirmed <50% (suggested color: #dee043)<\/span><\/p>
4: first >=50% (suggested color: #008888)<\/span><\/p>
5: provisional >=50% (suggested color: #e48727)<\/span><\/p>
6: confirmed >=50% (suggested color: #e01b07)<\/span><\/p>
7: confirmed <50%, finished (suggested color: #777777)<\/span><\/p>
8: confirmed >=50%, finished (suggested color: #dddddd)<\/span><\/p>
255: No data (suggested color: transparent)<\/span><\/p>
<\/p>
VEG-ANOM-MAX<\/span><\/p>
Layer values:<\/span><\/p>
0-100: Maximum loss of percent vegetation (suggested color: white to red gradient)<\/span><\/p>
255: No data (suggested color: transparent)<\/span><\/p>
<\/p>
The DIST-ALERT-HLS products included here have these flags:<\/span><\/p>
255 represents ''No Data'' and is based on the Fmask layer of the source HLS granule.<\/span><\/p>
<\/p>
OPERA DIST-ALERT-HLS data availability:<\/span><\/p>
The post-processed products are available to download at <\/span>https://aria-share.jpl.nasa.gov/20250630_NewMexico_Fires/DIST-HLS/<\/span><\/a><\/p>
The OPERA DIST-HLS products have been in production since January 2022, are freely distributed to the public via NASA's Land Processes Distributed Active Archive Center (LP DAAC), and can be downloaded through NASA's Earthdata search. For more information about the Surface Disturbance product suite, please refer to the DIST Product page: https://www.jpl.nasa.gov/go/opera/products/dist-product-suite/<\/span><\/p>
For more information about the GLAD project, visit <\/span>https://glad.umd.edu/<\/span><\/a><\/p>
For more information about the Caltech-JPL ARIA project, visit <\/span>https://aria.jpl.nasa.gov<\/span><\/a><\/p>
For more information about the JPL OPERA project, visit <\/span>https://www.jpl.nasa.gov/go/opera/<\/span><\/a><\/p>
<\/p>
Satellite/Sensor:<\/span><\/p>
MultiSpectral Instrument (MSI) on European Space Agency's (ESA) Copernicus Sentinel-2A/B/C satellites and Operational Land Imager 2 (OLI-2) on NASA's Landsat 8/9 satellite.<\/span><\/p>
<\/p>
Resolution:<\/span><\/p>
30 meters<\/span><\/p>
<\/p>
Credits:<\/span><\/p>
The product contains modified Copernicus Sentinel data (2025) and is produced as part of the OPERA project, which is funded by NASA to address remote sensing needs identified by the Satellite Needs Working Group. Managed by NASA's Jet Propulsion Laboratory, OPERA funds and manages the DIST-ALERT-HLS product developed and produced by the Global Land Analysis and Discovery (GLAD) laboratory at the University of Maryland.<\/span><\/p>
NASA JPL-Caltech-UMD ARIA/OPERA Team<\/span><\/p>
<\/p>
Product POCs:<\/span><\/p>
Cole Speed (cole.speed@jpl.nasa.gov)<\/span><\/p>
Mary Grace Bato (mary.grace.p.bato@jpl.nasa.gov)<\/span><\/p>
Alexander L. Handwerger (alexander.handwerger@jpl.nasa.gov)<\/span><\/p>
Zhen Song (zhensong@umd.edu)<\/span><\/p>
Matt Hansen (mhansen@umd.edu)<\/span><\/p>
Steven Chan (steventsz.k.chan@jpl.nasa.gov)<\/span><\/p>
David Bekaert (david.bekaert@jpl.nasa.gov)<\/span><\/p>
==================<\/span><\/p>
<\/p>
Service URL:<\/span><\/p>
<\/p>
<\/p>
WMS Endpoint:<\/span><\/p>
<\/p>
<\/p>
Data Download:<\/span><\/p>
Seven Springs Fire:<\/span><\/p>
OPERA-DIST-ALERT-HLS-VEG-ANOM-MAX_20250626.tif<\/span><\/a>: June 26, 2025 showing the maximum vegetation anomaly.<\/span><\/p>
OPERA-DIST-ALERT-HLS-DIST-STATUS_20250626.tif<\/span><\/a>: June 26, 2025 showing the status anomaly.<\/span><\/p>
<\/p>
Trout Fire:<\/span><\/p>
OPERA-DIST-ALERT-HLS-VEG-ANOM-MAX_20250624.tif<\/span><\/a>: June 24, 2025 showing the maximum vegetation anomaly.<\/span><\/p>
OPERA-DIST-ALERT-HLS-DIST-STATUS_20250624.tif<\/span><\/a>: June 24, 2025 showing the status anomaly.<\/span><\/p>
Last Update 30 June 2025<\/span><\/p><\/div><\/div><\/div>", "serviceItemId": "34c202c2d8654fc18a2e61dafa0a568c", "name": "DISASTERS_202506_FIRE_NM/2506_opera_dist_s1", "description": "The RasterRendering service is a multi-tenant raster rendering provider.", "extent": { "xmin": -108.97616786099996, "ymin": 31.475048667846227, "xmax": -103.80645323242054, "ymax": 34.34166257100003, "spatialReference": { "wkid": 4326, "latestWkid": 4326 } }, "initialExtent": { "xmin": -108.97616786099996, "ymin": 31.475048667846227, "xmax": -103.80645323242054, "ymax": 34.34166257100003, "spatialReference": { "wkid": 4326, "latestWkid": 4326 } }, "fullExtent": { "xmin": -108.97616786099996, "ymin": 31.475048667846227, "xmax": -103.80645323242054, "ymax": 34.34166257100003, "spatialReference": { "wkid": 4326, "latestWkid": 4326 } }, "sortableFields": "MinPS,MaxPS,LowPS,HighPS,CenterX,CenterY,ZOrder,Shape_Length,Shape_Area", "bandCount": 3, "pixelType": "U8", "minValues": [], "maxValues": [], "meanValues": [], "stdvValues": [], "serviceProperties": "NorthWest<\/MosaicMethod>First<\/MosaicOperator>true<\/SortAscending><\/LockImageID>Name<\/TileOrderField>0<\/TileOrderBase>600.000000<\/AvgImageSpacingX>300.000000<\/AvgImageSpacingY>0.0<\/ViewPointX>0.0<\/ViewPointY>0.0<\/ViewPointDefShiftX>0.0<\/ViewPointDefShiftY>None<\/CompressionMethod>75<\/CompressionQuality>0.010000<\/CompressionTolerance>Bilinear<\/SamplingMethod><\/ImageServiceProperties><\/ImageServer>", "allowedFields": "Name,MinPS,MaxPS,LowPS,HighPS,Tag,GroupName,ProductName,CenterX,CenterY,ZOrder,Shape_Length,Shape_Area,Date", "hasMultidimensions": false, "pixelSizeX": 2.694945852358561E-4, "pixelSizeY": 2.6949458523585615E-4, "meanPixelSize": 29.99999999999996, "datasetFormat": "AMD", "uncompressedSize": 612148713, "blockWidth": 2048, "blockHeight": 256, "compressionType": "None", "bandNames": [ "Band_1", "Band_2", "Band_3" ], "allowCopy": true, "allowAnalysis": true, "itemAccess": false, "inspectionCapabilities": "", "minPixelSize": 0, "maxPixelSize": 0, "copyrightText": "NASA JPL-Caltech-UMD ARIA/OPERA Team", "serviceDataType": "esriImageServiceDataTypeRGB", "serviceSourceType": "esriImageServiceSourceTypeMosaicDataset", "objectIdField": "OBJECTID", "fields": [ { "name": "OBJECTID", "type": "esriFieldTypeOID", "alias": "OBJECTID", "domain": null }, { "name": "Shape", "type": "esriFieldTypeGeometry", "alias": "Shape", "domain": null }, { "name": "Name", "type": "esriFieldTypeString", "alias": "Name", "domain": null, "length": 200 }, { "name": "MinPS", "type": "esriFieldTypeDouble", "alias": "MinPS", "domain": null }, { "name": "MaxPS", "type": "esriFieldTypeDouble", "alias": "MaxPS", "domain": null }, { "name": "LowPS", "type": "esriFieldTypeDouble", "alias": "LowPS", "domain": null }, { "name": "HighPS", "type": "esriFieldTypeDouble", "alias": "HighPS", "domain": null }, { "name": "Category", "type": "esriFieldTypeInteger", "alias": "Category", "domain": { "type": "codedValue", "name": "MosaicCatalogItemCategoryDomain", "description": "Catalog item categories.", "codedValues": [ { "name": "Unknown", "code": 0 }, { "name": "Primary", "code": 1 }, { "name": "Overview", "code": 2 }, { "name": "Unprocessed Overview", "code": 3 }, { "name": "Partial Overview", "code": 4 }, { "name": "Inactive", "code": 5 }, { "name": "Uploaded", "code": 253 }, { "name": "Incomplete", "code": 254 }, { "name": "Custom", "code": 255 } ], "mergePolicy": "esriMPTDefaultValue", "splitPolicy": "esriSPTDefaultValue" } }, { "name": "Tag", "type": "esriFieldTypeString", "alias": "Tag", "domain": null, "length": 100 }, { "name": "GroupName", "type": "esriFieldTypeString", "alias": "GroupName", "domain": null, "length": 100 }, { "name": "ProductName", "type": "esriFieldTypeString", "alias": "ProductName", "domain": null, "length": 100 }, { "name": "CenterX", "type": "esriFieldTypeDouble", "alias": "CenterX", "domain": null }, { "name": "CenterY", "type": "esriFieldTypeDouble", "alias": "CenterY", "domain": null }, { "name": "ZOrder", "type": "esriFieldTypeInteger", "alias": "ZOrder", "domain": null }, { "name": "Date", "type": "esriFieldTypeDateOnly", "alias": "Date", "domain": null }, { "name": "Shape_Length", "type": "esriFieldTypeDouble", "alias": "Shape_Length", "domain": null }, { "name": "Shape_Area", "type": "esriFieldTypeDouble", "alias": "Shape_Area", "domain": null } ], "capabilities": "Catalog,Mensuration,Image,Metadata", "defaultMosaicMethod": "Northwest", "allowedMosaicMethods": "NorthWest,Center,LockRaster,ByAttribute,Nadir,Viewpoint,Seamline,None", "sortField": "", "sortValue": null, "sortAscending": true, "mosaicOperator": "First", "maxDownloadSizeLimit": 2048, "defaultCompressionQuality": 75, "defaultResamplingMethod": "Bilinear", "maxImageHeight": 4100, "maxImageWidth": 15000, "maxRecordCount": 1000, "maxDownloadImageCount": 20, "maxMosaicImageCount": 20, "allowRasterFunction": true, "rasterFunctionInfos": [ { "name": "None", "description": "", "help": "" } ], "rasterTypeInfos": [ { "name": "Raster Dataset", "description": "Supports all ArcGIS Raster Datasets", "help": "" } ], "mensurationCapabilities": "Basic", "hasHistograms": false, "hasColormap": false, "hasRasterAttributeTable": false, "minScale": 0, "maxScale": 0, "exportTilesAllowed": false, "supportsStatistics": true, "supportsAdvancedQueries": true, "editFieldsInfo": null, "ownershipBasedAccessControlForRasters": null, "allowComputeTiePoints": false, "useStandardizedQueries": true, "advancedQueryCapabilities": { "useStandardizedQueries": true, "supportsStatistics": true, "supportsOrderBy": true, "supportsDistinct": true, "supportsPagination": true }, "spatialReference": { "wkid": 4326, "latestWkid": 4326 }, "resampling": false }