{ "currentVersion": 11.5, "serviceDescription": "

Date of Image(s):<\/SPAN><\/P>
Post-Event: <\/SPAN>July 8,2025; July 9, 2025; July 10, 2025; July 31, 2025; August 3, 2025<\/SPAN><\/P>
Pre-Event: <\/SPAN>June 2, 2025; June 16, 2025; June 17, 2025<\/SPAN><\/P>
Date of Next Image:<\/SPAN><\/P>
Unknown<\/SPAN><\/P>
Summary:<\/SPAN><\/P>
Normalized Differential Vegetation Index (NDVI) maps are produced by converting pixel values to NDVI = (Red \u2013 NIR)/(Red + NIR), NIR indicates the near infrared band. The dynamically generated Normalized Difference Vegetation Index (NDVI) layer is an index for quantifying green vegetation. It reflects the state of vegetation health based on how vegetation reflects light at certain wavelengths.<\/SPAN><\/P>
NDVI change was created by subtracting the cloud-masked post-event NDVI from the cloud-masked pre-event NDVI to show areas of potentially impacted vegetation as negative values (darker shades) and healthy/unimpacted vegetation in positive values (lighter shades). NDVI change can give insights to impacts from an event (like the scouring of vegetation from the riverbeds) but can also show changes in unrelated areas like the clearing of agriculture fields.<\/SPAN><\/P>
This layer is a binary NDVI change polygon (threshold of areas where NDVI decreased by -0.25 or more) for July 8 and 9 as compared to Pre-event imagery on June 17.<\/SPAN><\/P>
Suggested Use:<\/SPAN><\/P>
NDVI: <\/SPAN>Dark green colors are areas with a lot of green leaf growth which indicates the presence of chlorophyll. Chlorophyll reflects more infrared light and less visible light. Areas with some green leaf growth are in light greens, and areas with little to no vegetation growth are even lighter greens.<\/SPAN><\/P>
NDVI change: <\/SPAN>Commonly used to distinguish healthy/active vegetation (positive values) from potentially unhealthy/impacted vegetation (negative values).<\/SPAN><\/P>
Gaps in the dataset indicate clouds in the Planet imagery used to create this product.<\/SPAN><\/P>
Satellite/Sensor:<\/SPAN><\/P>
PlanetScope. This product includes copyrighted material of Planet Labs PBC. All rights reserved.<\/SPAN><\/P>
Resolution:<\/SPAN><\/P>
3 meters<\/SPAN><\/P>
Credits:<\/SPAN><\/P>
NASA Disasters Program, NASA Marshall Space Flight Center (MSFC). PlanetScope: Includes copyrighted material of Planet Labs PBC. All rights reserved.<\/SPAN><\/P>
Esri REST Endpoint:<\/SPAN><\/P>
See URL section on right side of page<\/SPAN><\/P>
WMS Endpoint:<\/SPAN><\/P>
https://maps.disasters.nasa.gov/ags03/services/texas_flood_202507/planet_binaryNDVI/MapServer/WMSServer<\/SPAN><\/P>
Data Download:<\/SPAN><\/P>
https://maps.disasters.nasa.gov/download/gis_products/event_specific/2025/texas_flood_202507/NDVIchange/<\/SPAN><\/P><\/DIV><\/DIV><\/DIV>", "serviceItemId": "8f4dbbf61d99400fbf6dc9b0abcf2e98", "name": "DISASTERS_202507_FLOOD_TX/202507_planet_ndvi_1", "description": "

Date of Image(s):<\/SPAN><\/P>
Post-Event: <\/SPAN>July 8,2025; July 9, 2025; July 10, 2025; July 31, 2025; August 3, 2025<\/SPAN><\/P>
Pre-Event: <\/SPAN>June 2, 2025; June 16, 2025; June 17, 2025<\/SPAN><\/P>
Date of Next Image:<\/SPAN><\/P>
Unknown<\/SPAN><\/P>
Summary:<\/SPAN><\/P>
Normalized Differential Vegetation Index (NDVI) maps are produced by converting pixel values to NDVI = (Red \u2013 NIR)/(Red + NIR), NIR indicates the near infrared band. The dynamically generated Normalized Difference Vegetation Index (NDVI) layer is an index for quantifying green vegetation. It reflects the state of vegetation health based on how vegetation reflects light at certain wavelengths.<\/SPAN><\/P>
NDVI change was created by subtracting the cloud-masked post-event NDVI from the cloud-masked pre-event NDVI to show areas of potentially impacted vegetation as negative values (darker shades) and healthy/unimpacted vegetation in positive values (lighter shades). NDVI change can give insights to impacts from an event (like the scouring of vegetation from the riverbeds) but can also show changes in unrelated areas like the clearing of agriculture fields.<\/SPAN><\/P>
This layer is a binary NDVI change polygon (threshold of areas where NDVI decreased by -0.25 or more) for July 8 and 9 as compared to Pre-event imagery on June 17.<\/SPAN><\/P>
Suggested Use:<\/SPAN><\/P>
NDVI: <\/SPAN>Dark green colors are areas with a lot of green leaf growth which indicates the presence of chlorophyll. Chlorophyll reflects more infrared light and less visible light. Areas with some green leaf growth are in light greens, and areas with little to no vegetation growth are even lighter greens.<\/SPAN><\/P>
NDVI change: <\/SPAN>Commonly used to distinguish healthy/active vegetation (positive values) from potentially unhealthy/impacted vegetation (negative values).<\/SPAN><\/P>
Gaps in the dataset indicate clouds in the Planet imagery used to create this product.<\/SPAN><\/P>
Satellite/Sensor:<\/SPAN><\/P>
PlanetScope. This product includes copyrighted material of Planet Labs PBC. All rights reserved.<\/SPAN><\/P>
Resolution:<\/SPAN><\/P>
3 meters<\/SPAN><\/P>
Credits:<\/SPAN><\/P>
NASA Disasters Program, NASA Marshall Space Flight Center (MSFC). PlanetScope: Includes copyrighted material of Planet Labs PBC. All rights reserved.<\/SPAN><\/P>
Esri REST Endpoint:<\/SPAN><\/P>
See URL section on right side of page<\/SPAN><\/P>
WMS Endpoint:<\/SPAN><\/P>
https://maps.disasters.nasa.gov/ags03/services/texas_flood_202507/planet_binaryNDVI/MapServer/WMSServer<\/SPAN><\/P>
Data Download:<\/SPAN><\/P>
https://maps.disasters.nasa.gov/download/gis_products/event_specific/2025/texas_flood_202507/NDVIchange/<\/SPAN><\/P><\/DIV><\/DIV><\/DIV>", "extent": { "xmin": -1.11261426464E7, "ymin": 3449946.8779999986, "xmax": -1.07658306464E7, "ymax": 3640227.8779999986, "spatialReference": { "wkid": 102100, "latestWkid": 3857 } }, "initialExtent": { "xmin": -1.11261426464E7, "ymin": 3449946.8779999986, "xmax": -1.07658306464E7, "ymax": 3640227.8779999986, "spatialReference": { "wkid": 102100, "latestWkid": 3857 } }, "fullExtent": { "xmin": -1.11261426464E7, "ymin": 3449946.8779999986, "xmax": -1.07658306464E7, "ymax": 3640227.8779999986, "spatialReference": { "wkid": 102100, "latestWkid": 3857 } }, "sortableFields": "MinPS,MaxPS,LowPS,HighPS,CenterX,CenterY,ZOrder,Shape_Length,Shape_Area", "bandCount": 1, "pixelType": "F32", "minValues": [], "maxValues": [], "meanValues": [], "stdvValues": [], "serviceProperties": "NorthWest<\/MosaicMethod>First<\/MosaicOperator>true<\/SortAscending><\/LockImageID>Name<\/TileOrderField>0<\/TileOrderBase>600.000000<\/AvgImageSpacingX>300.000000<\/AvgImageSpacingY>0.0<\/ViewPointX>0.0<\/ViewPointY>0.0<\/ViewPointDefShiftX>0.0<\/ViewPointDefShiftY>None<\/CompressionMethod>75<\/CompressionQuality>0.010000<\/CompressionTolerance>Bilinear<\/SamplingMethod><\/ImageServiceProperties><\/ImageServer>", "allowedFields": "Name,MinPS,MaxPS,LowPS,HighPS,Tag,GroupName,ProductName,CenterX,CenterY,ZOrder,Shape_Length,Shape_Area,Date", "hasMultidimensions": false, "pixelSizeX": 3, "pixelSizeY": 3, "meanPixelSize": 3, "datasetFormat": "AMD", "uncompressedSize": 30471345632, "blockWidth": 2048, "blockHeight": 256, "compressionType": "None", "bandNames": [ "Band_1" ], "allowCopy": true, "allowAnalysis": true, "itemAccess": false, "inspectionCapabilities": "", "minPixelSize": 0, "maxPixelSize": 0, "copyrightText": "", "serviceDataType": "esriImageServiceDataTypeGeneric", "serviceSourceType": "esriImageServiceSourceTypeMosaicDataset", "objectIdField": "OBJECTID", "fields": [ { "name": "OBJECTID", "type": "esriFieldTypeOID", "alias": "OBJECTID", "domain": null }, { "name": "Shape", "type": "esriFieldTypeGeometry", "alias": "Shape", "domain": null }, { "name": "Name", "type": "esriFieldTypeString", "alias": "Name", "domain": null, "length": 200 }, { "name": "MinPS", "type": "esriFieldTypeDouble", "alias": "MinPS", "domain": null }, { "name": "MaxPS", "type": "esriFieldTypeDouble", "alias": "MaxPS", "domain": null }, { "name": "LowPS", "type": "esriFieldTypeDouble", "alias": "LowPS", "domain": null }, { "name": "HighPS", "type": "esriFieldTypeDouble", "alias": "HighPS", "domain": null }, { "name": "Category", "type": "esriFieldTypeInteger", "alias": "Category", "domain": { "type": "codedValue", "name": "MosaicCatalogItemCategoryDomain", "description": "Catalog item categories.", "codedValues": [ { "name": "Unknown", "code": 0 }, { "name": "Primary", "code": 1 }, { "name": "Overview", "code": 2 }, { "name": "Unprocessed Overview", "code": 3 }, { "name": "Partial Overview", "code": 4 }, { "name": "Inactive", "code": 5 }, { "name": "Uploaded", "code": 253 }, { "name": "Incomplete", "code": 254 }, { "name": "Custom", "code": 255 } ], "mergePolicy": "esriMPTDefaultValue", "splitPolicy": "esriSPTDefaultValue" } }, { "name": "Tag", "type": "esriFieldTypeString", "alias": "Tag", "domain": null, "length": 100 }, { "name": "GroupName", "type": "esriFieldTypeString", "alias": "GroupName", "domain": null, "length": 100 }, { "name": "ProductName", "type": "esriFieldTypeString", "alias": "ProductName", "domain": null, "length": 100 }, { "name": "CenterX", "type": "esriFieldTypeDouble", "alias": "CenterX", "domain": null }, { "name": "CenterY", "type": "esriFieldTypeDouble", "alias": "CenterY", "domain": null }, { "name": "ZOrder", "type": "esriFieldTypeInteger", "alias": "ZOrder", "domain": null }, { "name": "Date", "type": "esriFieldTypeDateOnly", "alias": "Date", "domain": null }, { "name": "Shape_Length", "type": "esriFieldTypeDouble", "alias": "Shape_Length", "domain": null }, { "name": "Shape_Area", "type": "esriFieldTypeDouble", "alias": "Shape_Area", "domain": null } ], "capabilities": "Image,Metadata,Mensuration,Catalog", "defaultMosaicMethod": "Northwest", "allowedMosaicMethods": "NorthWest,Center,LockRaster,ByAttribute,Nadir,Viewpoint,Seamline,None", "sortField": "", "sortValue": null, "sortAscending": true, "mosaicOperator": "First", "maxDownloadSizeLimit": 2048, "defaultCompressionQuality": 75, "defaultResamplingMethod": "Bilinear", "maxImageHeight": 4100, "maxImageWidth": 15000, "maxRecordCount": 1000, "maxDownloadImageCount": 20, "maxMosaicImageCount": 20, "allowRasterFunction": true, "rasterFunctionInfos": [ { "name": "ndvi", "description": "A raster function template.", "help": "" }, { "name": "None", "description": "Make a Raster or Raster Dataset into a Function Raster Dataset.", "help": "" } ], "rasterTypeInfos": [ { "name": "Raster Dataset", "description": "Supports all ArcGIS Raster Datasets", "help": "" } ], "mensurationCapabilities": "Basic", "hasHistograms": false, "hasColormap": false, "hasRasterAttributeTable": false, "minScale": 0, "maxScale": 0, "exportTilesAllowed": false, "supportsStatistics": true, "supportsAdvancedQueries": true, "editFieldsInfo": null, "ownershipBasedAccessControlForRasters": null, "allowComputeTiePoints": false, "useStandardizedQueries": true, "advancedQueryCapabilities": { "useStandardizedQueries": true, "supportsStatistics": true, "supportsOrderBy": true, "supportsDistinct": true, "supportsPagination": true }, "spatialReference": { "wkid": 102100, "latestWkid": 3857 } }