Date of Image(s):<\/span><\/p>December 8; December 9; December 12<\/span><\/p>Date of Next Image:<\/span><\/p>Typically, there are two daytime images expected each day around 1:00pm EST.<\/span><\/p>Summary:<\/span><\/p>Floodwater derived from Visible Infrared Imaging Radiometer Suite (VIIRS) instrument onboard NASA and NOAA Suomi National Polar-orbiting Partnership (Suomi NPP) satellite.<\/span><\/p>VIIRS floodwater product was produced by NASA SatCORPS Ground Station Observation Network (GSON) low latency system..<\/span><\/p>The image shows where floodwater was detected from the VIIRS observation.<\/span><\/p>Suggested Usage:<\/span>The floodwater fraction percentage (1-100%) that contains water<\/span><\/p>Satellite/Sensor/Resolution:<\/span><\/p>375m spatial resolution<\/span><\/p>VIIRS instrument onboard SNPP Satellite<\/span><\/p>Generated using CSPP v4.1<\/span><\/p>Credits:<\/span><\/p>Image Credit: NASA Langley SatCORPS<\/span><\/p>Louis Nguyen of NASA Langley SatCORPS: https://satcorps.larc.nasa.gov/new/<\/span><\/p>NOAA Joint Polar Satellite System (JPSS) VIIRS Data: https://registry.opendata.aws/noaa-jpss/ o Additional information on VIIRS Flooding products: https://disasters-geoplatform.hub.arcgis.com/pages/viirs-floodwater-fraction-map/<\/span><\/p><\/p><\/div><\/div><\/div>",
"serviceItemId": "66d2f48b80f94a52a7bfc0acac862034",
"name": "DISASTERS_202512_FLOOD_WA/2512_viirs_FloodwaterFraction",
"description": "
Date of Image(s):<\/span><\/p>December 8; December 9; December 12<\/span><\/p>Date of Next Image:<\/span><\/p>Typically, there are two daytime images expected each day around 1:00pm EST.<\/span><\/p>Summary:<\/span><\/p>Floodwater derived from Visible Infrared Imaging Radiometer Suite (VIIRS) instrument onboard NASA and NOAA Suomi National Polar-orbiting Partnership (Suomi NPP) satellite.<\/span><\/p>VIIRS floodwater product was produced by NASA SatCORPS Ground Station Observation Network (GSON) low latency system..<\/span><\/p>The image shows where floodwater was detected from the VIIRS observation.<\/span><\/p>Suggested Usage:<\/span>The floodwater fraction percentage (1-100%) that contains water<\/span><\/p>Satellite/Sensor/Resolution:<\/span><\/p>375m spatial resolution<\/span><\/p>VIIRS instrument onboard SNPP Satellite<\/span><\/p>Generated using CSPP v4.1<\/span><\/p>Credits:<\/span><\/p>Image Credit: NASA Langley SatCORPS<\/span><\/p>Louis Nguyen of NASA Langley SatCORPS: https://satcorps.larc.nasa.gov/new/<\/span><\/p>NOAA Joint Polar Satellite System (JPSS) VIIRS Data: https://registry.opendata.aws/noaa-jpss/ o Additional information on VIIRS Flooding products: https://disasters-geoplatform.hub.arcgis.com/pages/viirs-floodwater-fraction-map/<\/span><\/p><\/p><\/div><\/div><\/div>",
"extent": {
"xmin": -1.7351035561300002E7,
"ymin": 2639410.6810040437,
"xmax": -8975316.25528808,
"ymax": 1.1916362489200003E7,
"spatialReference": {
"wkid": 102100,
"latestWkid": 3857
}
},
"initialExtent": {
"xmin": -1.7351035561300002E7,
"ymin": 2639410.6810040437,
"xmax": -8975316.25528808,
"ymax": 1.1916362489200003E7,
"spatialReference": {
"wkid": 102100,
"latestWkid": 3857
}
},
"fullExtent": {
"xmin": -1.7351035561300002E7,
"ymin": 2639410.6810040437,
"xmax": -8975316.25528808,
"ymax": 1.1916362489200003E7,
"spatialReference": {
"wkid": 102100,
"latestWkid": 3857
}
},
"sortableFields": "MinPS,MaxPS,LowPS,HighPS,CenterX,CenterY,ZOrder,Shape_Length,Shape_Area",
"bandCount": 3,
"pixelType": "U8",
"minValues": [
0,
0,
0
],
"maxValues": [
255,
255,
255
],
"meanValues": [
63.28262055655864,
61.98118278094428,
68.77304069178213
],
"stdvValues": [
96.08808803568375,
94.09753605785622,
98.17180633469056
],
"serviceProperties": "NorthWest<\/MosaicMethod>First<\/MosaicOperator>true<\/SortAscending><\/LockImageID>Name<\/TileOrderField>0<\/TileOrderBase>600.000000<\/AvgImageSpacingX>300.000000<\/AvgImageSpacingY>0.0<\/ViewPointX>0.0<\/ViewPointY>0.0<\/ViewPointDefShiftX>0.0<\/ViewPointDefShiftY>None<\/CompressionMethod>75<\/CompressionQuality>0.010000<\/CompressionTolerance>Bilinear<\/SamplingMethod><\/ImageServiceProperties><\/ImageServer>",
"allowedFields": "Name,MinPS,MaxPS,LowPS,HighPS,Tag,GroupName,ProductName,CenterX,CenterY,ZOrder,Shape_Length,Shape_Area,Date",
"hasMultidimensions": false,
"pixelSizeX": 375.3571437667797,
"pixelSizeY": 375.3571437667797,
"meanPixelSize": 375.3571437667797,
"datasetFormat": "AMD",
"uncompressedSize": 1654471530,
"blockWidth": 2048,
"blockHeight": 256,
"compressionType": "None",
"bandNames": [
"Band_1",
"Band_2",
"Band_3"
],
"allowCopy": true,
"allowAnalysis": true,
"itemAccess": false,
"inspectionCapabilities": "",
"minPixelSize": 0,
"maxPixelSize": 0,
"copyrightText": "NASA Langley SatCORPS; Louis Nguyen",
"serviceDataType": "esriImageServiceDataTypeRGB",
"serviceSourceType": "esriImageServiceSourceTypeMosaicDataset",
"objectIdField": "OBJECTID",
"fields": [
{
"name": "OBJECTID",
"type": "esriFieldTypeOID",
"alias": "OBJECTID",
"domain": null
},
{
"name": "Shape",
"type": "esriFieldTypeGeometry",
"alias": "Shape",
"domain": null
},
{
"name": "Name",
"type": "esriFieldTypeString",
"alias": "Name",
"domain": null,
"length": 200
},
{
"name": "MinPS",
"type": "esriFieldTypeDouble",
"alias": "MinPS",
"domain": null
},
{
"name": "MaxPS",
"type": "esriFieldTypeDouble",
"alias": "MaxPS",
"domain": null
},
{
"name": "LowPS",
"type": "esriFieldTypeDouble",
"alias": "LowPS",
"domain": null
},
{
"name": "HighPS",
"type": "esriFieldTypeDouble",
"alias": "HighPS",
"domain": null
},
{
"name": "Category",
"type": "esriFieldTypeInteger",
"alias": "Category",
"domain": {
"type": "codedValue",
"name": "MosaicCatalogItemCategoryDomain",
"description": "Catalog item categories.",
"codedValues": [
{
"name": "Unknown",
"code": 0
},
{
"name": "Primary",
"code": 1
},
{
"name": "Overview",
"code": 2
},
{
"name": "Unprocessed Overview",
"code": 3
},
{
"name": "Partial Overview",
"code": 4
},
{
"name": "Inactive",
"code": 5
},
{
"name": "Uploaded",
"code": 253
},
{
"name": "Incomplete",
"code": 254
},
{
"name": "Custom",
"code": 255
}
],
"mergePolicy": "esriMPTDefaultValue",
"splitPolicy": "esriSPTDefaultValue"
}
},
{
"name": "Tag",
"type": "esriFieldTypeString",
"alias": "Tag",
"domain": null,
"length": 100
},
{
"name": "GroupName",
"type": "esriFieldTypeString",
"alias": "GroupName",
"domain": null,
"length": 100
},
{
"name": "ProductName",
"type": "esriFieldTypeString",
"alias": "ProductName",
"domain": null,
"length": 100
},
{
"name": "CenterX",
"type": "esriFieldTypeDouble",
"alias": "CenterX",
"domain": null
},
{
"name": "CenterY",
"type": "esriFieldTypeDouble",
"alias": "CenterY",
"domain": null
},
{
"name": "ZOrder",
"type": "esriFieldTypeInteger",
"alias": "ZOrder",
"domain": null
},
{
"name": "Date",
"type": "esriFieldTypeDateOnly",
"alias": "Date",
"domain": null
},
{
"name": "Shape_Length",
"type": "esriFieldTypeDouble",
"alias": "Shape_Length",
"domain": null
},
{
"name": "Shape_Area",
"type": "esriFieldTypeDouble",
"alias": "Shape_Area",
"domain": null
}
],
"capabilities": "Catalog,Image,Metadata",
"defaultMosaicMethod": "Northwest",
"allowedMosaicMethods": "NorthWest,Center,LockRaster,ByAttribute,Nadir,Viewpoint,Seamline,None",
"sortField": "",
"sortValue": null,
"sortAscending": true,
"mosaicOperator": "First",
"maxDownloadSizeLimit": 2048,
"defaultCompressionQuality": 75,
"defaultResamplingMethod": "Bilinear",
"maxImageHeight": 4100,
"maxImageWidth": 15000,
"maxRecordCount": 1000,
"maxDownloadImageCount": 20,
"maxMosaicImageCount": 20,
"allowRasterFunction": true,
"rasterFunctionInfos": [
{
"name": "None",
"description": "Make a Raster or Raster Dataset into a Function Raster Dataset.",
"help": ""
},
{
"name": "VIIRS_FloodwaterFraction",
"description": "VIIRS_FloodwaterFraction",
"help": ""
}
],
"rasterTypeInfos": [
{
"name": "Raster Dataset",
"description": "Supports all ArcGIS Raster Datasets",
"help": ""
}
],
"mensurationCapabilities": "None",
"hasHistograms": true,
"hasColormap": false,
"hasRasterAttributeTable": false,
"minScale": 0,
"maxScale": 0,
"exportTilesAllowed": false,
"supportsStatistics": true,
"supportsAdvancedQueries": true,
"editFieldsInfo": null,
"ownershipBasedAccessControlForRasters": null,
"allowComputeTiePoints": false,
"useStandardizedQueries": true,
"advancedQueryCapabilities": {
"useStandardizedQueries": true,
"supportsStatistics": true,
"supportsOrderBy": true,
"supportsDistinct": true,
"supportsPagination": true
},
"spatialReference": {
"wkid": 102100,
"latestWkid": 3857
},
"resampling": false
}