Date(s) of Images:<\/span><\/p>Post-Event: <\/span>01/27/2026; 1/28/2026<\/span><\/p>Summary:<\/span><\/p>BlackSky\u2019s nighttime product utilizes the panchromatic band aboard the BlackSky Gen-2 constellation to collect imagery during the nighttime hours. These nighttime images typically show features that radiate artificial illumination such as bright lights from cities and roadway streetlights. The average sensitivity is 0.2 W/m2/str/µm meaning features brighter than this limit would be detectable. This nighttime product is more sensitive to noise in forms of lines and/or pixels because the panchromatic band is detecting features that are dimmer than daylight imagery. Blacksky will works to remove as much noise as possible, but noise may continue through to the final products. Nighttime imagery by Blacksky is not georeferenced or orthorectified due to current collection methodology.<\/span><\/p>Suggested Use:<\/span><\/p>The image shows nighttime lights in brighter colors. Darker colors represent less luminosity.<\/span><\/p>Resolution:<\/span><\/p>~1 m (may vary be between 0.8 m and 1.1 m dependent on viewing angels)<\/span><\/p>Credits:<\/span><\/p>NASA Disasters Program, i<\/span>ncludes copyrighted material of BlackSky All rights reserved. This work utilized data made available through the NASA Commercial Satellite Data Acquisition (CSDA) program.<\/p><\/div><\/div><\/div>",
"serviceItemId": "5e3345d5be6645db98f6a1890bdfdc2f",
"name": "DISASTERS_202601_WINTERWX_US/202601_BlackSky",
"description": "Date(s) of Images:<\/span><\/p>Post-Event: <\/span>01/27/2026; 1/28/2026<\/span><\/p>Summary:<\/span><\/p>BlackSky\u2019s nighttime product utilizes the panchromatic band aboard the BlackSky Gen-2 constellation to collect imagery during the nighttime hours. These nighttime images typically show features that radiate artificial illumination such as bright lights from cities and roadway streetlights. The average sensitivity is 0.2 W/m2/str/µm meaning features brighter than this limit would be detectable. This nighttime product is more sensitive to noise in forms of lines and/or pixels because the panchromatic band is detecting features that are dimmer than daylight imagery. Blacksky will works to remove as much noise as possible, but noise may continue through to the final products. Nighttime imagery by Blacksky is not georeferenced or orthorectified due to current collection methodology.<\/span><\/p>Suggested Use:<\/span><\/p>The image shows nighttime lights in brighter colors. Darker colors represent less luminosity.<\/span><\/p>Resolution:<\/span><\/p>~1 m (may vary be between 0.8 m and 1.1 m dependent on viewing angels)<\/span><\/p>Credits:<\/span><\/p>NASA Disasters Program, i<\/span>ncludes copyrighted material of BlackSky All rights reserved. This work utilized data made available through the NASA Commercial Satellite Data Acquisition (CSDA) program.<\/p><\/div><\/div><\/div>",
"extent": {
"xmin": -1.01402605836E7,
"ymin": 3939812.8500316087,
"xmax": -9903492.847317958,
"ymax": 4099492.277900003,
"spatialReference": {
"wkid": 102100,
"latestWkid": 3857
}
},
"initialExtent": {
"xmin": -1.01402605836E7,
"ymin": 3939812.8500316087,
"xmax": -9903492.847317958,
"ymax": 4099492.277900003,
"spatialReference": {
"wkid": 102100,
"latestWkid": 3857
}
},
"fullExtent": {
"xmin": -1.01402605836E7,
"ymin": 3939812.8500316087,
"xmax": -9903492.847317958,
"ymax": 4099492.277900003,
"spatialReference": {
"wkid": 102100,
"latestWkid": 3857
}
},
"sortableFields": "MinPS,MaxPS,LowPS,HighPS,CenterX,CenterY,ZOrder,Shape_Length,Shape_Area",
"bandCount": 4,
"pixelType": "U8",
"minValues": [
0,
0,
0,
0
],
"maxValues": [
176,
176,
176,
255
],
"meanValues": [
2.8293551834699024,
2.8293551834699024,
2.8293551834699024,
138.00748129675807
],
"stdvValues": [
7.188964419842963,
7.188964419842963,
7.188964419842963,
125.99391670299522
],
"serviceProperties": "NorthWest<\/MosaicMethod>First<\/MosaicOperator>true<\/SortAscending><\/LockImageID>Name<\/TileOrderField>0<\/TileOrderBase>600.000000<\/AvgImageSpacingX>300.000000<\/AvgImageSpacingY>0.0<\/ViewPointX>0.0<\/ViewPointY>0.0<\/ViewPointDefShiftX>0.0<\/ViewPointDefShiftY>None<\/CompressionMethod>75<\/CompressionQuality>0.010000<\/CompressionTolerance>Bilinear<\/SamplingMethod><\/ImageServiceProperties><\/ImageServer>",
"allowedFields": "Name,MinPS,MaxPS,LowPS,HighPS,Tag,GroupName,ProductName,CenterX,CenterY,ZOrder,Shape_Length,Shape_Area,Date",
"hasMultidimensions": false,
"pixelSizeX": 0.9990579232208873,
"pixelSizeY": 0.9990579232208858,
"meanPixelSize": 0.9990579232208865,
"datasetFormat": "AMD",
"uncompressedSize": 151513086120,
"blockWidth": 2048,
"blockHeight": 256,
"compressionType": "None",
"bandNames": [
"Band_1",
"Band_2",
"Band_3",
"Band_4"
],
"allowCopy": true,
"allowAnalysis": true,
"itemAccess": false,
"inspectionCapabilities": "",
"minPixelSize": 0,
"maxPixelSize": 0,
"copyrightText": "NASA Disasters Program, includes copyrighted material of BlackSky All rights reserved. This work utilized data made available through the NASA Commercial Satellite Data Acquisition (CSDA) program.",
"serviceDataType": "esriImageServiceDataTypeGeneric",
"serviceSourceType": "esriImageServiceSourceTypeMosaicDataset",
"objectIdField": "OBJECTID",
"fields": [
{
"name": "OBJECTID",
"type": "esriFieldTypeOID",
"alias": "OBJECTID",
"domain": null
},
{
"name": "Shape",
"type": "esriFieldTypeGeometry",
"alias": "Shape",
"domain": null
},
{
"name": "Name",
"type": "esriFieldTypeString",
"alias": "Name",
"domain": null,
"length": 200
},
{
"name": "MinPS",
"type": "esriFieldTypeDouble",
"alias": "MinPS",
"domain": null
},
{
"name": "MaxPS",
"type": "esriFieldTypeDouble",
"alias": "MaxPS",
"domain": null
},
{
"name": "LowPS",
"type": "esriFieldTypeDouble",
"alias": "LowPS",
"domain": null
},
{
"name": "HighPS",
"type": "esriFieldTypeDouble",
"alias": "HighPS",
"domain": null
},
{
"name": "Category",
"type": "esriFieldTypeInteger",
"alias": "Category",
"domain": {
"type": "codedValue",
"name": "MosaicCatalogItemCategoryDomain",
"description": "Catalog item categories.",
"codedValues": [
{
"name": "Unknown",
"code": 0
},
{
"name": "Primary",
"code": 1
},
{
"name": "Overview",
"code": 2
},
{
"name": "Unprocessed Overview",
"code": 3
},
{
"name": "Partial Overview",
"code": 4
},
{
"name": "Inactive",
"code": 5
},
{
"name": "Uploaded",
"code": 253
},
{
"name": "Incomplete",
"code": 254
},
{
"name": "Custom",
"code": 255
}
],
"mergePolicy": "esriMPTDefaultValue",
"splitPolicy": "esriSPTDefaultValue"
}
},
{
"name": "Tag",
"type": "esriFieldTypeString",
"alias": "Tag",
"domain": null,
"length": 100
},
{
"name": "GroupName",
"type": "esriFieldTypeString",
"alias": "GroupName",
"domain": null,
"length": 100
},
{
"name": "ProductName",
"type": "esriFieldTypeString",
"alias": "ProductName",
"domain": null,
"length": 100
},
{
"name": "CenterX",
"type": "esriFieldTypeDouble",
"alias": "CenterX",
"domain": null
},
{
"name": "CenterY",
"type": "esriFieldTypeDouble",
"alias": "CenterY",
"domain": null
},
{
"name": "ZOrder",
"type": "esriFieldTypeInteger",
"alias": "ZOrder",
"domain": null
},
{
"name": "Date",
"type": "esriFieldTypeDateOnly",
"alias": "Date",
"domain": null
},
{
"name": "Shape_Length",
"type": "esriFieldTypeDouble",
"alias": "Shape_Length",
"domain": null
},
{
"name": "Shape_Area",
"type": "esriFieldTypeDouble",
"alias": "Shape_Area",
"domain": null
}
],
"capabilities": "Catalog,Mensuration,Image,Metadata",
"defaultMosaicMethod": "Northwest",
"allowedMosaicMethods": "NorthWest,Center,LockRaster,ByAttribute,Nadir,Viewpoint,Seamline,None",
"sortField": "",
"sortValue": null,
"sortAscending": true,
"mosaicOperator": "First",
"maxDownloadSizeLimit": 2048,
"defaultCompressionQuality": 75,
"defaultResamplingMethod": "Bilinear",
"maxImageHeight": 4100,
"maxImageWidth": 15000,
"maxRecordCount": 1000,
"maxDownloadImageCount": 20,
"maxMosaicImageCount": 20,
"allowRasterFunction": true,
"rasterFunctionInfos": [
{
"name": "None",
"description": "",
"help": ""
}
],
"rasterTypeInfos": [
{
"name": "Raster Dataset",
"description": "Supports all ArcGIS Raster Datasets",
"help": ""
}
],
"mensurationCapabilities": "Basic",
"hasHistograms": true,
"hasColormap": false,
"hasRasterAttributeTable": false,
"minScale": 0,
"maxScale": 0,
"exportTilesAllowed": false,
"supportsStatistics": true,
"supportsAdvancedQueries": true,
"editFieldsInfo": null,
"ownershipBasedAccessControlForRasters": null,
"allowComputeTiePoints": false,
"useStandardizedQueries": true,
"advancedQueryCapabilities": {
"useStandardizedQueries": true,
"supportsStatistics": true,
"supportsOrderBy": true,
"supportsDistinct": true,
"supportsPagination": true
},
"spatialReference": {
"wkid": 102100,
"latestWkid": 3857
},
"resampling": false
}