NOTE: <\/span>due to the size and resolution of the imagery, the data may take some time to load and will not visualize unless zoomed into the area(s) of interest. Consult the attribute table for data footprints and zoom in further if difficulties arise.<\/span><\/p>Date of Image:<\/span><\/p>3/21/2026<\/span><\/p>Summary:<\/span><\/p>Capella Space backscatter is derived from scaling factors provided within the Capella Geocoded Terrain Corrected (GEO) product. The GEO product is geocoded and terrain height corrected using a high-resolution Digital Elevation Model (DEM). The SAR image is multi-looked, range compressed and focused. The units for this product are decibels (dB).<\/span><\/p>Resolution: <\/span><\/p>Sub 1 meter<\/span><\/p>Credits<\/span><\/p>NASA Disasters Program, processing by MSFC, Capella Space. For derived products: \u201cIncludes copyrighted material of Capella Space. All rights reserved.\u201d This work utilized data made available through the NASA Commercial Satellite Data Acquisition (CSDA) program.<\/span><\/p><\/div><\/div><\/div>",
"serviceItemId": "358e893a6f934df8a7d76e7a83b29ed0",
"name": "DISASTERS_202603_FLOOD_HI/2605_capella",
"description": "NOTE: <\/span>due to the size and resolution of the imagery, the data may take some time to load and will not visualize unless zoomed into the area(s) of interest. Consult the attribute table for data footprints and zoom in further if difficulties arise.<\/span><\/p>Date of Image:<\/span><\/p>3/21/2026<\/span><\/p>Summary:<\/span><\/p>Capella Space backscatter is derived from scaling factors provided within the Capella Geocoded Terrain Corrected (GEO) product. The GEO product is geocoded and terrain height corrected using a high-resolution Digital Elevation Model (DEM). The SAR image is multi-looked, range compressed and focused. The units for this product are decibels (dB).<\/span><\/p>Resolution: <\/span><\/p>Sub 1 meter<\/span><\/p>Credits<\/span><\/p>NASA Disasters Program, processing by MSFC, Capella Space. For derived products: \u201cIncludes copyrighted material of Capella Space. All rights reserved.\u201d This work utilized data made available through the NASA Commercial Satellite Data Acquisition (CSDA) program.<\/span><\/p><\/div><\/div><\/div>",
"extent": {
"xmin": -1.76065276215E7,
"ymin": 2455715.3157760887,
"xmax": -1.7596435432608478E7,
"ymax": 2465907.813099999,
"spatialReference": {
"wkid": 102100,
"latestWkid": 3857
}
},
"initialExtent": {
"xmin": -1.76065276215E7,
"ymin": 2455715.3157760887,
"xmax": -1.7596435432608478E7,
"ymax": 2465907.813099999,
"spatialReference": {
"wkid": 102100,
"latestWkid": 3857
}
},
"fullExtent": {
"xmin": -1.76065276215E7,
"ymin": 2455715.3157760887,
"xmax": -1.7596435432608478E7,
"ymax": 2465907.813099999,
"spatialReference": {
"wkid": 102100,
"latestWkid": 3857
}
},
"sortableFields": "MinPS,MaxPS,LowPS,HighPS,CenterX,CenterY,ZOrder,Shape_Length,Shape_Area",
"bandCount": 1,
"pixelType": "F32",
"minValues": [
-18.249122619628906
],
"maxValues": [
14.379093170166016
],
"meanValues": [
-7.899879314210515
],
"stdvValues": [
3.538984104182401
],
"serviceProperties": "NorthWest<\/MosaicMethod>First<\/MosaicOperator>true<\/SortAscending><\/LockImageID>Name<\/TileOrderField>0<\/TileOrderBase>600.000000<\/AvgImageSpacingX>300.000000<\/AvgImageSpacingY>0.0<\/ViewPointX>0.0<\/ViewPointY>0.0<\/ViewPointDefShiftX>0.0<\/ViewPointDefShiftY>None<\/CompressionMethod>75<\/CompressionQuality>0.010000<\/CompressionTolerance>Bilinear<\/SamplingMethod><\/ImageServiceProperties><\/ImageServer>",
"allowedFields": "Name,MinPS,MaxPS,LowPS,HighPS,Tag,GroupName,ProductName,CenterX,CenterY,ZOrder,Shape_Length,Shape_Area",
"hasMultidimensions": false,
"pixelSizeX": 0.4144976544900027,
"pixelSizeY": 0.4144976544900464,
"meanPixelSize": 0.4144976544900245,
"datasetFormat": "AMD",
"uncompressedSize": 2394869280,
"blockWidth": 2048,
"blockHeight": 256,
"compressionType": "None",
"bandNames": [
"Band_1"
],
"allowCopy": true,
"allowAnalysis": true,
"itemAccess": false,
"inspectionCapabilities": "",
"noDataValue": 3.4028234663852886E38,
"noDataValues": [
3.4028234663852886E38
],
"minPixelSize": 0,
"maxPixelSize": 0,
"copyrightText": "NASA Disasters Program, MSFC, Commercial Satellite Data Acquisition (CSDA) Program, Capella Space.",
"serviceDataType": "esriImageServiceDataTypeGeneric",
"serviceSourceType": "esriImageServiceSourceTypeMosaicDataset",
"objectIdField": "OBJECTID",
"fields": [
{
"name": "OBJECTID",
"type": "esriFieldTypeOID",
"alias": "OBJECTID",
"domain": null
},
{
"name": "Shape",
"type": "esriFieldTypeGeometry",
"alias": "Shape",
"domain": null
},
{
"name": "Name",
"type": "esriFieldTypeString",
"alias": "Name",
"domain": null,
"length": 200
},
{
"name": "MinPS",
"type": "esriFieldTypeDouble",
"alias": "MinPS",
"domain": null
},
{
"name": "MaxPS",
"type": "esriFieldTypeDouble",
"alias": "MaxPS",
"domain": null
},
{
"name": "LowPS",
"type": "esriFieldTypeDouble",
"alias": "LowPS",
"domain": null
},
{
"name": "HighPS",
"type": "esriFieldTypeDouble",
"alias": "HighPS",
"domain": null
},
{
"name": "Category",
"type": "esriFieldTypeInteger",
"alias": "Category",
"domain": {
"type": "codedValue",
"name": "MosaicCatalogItemCategoryDomain",
"description": "Catalog item categories.",
"codedValues": [
{
"name": "Unknown",
"code": 0
},
{
"name": "Primary",
"code": 1
},
{
"name": "Overview",
"code": 2
},
{
"name": "Unprocessed Overview",
"code": 3
},
{
"name": "Partial Overview",
"code": 4
},
{
"name": "Inactive",
"code": 5
},
{
"name": "Uploaded",
"code": 253
},
{
"name": "Incomplete",
"code": 254
},
{
"name": "Custom",
"code": 255
}
],
"mergePolicy": "esriMPTDefaultValue",
"splitPolicy": "esriSPTDefaultValue"
}
},
{
"name": "Tag",
"type": "esriFieldTypeString",
"alias": "Tag",
"domain": null,
"length": 100
},
{
"name": "GroupName",
"type": "esriFieldTypeString",
"alias": "GroupName",
"domain": null,
"length": 100
},
{
"name": "ProductName",
"type": "esriFieldTypeString",
"alias": "ProductName",
"domain": null,
"length": 100
},
{
"name": "CenterX",
"type": "esriFieldTypeDouble",
"alias": "CenterX",
"domain": null
},
{
"name": "CenterY",
"type": "esriFieldTypeDouble",
"alias": "CenterY",
"domain": null
},
{
"name": "ZOrder",
"type": "esriFieldTypeInteger",
"alias": "ZOrder",
"domain": null
},
{
"name": "Shape_Length",
"type": "esriFieldTypeDouble",
"alias": "Shape_Length",
"domain": null
},
{
"name": "Shape_Area",
"type": "esriFieldTypeDouble",
"alias": "Shape_Area",
"domain": null
}
],
"capabilities": "Catalog,Mensuration,Image,Metadata",
"defaultMosaicMethod": "Northwest",
"allowedMosaicMethods": "NorthWest,Center,LockRaster,ByAttribute,Nadir,Viewpoint,Seamline,None",
"sortField": "",
"sortValue": null,
"sortAscending": true,
"mosaicOperator": "First",
"maxDownloadSizeLimit": 2048,
"defaultCompressionQuality": 75,
"defaultResamplingMethod": "Bilinear",
"maxImageHeight": 4100,
"maxImageWidth": 15000,
"maxRecordCount": 1000,
"maxDownloadImageCount": 20,
"maxMosaicImageCount": 20,
"allowRasterFunction": true,
"rasterFunctionInfos": [
{
"name": "capella",
"description": "capella_hiflood",
"help": ""
},
{
"name": "None",
"description": "Make a Raster or Raster Dataset into a Function Raster Dataset.",
"help": ""
}
],
"rasterTypeInfos": [
{
"name": "Raster Dataset",
"description": "Supports all ArcGIS Raster Datasets",
"help": ""
}
],
"mensurationCapabilities": "",
"hasHistograms": true,
"hasColormap": false,
"hasRasterAttributeTable": false,
"minScale": 0,
"maxScale": 0,
"exportTilesAllowed": false,
"supportsStatistics": true,
"supportsAdvancedQueries": true,
"editFieldsInfo": null,
"ownershipBasedAccessControlForRasters": null,
"allowComputeTiePoints": false,
"useStandardizedQueries": true,
"advancedQueryCapabilities": {
"useStandardizedQueries": true,
"supportsStatistics": true,
"supportsOrderBy": true,
"supportsDistinct": true,
"supportsPagination": true
},
"spatialReference": {
"wkid": 102100,
"latestWkid": 3857
},
"resampling": false
}