NOTE: <\/span>due to the size and resolution of the imagery, the data may take some time to load and will not visualize unless zoomed into the area(s) of interest. Consult the attribute table for data footprints and zoom in further if difficulties arise.<\/span><\/p>Date of Image:<\/span><\/p>3/20/2026<\/span><\/p>Summary<\/span><\/p>ICEYE US Backscatter is derived from scaling factors provided with ICEYE Single Look Complex (SLC) and/or Ground Range Detected (GRD) products. In the SLC product all original sensor data is retained and offers full resolution in the azimuth and range directions. Data in the GRD product is oriented in the natural range-azimuth orientation and projected to the ground surface using an Earth ellipsoid mode and may be multi-looked to reduced speckle. The units for this product are decibels (dB).<\/span><\/p>Resolution:<\/span><\/p>Sub 1 meter.<\/span><\/p>Credits<\/span><\/p>NASA Disasters Program, Processing from MSFC, ICEYE US. For derived products: \u201cIncludes copyrighted material of ICEYE US. All rights reserved.\u201d This work utilized data made available through the NASA Commercial Satellite Data Acquisition (CSDA) program.<\/span><\/p><\/div><\/div><\/div>",
"serviceItemId": "9994f339abda435cb5dc7285b4b7b0f9",
"name": "DISASTERS_202603_FLOOD_HI/2605_iceye",
"description": "NOTE: <\/span>due to the size and resolution of the imagery, the data may take some time to load and will not visualize unless zoomed into the area(s) of interest. Consult the attribute table for data footprints and zoom in further if difficulties arise.<\/span><\/p>Date of Image:<\/span><\/p>3/20/2026<\/span><\/p>Summary<\/span><\/p>ICEYE US Backscatter is derived from scaling factors provided with ICEYE Single Look Complex (SLC) and/or Ground Range Detected (GRD) products. In the SLC product all original sensor data is retained and offers full resolution in the azimuth and range directions. Data in the GRD product is oriented in the natural range-azimuth orientation and projected to the ground surface using an Earth ellipsoid mode and may be multi-looked to reduced speckle. The units for this product are decibels (dB).<\/span><\/p>Resolution:<\/span><\/p>Sub 1 meter.<\/span><\/p>Credits<\/span><\/p>NASA Disasters Program, Processing from MSFC, ICEYE US. For derived products: \u201cIncludes copyrighted material of ICEYE US. All rights reserved.\u201d This work utilized data made available through the NASA Commercial Satellite Data Acquisition (CSDA) program.<\/span><\/p><\/div><\/div><\/div>",
"extent": {
"xmin": -1.7605222572300002E7,
"ymin": 2457702.6422173907,
"xmax": -1.759926300708261E7,
"ymax": 2463698.0769999996,
"spatialReference": {
"wkid": 102100,
"latestWkid": 3857
}
},
"initialExtent": {
"xmin": -1.7605222572300002E7,
"ymin": 2457702.6422173907,
"xmax": -1.759926300708261E7,
"ymax": 2463698.0769999996,
"spatialReference": {
"wkid": 102100,
"latestWkid": 3857
}
},
"fullExtent": {
"xmin": -1.7605222572300002E7,
"ymin": 2457702.6422173907,
"xmax": -1.759926300708261E7,
"ymax": 2463698.0769999996,
"spatialReference": {
"wkid": 102100,
"latestWkid": 3857
}
},
"sortableFields": "MinPS,MaxPS,LowPS,HighPS,CenterX,CenterY,ZOrder,Shape_Length,Shape_Area",
"bandCount": 1,
"pixelType": "F32",
"minValues": [
-14.135576248168945
],
"maxValues": [
18.988924026489258
],
"meanValues": [
-5.1030921590618
],
"stdvValues": [
3.3053895555986768
],
"serviceProperties": "NorthWest<\/MosaicMethod>First<\/MosaicOperator>true<\/SortAscending><\/LockImageID>Name<\/TileOrderField>0<\/TileOrderBase>600.000000<\/AvgImageSpacingX>300.000000<\/AvgImageSpacingY>0.0<\/ViewPointX>0.0<\/ViewPointY>0.0<\/ViewPointDefShiftX>0.0<\/ViewPointDefShiftY>None<\/CompressionMethod>75<\/CompressionQuality>0.010000<\/CompressionTolerance>Bilinear<\/SamplingMethod><\/ImageServiceProperties><\/ImageServer>",
"allowedFields": "Name,MinPS,MaxPS,LowPS,HighPS,Tag,GroupName,ProductName,CenterX,CenterY,ZOrder,Shape_Length,Shape_Area",
"hasMultidimensions": false,
"pixelSizeX": 0.6521739130434073,
"pixelSizeY": 0.652173913043498,
"meanPixelSize": 0.6521739130434527,
"datasetFormat": "AMD",
"uncompressedSize": 336022536,
"blockWidth": 2048,
"blockHeight": 256,
"compressionType": "None",
"bandNames": [
"Band_1"
],
"allowCopy": true,
"allowAnalysis": true,
"itemAccess": false,
"inspectionCapabilities": "",
"minPixelSize": 0,
"maxPixelSize": 0,
"copyrightText": "NASA Disasters Program, MSFC, Commercial Satellite Data Acquisition (CSDA) Program, ICEYE.",
"serviceDataType": "esriImageServiceDataTypeGeneric",
"serviceSourceType": "esriImageServiceSourceTypeMosaicDataset",
"objectIdField": "OBJECTID",
"fields": [
{
"name": "OBJECTID",
"type": "esriFieldTypeOID",
"alias": "OBJECTID",
"domain": null
},
{
"name": "Shape",
"type": "esriFieldTypeGeometry",
"alias": "Shape",
"domain": null
},
{
"name": "Name",
"type": "esriFieldTypeString",
"alias": "Name",
"domain": null,
"length": 200
},
{
"name": "MinPS",
"type": "esriFieldTypeDouble",
"alias": "MinPS",
"domain": null
},
{
"name": "MaxPS",
"type": "esriFieldTypeDouble",
"alias": "MaxPS",
"domain": null
},
{
"name": "LowPS",
"type": "esriFieldTypeDouble",
"alias": "LowPS",
"domain": null
},
{
"name": "HighPS",
"type": "esriFieldTypeDouble",
"alias": "HighPS",
"domain": null
},
{
"name": "Category",
"type": "esriFieldTypeInteger",
"alias": "Category",
"domain": {
"type": "codedValue",
"name": "MosaicCatalogItemCategoryDomain",
"description": "Catalog item categories.",
"codedValues": [
{
"name": "Unknown",
"code": 0
},
{
"name": "Primary",
"code": 1
},
{
"name": "Overview",
"code": 2
},
{
"name": "Unprocessed Overview",
"code": 3
},
{
"name": "Partial Overview",
"code": 4
},
{
"name": "Inactive",
"code": 5
},
{
"name": "Uploaded",
"code": 253
},
{
"name": "Incomplete",
"code": 254
},
{
"name": "Custom",
"code": 255
}
],
"mergePolicy": "esriMPTDefaultValue",
"splitPolicy": "esriSPTDefaultValue"
}
},
{
"name": "Tag",
"type": "esriFieldTypeString",
"alias": "Tag",
"domain": null,
"length": 100
},
{
"name": "GroupName",
"type": "esriFieldTypeString",
"alias": "GroupName",
"domain": null,
"length": 100
},
{
"name": "ProductName",
"type": "esriFieldTypeString",
"alias": "ProductName",
"domain": null,
"length": 100
},
{
"name": "CenterX",
"type": "esriFieldTypeDouble",
"alias": "CenterX",
"domain": null
},
{
"name": "CenterY",
"type": "esriFieldTypeDouble",
"alias": "CenterY",
"domain": null
},
{
"name": "ZOrder",
"type": "esriFieldTypeInteger",
"alias": "ZOrder",
"domain": null
},
{
"name": "Shape_Length",
"type": "esriFieldTypeDouble",
"alias": "Shape_Length",
"domain": null
},
{
"name": "Shape_Area",
"type": "esriFieldTypeDouble",
"alias": "Shape_Area",
"domain": null
}
],
"capabilities": "Catalog,Mensuration,Image,Metadata",
"defaultMosaicMethod": "Northwest",
"allowedMosaicMethods": "NorthWest,Center,LockRaster,ByAttribute,Nadir,Viewpoint,Seamline,None",
"sortField": "",
"sortValue": null,
"sortAscending": true,
"mosaicOperator": "First",
"maxDownloadSizeLimit": 2048,
"defaultCompressionQuality": 75,
"defaultResamplingMethod": "Bilinear",
"maxImageHeight": 4100,
"maxImageWidth": 15000,
"maxRecordCount": 1000,
"maxDownloadImageCount": 20,
"maxMosaicImageCount": 20,
"allowRasterFunction": true,
"rasterFunctionInfos": [
{
"name": "iceye_hawaii",
"description": "iceye_hawaii",
"help": ""
},
{
"name": "None",
"description": "Make a Raster or Raster Dataset into a Function Raster Dataset.",
"help": ""
}
],
"rasterTypeInfos": [
{
"name": "Raster Dataset",
"description": "Supports all ArcGIS Raster Datasets",
"help": ""
}
],
"mensurationCapabilities": "",
"hasHistograms": true,
"hasColormap": false,
"hasRasterAttributeTable": false,
"minScale": 0,
"maxScale": 0,
"exportTilesAllowed": false,
"supportsStatistics": true,
"supportsAdvancedQueries": true,
"editFieldsInfo": null,
"ownershipBasedAccessControlForRasters": null,
"allowComputeTiePoints": false,
"useStandardizedQueries": true,
"advancedQueryCapabilities": {
"useStandardizedQueries": true,
"supportsStatistics": true,
"supportsOrderBy": true,
"supportsDistinct": true,
"supportsPagination": true
},
"spatialReference": {
"wkid": 102100,
"latestWkid": 3857
},
"resampling": false
}