Dates of Images:<\/SPAN><\/P>Post-Event: <\/SPAN><\/P>Pre-Event: <\/SPAN>April 5, 2026<\/SPAN><\/P>Date of Next Image:<\/SPAN><\/P>Unknown<\/SPAN><\/P>Summary:<\/SPAN><\/P>Natural Color: The Natural Color RGB provides a false composite look at the surface. This RGB uses a shortwave, the near-infrared, and red channels from the instrument.<\/SPAN><\/P>True Color: The True Color RGB composite provides a product of how the surface would look to the naked eye from space. The RGB is created using the red, green, and blue channels of the respective instrument.<\/SPAN><\/P>Suggested Use:<\/SPAN><\/P>Natural Color: areas of water will appear blue, healthy green vegetation will appear as a bright green, urban areas in various shades of magenta.<\/SPAN><\/P>True Color: provides a product of how the surface would look to the naked eye from space. The True Color RGB is produced using the 3 visible wavelength bands (red, green, and blue) from the respective sensor. Some minor atmospheric corrections have occurred.<\/SPAN><\/P>Satellite/Sensor:<\/SPAN><\/P>Landsat 9 Operational Land Imager (OLI)<\/SPAN><\/P>Resolution:<\/SPAN><\/P>30 meters<\/SPAN><\/P>Credits:<\/SPAN><\/P>NASA/MSFC, USGS<\/SPAN><\/P>Esri REST Endpoint:<\/SPAN><\/P>See URL section on right side of page<\/SPAN><\/P>WMS Endpoint:<\/SPAN><\/P><\/P><\/DIV><\/DIV><\/DIV>",
"serviceItemId": "558683c5dafe42c3a897dfc088b5e4ce",
"name": "DISASTERS_202604_TYPHON_SINLAKU/202606_landsat",
"description": "
Dates of Images:<\/SPAN><\/P>Post-Event: <\/SPAN><\/P>Pre-Event: <\/SPAN>April 5, 2026<\/SPAN><\/P>Date of Next Image:<\/SPAN><\/P>Unknown<\/SPAN><\/P>Summary:<\/SPAN><\/P>Natural Color: The Natural Color RGB provides a false composite look at the surface. This RGB uses a shortwave, the near-infrared, and red channels from the instrument.<\/SPAN><\/P>True Color: The True Color RGB composite provides a product of how the surface would look to the naked eye from space. The RGB is created using the red, green, and blue channels of the respective instrument.<\/SPAN><\/P>Suggested Use:<\/SPAN><\/P>Natural Color: areas of water will appear blue, healthy green vegetation will appear as a bright green, urban areas in various shades of magenta.<\/SPAN><\/P>True Color: provides a product of how the surface would look to the naked eye from space. The True Color RGB is produced using the 3 visible wavelength bands (red, green, and blue) from the respective sensor. Some minor atmospheric corrections have occurred.<\/SPAN><\/P>Satellite/Sensor:<\/SPAN><\/P>Landsat 9 Operational Land Imager (OLI)<\/SPAN><\/P>Resolution:<\/SPAN><\/P>30 meters<\/SPAN><\/P>Credits:<\/SPAN><\/P>NASA/MSFC, USGS<\/SPAN><\/P>Esri REST Endpoint:<\/SPAN><\/P>See URL section on right side of page<\/SPAN><\/P>WMS Endpoint:<\/SPAN><\/P><\/P><\/DIV><\/DIV><\/DIV>",
"extent": {
"xmin": 1.6047116489200003E7,
"ymin": 1339505.151677878,
"xmax": 1.6357583487801962E7,
"ymax": 1915416.0995999984,
"spatialReference": {
"wkid": 102100,
"latestWkid": 3857
}
},
"initialExtent": {
"xmin": 1.6047116489200003E7,
"ymin": 1339505.151677878,
"xmax": 1.6357583487801962E7,
"ymax": 1915416.0995999984,
"spatialReference": {
"wkid": 102100,
"latestWkid": 3857
}
},
"fullExtent": {
"xmin": 1.6047116489200003E7,
"ymin": 1339505.151677878,
"xmax": 1.6357583487801962E7,
"ymax": 1915416.0995999984,
"spatialReference": {
"wkid": 102100,
"latestWkid": 3857
}
},
"sortableFields": "MinPS,MaxPS,LowPS,HighPS,CenterX,CenterY,ZOrder,Shape_Length,Shape_Area",
"bandCount": 4,
"pixelType": "U8",
"minValues": [
3,
3,
3,
255
],
"maxValues": [
255,
255,
255,
255
],
"meanValues": [
4.27670981462831,
6.309435576710651,
4.375077246769883,
255
],
"stdvValues": [
6.2476609919568205,
8.137670177634504,
5.2531965220454,
0
],
"serviceProperties": "NorthWest<\/MosaicMethod>First<\/MosaicOperator>true<\/SortAscending><\/LockImageID>Name<\/TileOrderField>0<\/TileOrderBase>600.000000<\/AvgImageSpacingX>300.000000<\/AvgImageSpacingY>0.0<\/ViewPointX>0.0<\/ViewPointY>0.0<\/ViewPointDefShiftX>0.0<\/ViewPointDefShiftY>None<\/CompressionMethod>75<\/CompressionQuality>0.010000<\/CompressionTolerance>Bilinear<\/SamplingMethod><\/ImageServiceProperties><\/ImageServer>",
"allowedFields": "Name,MinPS,MaxPS,LowPS,HighPS,Tag,GroupName,ProductName,CenterX,CenterY,ZOrder,Shape_Length,Shape_Area,Date",
"hasMultidimensions": false,
"pixelSizeX": 30.482768640349352,
"pixelSizeY": 30.482768640349352,
"meanPixelSize": 30.482768640349352,
"datasetFormat": "AMD",
"uncompressedSize": 769700820,
"blockWidth": 2048,
"blockHeight": 256,
"compressionType": "None",
"bandNames": [
"Band_1",
"Band_2",
"Band_3",
"Band_4"
],
"allowCopy": true,
"allowAnalysis": true,
"itemAccess": false,
"inspectionCapabilities": "",
"minPixelSize": 0,
"maxPixelSize": 0,
"copyrightText": "NASA/MSFC, USGS",
"serviceDataType": "esriImageServiceDataTypeGeneric",
"serviceSourceType": "esriImageServiceSourceTypeMosaicDataset",
"objectIdField": "OBJECTID",
"fields": [
{
"name": "OBJECTID",
"type": "esriFieldTypeOID",
"alias": "OBJECTID",
"domain": null
},
{
"name": "Shape",
"type": "esriFieldTypeGeometry",
"alias": "Shape",
"domain": null
},
{
"name": "Name",
"type": "esriFieldTypeString",
"alias": "Name",
"domain": null,
"length": 200
},
{
"name": "MinPS",
"type": "esriFieldTypeDouble",
"alias": "MinPS",
"domain": null
},
{
"name": "MaxPS",
"type": "esriFieldTypeDouble",
"alias": "MaxPS",
"domain": null
},
{
"name": "LowPS",
"type": "esriFieldTypeDouble",
"alias": "LowPS",
"domain": null
},
{
"name": "HighPS",
"type": "esriFieldTypeDouble",
"alias": "HighPS",
"domain": null
},
{
"name": "Category",
"type": "esriFieldTypeInteger",
"alias": "Category",
"domain": {
"type": "codedValue",
"name": "MosaicCatalogItemCategoryDomain",
"description": "Catalog item categories.",
"codedValues": [
{
"name": "Unknown",
"code": 0
},
{
"name": "Primary",
"code": 1
},
{
"name": "Overview",
"code": 2
},
{
"name": "Unprocessed Overview",
"code": 3
},
{
"name": "Partial Overview",
"code": 4
},
{
"name": "Inactive",
"code": 5
},
{
"name": "Uploaded",
"code": 253
},
{
"name": "Incomplete",
"code": 254
},
{
"name": "Custom",
"code": 255
}
],
"mergePolicy": "esriMPTDefaultValue",
"splitPolicy": "esriSPTDefaultValue"
}
},
{
"name": "Tag",
"type": "esriFieldTypeString",
"alias": "Tag",
"domain": null,
"length": 100
},
{
"name": "GroupName",
"type": "esriFieldTypeString",
"alias": "GroupName",
"domain": null,
"length": 100
},
{
"name": "ProductName",
"type": "esriFieldTypeString",
"alias": "ProductName",
"domain": null,
"length": 100
},
{
"name": "CenterX",
"type": "esriFieldTypeDouble",
"alias": "CenterX",
"domain": null
},
{
"name": "CenterY",
"type": "esriFieldTypeDouble",
"alias": "CenterY",
"domain": null
},
{
"name": "ZOrder",
"type": "esriFieldTypeInteger",
"alias": "ZOrder",
"domain": null
},
{
"name": "Date",
"type": "esriFieldTypeDateOnly",
"alias": "Date",
"domain": null
},
{
"name": "Shape_Length",
"type": "esriFieldTypeDouble",
"alias": "Shape_Length",
"domain": null
},
{
"name": "Shape_Area",
"type": "esriFieldTypeDouble",
"alias": "Shape_Area",
"domain": null
}
],
"capabilities": "Image,Metadata,Mensuration,Catalog",
"defaultMosaicMethod": "Northwest",
"allowedMosaicMethods": "NorthWest,Center,LockRaster,ByAttribute,Nadir,Viewpoint,Seamline,None",
"sortField": "",
"sortValue": null,
"sortAscending": true,
"mosaicOperator": "First",
"maxDownloadSizeLimit": 2048,
"defaultCompressionQuality": 75,
"defaultResamplingMethod": "Bilinear",
"maxImageHeight": 4100,
"maxImageWidth": 15000,
"maxRecordCount": 1000,
"maxDownloadImageCount": 20,
"maxMosaicImageCount": 20,
"allowRasterFunction": true,
"rasterFunctionInfos": [
{
"name": "landsatimagery",
"description": "landsatimagery",
"help": ""
},
{
"name": "None",
"description": "Make a Raster or Raster Dataset into a Function Raster Dataset.",
"help": ""
}
],
"rasterTypeInfos": [
{
"name": "Raster Dataset",
"description": "Supports all ArcGIS Raster Datasets",
"help": ""
}
],
"mensurationCapabilities": "Basic",
"hasHistograms": true,
"hasColormap": false,
"hasRasterAttributeTable": false,
"minScale": 0,
"maxScale": 0,
"exportTilesAllowed": false,
"supportsStatistics": true,
"supportsAdvancedQueries": true,
"editFieldsInfo": null,
"ownershipBasedAccessControlForRasters": null,
"allowComputeTiePoints": false,
"useStandardizedQueries": true,
"advancedQueryCapabilities": {
"useStandardizedQueries": true,
"supportsStatistics": true,
"supportsOrderBy": true,
"supportsDistinct": true,
"supportsPagination": true
},
"spatialReference": {
"wkid": 102100,
"latestWkid": 3857
}
}