Dates of Images<\/SPAN><\/P>Post-Event: 5/21/2026<\/SPAN><\/P>Summary<\/SPAN><\/P>Skysat is a high-resolution satellite constellation operated by Planet and allows for multiple viewing opportunities of any location on Earth daily. Skysat collects 4-band imagery which allows for multiple derived products to be produced.<\/SPAN><\/P>The True Color RGB composite provides a product of how the surface would look to the naked eye from space. The RGB is created using the red, green, and blue channels of the respective instrument.<\/SPAN><\/P>The Color Infrared composite is created using the near-infrared, red, and green channels. The near-infrared gives the ability to see through thin clouds. Healthy vegetation is shown as red, water is in blue.<\/SPAN><\/P>Resolution<\/SPAN><\/P>~1 m<\/SPAN><\/P>Credits<\/SPAN><\/P>NASA Disasters Program, Processing from MSFC, Planet. For derived products: \u201cIncludes copyrighted material of Skysat. All rights reserved.\u201d This work utilized data made available through the NASA Commercial Satellite Data Acquisition (CSDA) program.<\/SPAN><\/P><\/P><\/DIV><\/DIV><\/DIV>",
"serviceItemId": "114b192279834677b7ac69a508ef6169",
"name": "DISASTERS_202605_FIRE_CA/202609_skysat_ndvi",
"description": "
Dates of Images<\/span><\/p>Post-Event: 5/21/2026<\/span><\/p>Summary<\/span><\/p>Skysat is a high-resolution satellite constellation operated by Planet and allows for multiple viewing opportunities of any location on Earth daily. Skysat collects 4-band imagery which allows for multiple derived products to be produced.<\/span><\/p>Normalized Differential Vegetation Index (NDVI) maps are produced by converting pixel values to NDVI = (Red \u2013 NIR)/(Red + NIR), NIR indicates the near infrared band. The dynamically generated Normalized Difference Vegetation Index (NDVI) layer is an index for quantifying green vegetation. It reflects the state of vegetation health based on how vegetation reflects light at certain wavelengths.<\/p>
Suggested Use:<\/span><\/p>NDVI: Dark green colors are areas with a lot of green leaf growth which indicates the presence of chlorophyll. Chlorophyll reflects more infrared light and less visible light. Areas with some green leaf growth are in light greens, and areas with little to no vegetation growth are even lighter greens.<\/p>
Resolution<\/span><\/p>~1 m<\/span><\/p>Credits<\/span><\/p>NASA Disasters Program, Processing from MSFC, Planet. For derived products: \u201cIncludes copyrighted material of Skysat. All rights reserved.\u201d This work utilized data made available through the NASA Commercial Satellite Data Acquisition (CSDA) program.<\/span><\/p><\/span><\/p><\/div>",
"extent": {
"xmin": -1.33967877369E7,
"ymin": 4010735.5915871356,
"xmax": -1.3346068692365784E7,
"ymax": 4040231.867700003,
"spatialReference": {
"wkid": 102100,
"latestWkid": 3857
}
},
"initialExtent": {
"xmin": -1.33967877369E7,
"ymin": 4010735.5915871356,
"xmax": -1.3346068692365784E7,
"ymax": 4040231.867700003,
"spatialReference": {
"wkid": 102100,
"latestWkid": 3857
}
},
"fullExtent": {
"xmin": -1.33967877369E7,
"ymin": 4010735.5915871356,
"xmax": -1.3346068692365784E7,
"ymax": 4040231.867700003,
"spatialReference": {
"wkid": 102100,
"latestWkid": 3857
}
},
"sortableFields": "MinPS,MaxPS,LowPS,HighPS,CenterX,CenterY,ZOrder,Shape_Length,Shape_Area",
"bandCount": 1,
"pixelType": "F32",
"minValues": [
-0.9488577246665955
],
"maxValues": [
0.8577783107757568
],
"meanValues": [
-0.005666680622442693
],
"stdvValues": [
0.2741403756110546
],
"serviceProperties": "NorthWest<\/MosaicMethod>First<\/MosaicOperator>true<\/SortAscending><\/LockImageID>Name<\/TileOrderField>0<\/TileOrderBase>600.000000<\/AvgImageSpacingX>300.000000<\/AvgImageSpacingY>0.0<\/ViewPointX>0.0<\/ViewPointY>0.0<\/ViewPointDefShiftX>0.0<\/ViewPointDefShiftY>None<\/CompressionMethod>75<\/CompressionQuality>0.010000<\/CompressionTolerance>Bilinear<\/SamplingMethod><\/ImageServiceProperties><\/ImageServer>",
"allowedFields": "Name,MinPS,MaxPS,LowPS,HighPS,Tag,GroupName,ProductName,CenterX,CenterY,ZOrder,Shape_Length,Shape_Area",
"hasMultidimensions": false,
"pixelSizeX": 0.5773960284402011,
"pixelSizeY": 0.5773960284401981,
"meanPixelSize": 0.5773960284401995,
"datasetFormat": "AMD",
"uncompressedSize": 17949429940,
"blockWidth": 2048,
"blockHeight": 256,
"compressionType": "None",
"bandNames": [
"Band_1"
],
"allowCopy": true,
"allowAnalysis": true,
"itemAccess": false,
"inspectionCapabilities": "",
"minPixelSize": 0,
"maxPixelSize": 0,
"copyrightText": "NASA Disasters Program, Processing from MSFC, Planet. For derived products: \u201cIncludes copyrighted material of Skysat. All rights reserved.\u201d This work utilized data made available through the NASA Commercial Satellite Data Acquisition (CSDA) program.",
"serviceDataType": "esriImageServiceDataTypeGeneric",
"serviceSourceType": "esriImageServiceSourceTypeMosaicDataset",
"objectIdField": "OBJECTID",
"fields": [
{
"name": "OBJECTID",
"type": "esriFieldTypeOID",
"alias": "OBJECTID",
"domain": null
},
{
"name": "Shape",
"type": "esriFieldTypeGeometry",
"alias": "Shape",
"domain": null
},
{
"name": "Name",
"type": "esriFieldTypeString",
"alias": "Name",
"domain": null,
"length": 200
},
{
"name": "MinPS",
"type": "esriFieldTypeDouble",
"alias": "MinPS",
"domain": null
},
{
"name": "MaxPS",
"type": "esriFieldTypeDouble",
"alias": "MaxPS",
"domain": null
},
{
"name": "LowPS",
"type": "esriFieldTypeDouble",
"alias": "LowPS",
"domain": null
},
{
"name": "HighPS",
"type": "esriFieldTypeDouble",
"alias": "HighPS",
"domain": null
},
{
"name": "Category",
"type": "esriFieldTypeInteger",
"alias": "Category",
"domain": {
"type": "codedValue",
"name": "MosaicCatalogItemCategoryDomain",
"description": "Catalog item categories.",
"codedValues": [
{
"name": "Unknown",
"code": 0
},
{
"name": "Primary",
"code": 1
},
{
"name": "Overview",
"code": 2
},
{
"name": "Unprocessed Overview",
"code": 3
},
{
"name": "Partial Overview",
"code": 4
},
{
"name": "Inactive",
"code": 5
},
{
"name": "Uploaded",
"code": 253
},
{
"name": "Incomplete",
"code": 254
},
{
"name": "Custom",
"code": 255
}
],
"mergePolicy": "esriMPTDefaultValue",
"splitPolicy": "esriSPTDefaultValue"
}
},
{
"name": "Tag",
"type": "esriFieldTypeString",
"alias": "Tag",
"domain": null,
"length": 100
},
{
"name": "GroupName",
"type": "esriFieldTypeString",
"alias": "GroupName",
"domain": null,
"length": 100
},
{
"name": "ProductName",
"type": "esriFieldTypeString",
"alias": "ProductName",
"domain": null,
"length": 100
},
{
"name": "CenterX",
"type": "esriFieldTypeDouble",
"alias": "CenterX",
"domain": null
},
{
"name": "CenterY",
"type": "esriFieldTypeDouble",
"alias": "CenterY",
"domain": null
},
{
"name": "ZOrder",
"type": "esriFieldTypeInteger",
"alias": "ZOrder",
"domain": null
},
{
"name": "Shape_Length",
"type": "esriFieldTypeDouble",
"alias": "Shape_Length",
"domain": null
},
{
"name": "Shape_Area",
"type": "esriFieldTypeDouble",
"alias": "Shape_Area",
"domain": null
}
],
"capabilities": "Image,Metadata,Catalog",
"defaultMosaicMethod": "Northwest",
"allowedMosaicMethods": "NorthWest,Center,LockRaster,ByAttribute,Nadir,Viewpoint,Seamline,None",
"sortField": "",
"sortValue": null,
"sortAscending": true,
"mosaicOperator": "First",
"maxDownloadSizeLimit": 2048,
"defaultCompressionQuality": 75,
"defaultResamplingMethod": "Bilinear",
"maxImageHeight": 4100,
"maxImageWidth": 15000,
"maxRecordCount": 1000,
"maxDownloadImageCount": 20,
"maxMosaicImageCount": 20,
"allowRasterFunction": true,
"rasterFunctionInfos": [
{
"name": "ndvi_sinlaku",
"description": "1 green 0 white",
"help": ""
},
{
"name": "None",
"description": "Make a Raster or Raster Dataset into a Function Raster Dataset.",
"help": ""
}
],
"rasterTypeInfos": [
{
"name": "Raster Dataset",
"description": "Supports all ArcGIS Raster Datasets",
"help": ""
}
],
"mensurationCapabilities": "",
"hasHistograms": true,
"hasColormap": false,
"hasRasterAttributeTable": false,
"minScale": 0,
"maxScale": 0,
"exportTilesAllowed": false,
"supportsStatistics": true,
"supportsAdvancedQueries": true,
"editFieldsInfo": null,
"ownershipBasedAccessControlForRasters": null,
"allowComputeTiePoints": false,
"useStandardizedQueries": true,
"advancedQueryCapabilities": {
"useStandardizedQueries": true,
"supportsStatistics": true,
"supportsOrderBy": true,
"supportsDistinct": true,
"supportsPagination": true
},
"spatialReference": {
"wkid": 102100,
"latestWkid": 3857
}
}