Dates of Images:<\/SPAN><\/P>Post-Event:<\/SPAN><\/P>Pre-Event: 3/2/2026, 4/28/2026<\/SPAN><\/P>Date of Next Image:<\/SPAN><\/P>Unknown<\/SPAN><\/P>Summary:<\/SPAN><\/P>True Color: The True Color RGB composite provides a product of how the surface would look to the naked eye from space. The RGB is created using the red, green, and blue channels of the respective instrument.<\/SPAN><\/P>Color Infrared: The Color Infrared composite is created using the near-infrared, red, and green channels, allowing for the ability to see areas impacted from the fires. The near-infrared gives the ability to see through thin clouds. Healthy vegetation is shown as red, water is in blue.<\/SPAN><\/P>Suggested Use:<\/SPAN><\/P>True Color: provides a product of how the surface would look to the naked eye from space. The True Color RGB is produced using the 3 visible wavelength bands (red, green, and blue) from the respective sensor. Some minor atmospheric corrections have occurred.<\/SPAN><\/P>Color Infrared: depicts healthy vegetation as red, water as blue. Some minor atmospheric corrections have occurred.<\/SPAN><\/P>Satellite/Sensor:<\/SPAN><\/P>Landsat 8 Operational Land Imager (OLI), Landsat 9 Operational Land Imager (OLI-2)<\/SPAN><\/P>Resolution:<\/SPAN><\/P>30 meters<\/SPAN><\/P>Credits:<\/SPAN><\/P>NASA/MSFC, USGS<\/SPAN><\/P>Esri REST Endpoint:<\/SPAN><\/P>See URL section on right side of page<\/SPAN><\/P>WMS Endpoint:<\/SPAN><\/P>https://gis.earthdata.nasa.gov/gis05/services/DISASTERS_202601_WINTERWX_US/202601_landsat/ImageServer/WMSServer<\/SPAN><\/P><\/DIV><\/DIV><\/DIV>",
"serviceItemId": "1e0a2fe0b2c84619b85177fda198a003",
"name": "DISASTERS_202606_EARTHQUAKE_VENEZUELA/202611_landsat",
"description": "Dates of Images:<\/span><\/p>Post-Event:<\/span><\/p>Pre-Event: 3/2/2026, 4/28/2026<\/span><\/p>Date of Next Image:<\/span><\/p>Unknown<\/span><\/p>Summary:<\/span><\/p>True Color: The True Color RGB composite provides a product of how the surface would look to the naked eye from space. The RGB is created using the red, green, and blue channels of the respective instrument.<\/span><\/p>Color Infrared: The Color Infrared composite is created using the near-infrared, red, and green channels, allowing for the ability to see areas impacted from the fires. The near-infrared gives the ability to see through thin clouds. Healthy vegetation is shown as red, water is in blue.<\/span><\/p>Suggested Use:<\/span><\/p>True Color: provides a product of how the surface would look to the naked eye from space. The True Color RGB is produced using the 3 visible wavelength bands (red, green, and blue) from the respective sensor. Some minor atmospheric corrections have occurred.<\/span><\/p>Color Infrared: depicts healthy vegetation as red, water as blue. Some minor atmospheric corrections have occurred.<\/span><\/p>Satellite/Sensor:<\/span><\/p>Landsat 8 Operational Land Imager (OLI), Landsat 9 Operational Land Imager (OLI-2)<\/span><\/p>Resolution:<\/span><\/p>30 meters<\/span><\/p>Credits:<\/span><\/p>NASA/MSFC, USGS<\/span><\/p>Esri REST Endpoint:<\/span><\/p>See URL section on right side of page<\/span><\/p>WMS Endpoint:<\/span><\/p>https://gis.earthdata.nasa.gov/gis05/services/DISASTERS_202606_EARTHQUAKE_VENEZUELA/202611_landsat/ImageServer/WMSServer<\/a><\/p><\/div>",
"extent": {
"xmin": -7754366.3171,
"ymin": 1013150.2727999985,
"xmax": -7349186.3171,
"ymax": 1415630.2727999985,
"spatialReference": {
"wkid": 102100,
"latestWkid": 3857
}
},
"initialExtent": {
"xmin": -7754366.3171,
"ymin": 1013150.2727999985,
"xmax": -7349186.3171,
"ymax": 1415630.2727999985,
"spatialReference": {
"wkid": 102100,
"latestWkid": 3857
}
},
"fullExtent": {
"xmin": -7754366.3171,
"ymin": 1013150.2727999985,
"xmax": -7349186.3171,
"ymax": 1415630.2727999985,
"spatialReference": {
"wkid": 102100,
"latestWkid": 3857
}
},
"sortableFields": "MinPS,MaxPS,LowPS,HighPS,CenterX,CenterY,ZOrder,Shape_Length,Shape_Area",
"bandCount": 3,
"pixelType": "U8",
"minValues": [
0,
0,
0
],
"maxValues": [
255,
255,
255
],
"meanValues": [
67.39324302117817,
67.35485521982548,
48.6603862402352
],
"stdvValues": [
64.97710076456572,
62.29934238761251,
60.59924073616176
],
"serviceProperties": "NorthWest<\/MosaicMethod>First<\/MosaicOperator>true<\/SortAscending><\/LockImageID>Name<\/TileOrderField>0<\/TileOrderBase>600.000000<\/AvgImageSpacingX>300.000000<\/AvgImageSpacingY>0.0<\/ViewPointX>0.0<\/ViewPointY>0.0<\/ViewPointDefShiftX>0.0<\/ViewPointDefShiftY>None<\/CompressionMethod>75<\/CompressionQuality>0.010000<\/CompressionTolerance>Bilinear<\/SamplingMethod><\/ImageServiceProperties><\/ImageServer>",
"allowedFields": "Name,MinPS,MaxPS,LowPS,HighPS,Tag,GroupName,ProductName,CenterX,CenterY,ZOrder,Shape_Length,Shape_Area,Date",
"hasMultidimensions": false,
"pixelSizeX": 30,
"pixelSizeY": 30,
"meanPixelSize": 30,
"datasetFormat": "AMD",
"uncompressedSize": 543589488,
"blockWidth": 2048,
"blockHeight": 256,
"compressionType": "None",
"bandNames": [
"Band_1",
"Band_2",
"Band_3"
],
"allowCopy": true,
"allowAnalysis": true,
"itemAccess": false,
"inspectionCapabilities": "",
"minPixelSize": 0,
"maxPixelSize": 0,
"copyrightText": "NASA/MSFC, USGS",
"serviceDataType": "esriImageServiceDataTypeRGB",
"serviceSourceType": "esriImageServiceSourceTypeMosaicDataset",
"objectIdField": "OBJECTID",
"fields": [
{
"name": "OBJECTID",
"type": "esriFieldTypeOID",
"alias": "OBJECTID",
"domain": null
},
{
"name": "Shape",
"type": "esriFieldTypeGeometry",
"alias": "Shape",
"domain": null
},
{
"name": "Name",
"type": "esriFieldTypeString",
"alias": "Name",
"domain": null,
"length": 200
},
{
"name": "MinPS",
"type": "esriFieldTypeDouble",
"alias": "MinPS",
"domain": null
},
{
"name": "MaxPS",
"type": "esriFieldTypeDouble",
"alias": "MaxPS",
"domain": null
},
{
"name": "LowPS",
"type": "esriFieldTypeDouble",
"alias": "LowPS",
"domain": null
},
{
"name": "HighPS",
"type": "esriFieldTypeDouble",
"alias": "HighPS",
"domain": null
},
{
"name": "Category",
"type": "esriFieldTypeInteger",
"alias": "Category",
"domain": {
"type": "codedValue",
"name": "MosaicCatalogItemCategoryDomain",
"description": "Catalog item categories.",
"codedValues": [
{
"name": "Unknown",
"code": 0
},
{
"name": "Primary",
"code": 1
},
{
"name": "Overview",
"code": 2
},
{
"name": "Unprocessed Overview",
"code": 3
},
{
"name": "Partial Overview",
"code": 4
},
{
"name": "Inactive",
"code": 5
},
{
"name": "Uploaded",
"code": 253
},
{
"name": "Incomplete",
"code": 254
},
{
"name": "Custom",
"code": 255
}
],
"mergePolicy": "esriMPTDefaultValue",
"splitPolicy": "esriSPTDefaultValue"
}
},
{
"name": "Tag",
"type": "esriFieldTypeString",
"alias": "Tag",
"domain": null,
"length": 100
},
{
"name": "GroupName",
"type": "esriFieldTypeString",
"alias": "GroupName",
"domain": null,
"length": 100
},
{
"name": "ProductName",
"type": "esriFieldTypeString",
"alias": "ProductName",
"domain": null,
"length": 100
},
{
"name": "CenterX",
"type": "esriFieldTypeDouble",
"alias": "CenterX",
"domain": null
},
{
"name": "CenterY",
"type": "esriFieldTypeDouble",
"alias": "CenterY",
"domain": null
},
{
"name": "ZOrder",
"type": "esriFieldTypeInteger",
"alias": "ZOrder",
"domain": null
},
{
"name": "Date",
"type": "esriFieldTypeDateOnly",
"alias": "Date",
"domain": null
},
{
"name": "Shape_Length",
"type": "esriFieldTypeDouble",
"alias": "Shape_Length",
"domain": null
},
{
"name": "Shape_Area",
"type": "esriFieldTypeDouble",
"alias": "Shape_Area",
"domain": null
}
],
"capabilities": "Image,Metadata,Mensuration,Catalog",
"defaultMosaicMethod": "Northwest",
"allowedMosaicMethods": "NorthWest,Center,LockRaster,ByAttribute,Nadir,Viewpoint,Seamline,None",
"sortField": "",
"sortValue": null,
"sortAscending": true,
"mosaicOperator": "First",
"maxDownloadSizeLimit": 2048,
"defaultCompressionQuality": 75,
"defaultResamplingMethod": "Bilinear",
"maxImageHeight": 4100,
"maxImageWidth": 15000,
"maxRecordCount": 1000,
"maxDownloadImageCount": 20,
"maxMosaicImageCount": 20,
"allowRasterFunction": true,
"rasterFunctionInfos": [
{
"name": "None",
"description": "",
"help": ""
}
],
"rasterTypeInfos": [
{
"name": "Raster Dataset",
"description": "Supports all ArcGIS Raster Datasets",
"help": ""
}
],
"mensurationCapabilities": "Basic",
"hasHistograms": true,
"hasColormap": false,
"hasRasterAttributeTable": false,
"minScale": 0,
"maxScale": 0,
"exportTilesAllowed": false,
"supportsStatistics": true,
"supportsAdvancedQueries": true,
"editFieldsInfo": null,
"ownershipBasedAccessControlForRasters": null,
"allowComputeTiePoints": false,
"useStandardizedQueries": true,
"advancedQueryCapabilities": {
"useStandardizedQueries": true,
"supportsStatistics": true,
"supportsOrderBy": true,
"supportsDistinct": true,
"supportsPagination": true
},
"spatialReference": {
"wkid": 102100,
"latestWkid": 3857
}
}