{ "currentVersion": 11.5, "serviceDescription": "

Displacement maps from Sentinel-1 ascending track 033, acquired on 2026/06/25<\/SPAN><\/P>
EARTHQUAKE OVERVIEW (Source: USGS):<\/SPAN><\/P>
Dates of Images:<\/SPAN><\/P>
June 24, 2026; June 25, 2026<\/SPAN><\/P>
Summary:<\/SPAN><\/P>
On June 24, 2026, northwestern and central Venezuela was struck by two large strike-slip earthquakes occurring just 39 seconds apart:<\/SPAN><\/P>
  • Foreshock: Magnitude 7.2 at 22:04:33 (UTC), located 23 km SE of Yumare, Venezuela <\/SPAN><\/P><\/LI>
  • Mainshock: Magnitude 7.5 at 22:05:11 (UTC), located 28 km SE of Yumare, Venezuela (10.435°N, 68.472°W)<\/SPAN><\/P><\/LI><\/UL>
    Scientists working with the Advanced Rapid Imaging and Analysis (ARIA) team at NASA's Jet Propulsion Laboratory and California Institute of Technology, both in Pasadena, California, created these displacement maps with measurements of surface displacements caused by the earthquake sequence. The maps were derived from synthetic aperture radar (SAR) images from the Copernicus Sentinel-1 satellites, operated by the European Space Agency (ESA). The team computed the phase difference between a post-event image acquired on June 25, 2026 (reference scene) with a pre-event image acquired on June 18, 2026 (secondary scene), on Sentinel-1 ascending (satellite moving north) track 033. <\/SPAN><\/P>
    Interferometric Synthetic Aperture Radar (InSAR) measures ground movement toward or away from the satellite. Sentinel-1 views the ground from the side at about 40° from vertical. On ascending passes, it travels slightly west of north (heading â\u2030ˆ 348° or âˆ\u201912°) and looks to the east. On descending passes, it travels slightly southwest (heading â\u2030ˆ 192°) and looks to the west. The full dataset covers an area centered on the earthquake epicenter. Each pixel measures approximately 30 meters across.<\/SPAN><\/P>
    Suggested Use:<\/SPAN><\/P>
    1. Line-of-Sight Displacement (Venezuela_S1_A033_20260618_20260625_UNW.tif): Unwrapped phase data converted to metric displacement along the radar line-of-sight. Positive values (blue) indicate ground movement towards from the satellite (uplift and/or westward motion), while negative values (red) indicate movement away from the satellite (subsidence and/or eastward motion). Units: meters. The dataset has been re-referenced to a stable point at coordinates (-68.5435°, 10.9696°). Areas of low coherence and water bodies have been masked.<\/SPAN><\/P><\/LI>
    2. Wrapped Phase (Venezuela_S1_A033_20260618_20260625_WRP.tif): Wrapped phase map showing relative ground deformation where each \"fringe\" or complete color cycle represents approximately 2.8 cm of displacement along the line-of-sight (half the Sentinel-1 C-band wavelength of 5.56 cm). The color progression from (outward to inward) red, orange, yellow, green, and blue indicates ground is moving away from the satellite, blue, green,yellow, orange, and red means ground is moving towards the satellite. This visualization is useful for identifying the spatial pattern and magnitude of deformation.<\/SPAN><\/P><\/LI>
    3. Range Offset (Venezuela_S1_A033_20260618_20260625_RNG.tif): Across-track (range direction) pixel offsets measured through amplitude cross-correlation. This represents ground displacement perpendicular to the satellite flight path, predominantly capturing east-west motion. Positive values (blue) indicate westward movement, negative values (red) indicate eastward movement. Units: meters. Water bodies and areas outside the valid data frame have been masked.<\/SPAN><\/P><\/LI>
    4. Interferometric Coherence (Venezuela_S1_A033_20260618_20260625_COH.tif): Measures the similarity of the radar phase between the two SAR acquisitions, indicating the reliability of the interferometric phase used to estimate ground displacement. Values range from 0 (decorrelated, unreliable) to 1 (highly correlated, reliable).<\/SPAN><\/P><\/LI><\/OL>
      Data Sources and Satellite Specifications:<\/SPAN><\/P>
      • Water masking: ESA World Cover 2021 land cover dataset was used to mask permanent water bodies<\/SPAN><\/P><\/LI>
      • Orbit direction: Ascending (A) - satellite moving north<\/SPAN><\/P><\/LI>
      • Track number: 033<\/SPAN><\/P><\/LI>
      • Wavelength: 5.56 cm (C-band)<\/SPAN><\/P><\/LI>
      • Spatial resolution: 30 meters<\/SPAN><\/P><\/LI>
      • Reference point: -68.5435°E, 10.9696°N<\/SPAN><\/P><\/LI>
      • Temporal baseline: 7 days (June 18-25, 2026)<\/SPAN><\/P><\/LI><\/UL>
        Caveats:<\/SPAN><\/P>
        The InSAR ground displacement results posted here are preliminary results, primarily intended to aid field response and provide rapid assessment of earthquake-induced surface deformation. These preliminary products may or may not be suitable for detailed scientific analysis without further validation. This displacement map should be used as guidance to identify areas of significant ground displacement, and may be less reliable over snow-covered and vegetated areas, steep terrain, or regions that experienced surface changes between acquisitions. <\/SPAN><\/P>
        The Sentinel-1 data products contain modified Copernicus Sentinel data (2026), processed by the European Space Agency and analyzed at the NASA Jet Propulsion Laboratory. For more information about ARIA, visit: http://aria.jpl.nasa.gov<\/SPAN><\/P>
        Credits:<\/SPAN><\/P>
        Sentinel-1 data were accessed through the Copernicus Open Hub and the Alaska Satellite Facility server. The product contains modified Copernicus Sentinel data (2026), processed by the European Space Agency and analyzed by the NASA-JPL/Caltech ARIA and OPERA team. The products are produced as part of the OPERA project, which is funded by NASA to address remote sensing needs identified by the Satellite Needs Working Group, and managed by NASA's Jet Propulsion Laboratory.<\/SPAN><\/P>
        Grace Bato, Cole Speed, Eric Fielding<\/SPAN><\/P>
        Esri REST Endpoint:<\/SPAN><\/P>
        See URL to the right<\/SPAN><\/P>
        WMS Endpoint:<\/SPAN><\/P>
        <\/P><\/DIV><\/DIV><\/DIV>", "serviceItemId": "ac38176801da456497f2e2cdb71b5b2f", "name": "DISASTERS_202606_EARTHQUAKE_VENEZUELA/202611_opera_displacement", "description": "

        Displacement maps from Sentinel-1 ascending track 033, acquired on 2026/06/25<\/span><\/p>
        Dates of Images:<\/span><\/p>
        June 24, 2026; June 25, 2026<\/span><\/p>
        Summary:<\/span><\/p>
        EARTHQUAKE OVERVIEW (Source: USGS): On June 24, 2026, northwestern and central Venezuela was struck by two large strike-slip earthquakes occurring just 39 seconds apart:<\/span><\/p>
        • Foreshock: Magnitude 7.2 at 22:04:33 (UTC), located 23 km SE of Yumare, Venezuela <\/span><\/p><\/li>
        • Mainshock: Magnitude 7.5 at 22:05:11 (UTC), located 28 km SE of Yumare, Venezuela (10.435°N, 68.472°W)<\/span><\/p><\/li><\/ul>
          Scientists working with the Advanced Rapid Imaging and Analysis (ARIA) team at NASA's Jet Propulsion Laboratory and California Institute of Technology, both in Pasadena, California, created these displacement maps with measurements of surface displacements caused by the earthquake sequence. The maps were derived from synthetic aperture radar (SAR) images from the Copernicus Sentinel-1 satellites, operated by the European Space Agency (ESA). The team computed the phase difference between a post-event image acquired on June 25, 2026 (reference scene) with a pre-event image acquired on June 18, 2026 (secondary scene), on Sentinel-1 ascending (satellite moving north) track 033. <\/span><\/p>
          Interferometric Synthetic Aperture Radar (InSAR) measures ground movement toward or away from the satellite. Sentinel-1 views the ground from the side at about 40° from vertical. On ascending passes, it travels slightly west of north (heading â\u2030ˆ 348° or âˆ\u201912°) and looks to the east. On descending passes, it travels slightly southwest (heading â\u2030ˆ 192°) and looks to the west. The full dataset covers an area centered on the earthquake epicenter. Each pixel measures approximately 30 meters across.<\/span><\/p>
          Suggested Use:<\/span><\/p>
          1. Line-of-Sight Displacement (Venezuela_S1_A033_20260618_20260625_UNW.tif): Unwrapped phase data converted to metric displacement along the radar line-of-sight. Positive values (blue) indicate ground movement towards from the satellite (uplift and/or westward motion), while negative values (red) indicate movement away from the satellite (subsidence and/or eastward motion). Units: meters. The dataset has been re-referenced to a stable point at coordinates (-68.5435°, 10.9696°). Areas of low coherence and water bodies have been masked.<\/span><\/p><\/li>
          2. Wrapped Phase (Venezuela_S1_A033_20260618_20260625_WRP.tif): Wrapped phase map showing relative ground deformation where each "fringe" or complete color cycle represents approximately 2.8 cm of displacement along the line-of-sight (half the Sentinel-1 C-band wavelength of 5.56 cm). The color progression from (outward to inward) red, orange, yellow, green, and blue indicates ground is moving away from the satellite, blue, green,yellow, orange, and red means ground is moving towards the satellite. This visualization is useful for identifying the spatial pattern and magnitude of deformation.<\/span><\/p><\/li>
          3. Range Offset (Venezuela_S1_A033_20260618_20260625_RNG.tif): Across-track (range direction) pixel offsets measured through amplitude cross-correlation. This represents ground displacement perpendicular to the satellite flight path, predominantly capturing east-west motion. Positive values (blue) indicate westward movement, negative values (red) indicate eastward movement. Units: meters. Water bodies and areas outside the valid data frame have been masked.<\/span><\/p><\/li>
          4. Interferometric Coherence (Venezuela_S1_A033_20260618_20260625_COH.tif): Measures the similarity of the radar phase between the two SAR acquisitions, indicating the reliability of the interferometric phase used to estimate ground displacement. Values range from 0 (decorrelated, unreliable) to 1 (highly correlated, reliable).<\/span><\/p><\/li><\/ol>
            Data Sources and Satellite Specifications:<\/span><\/p>
            • Water masking: ESA World Cover 2021 land cover dataset was used to mask permanent water bodies<\/span><\/p><\/li>
            • Orbit direction: Ascending (A) - satellite moving north<\/span><\/p><\/li>
            • Track number: 033<\/span><\/p><\/li>
            • Wavelength: 5.56 cm (C-band)<\/span><\/p><\/li>
            • Spatial resolution: 30 meters<\/span><\/p><\/li>
            • Reference point: -68.5435°E, 10.9696°N<\/span><\/p><\/li>
            • Temporal baseline: 7 days (June 18-25, 2026)<\/span><\/p><\/li><\/ul>
              Caveats:<\/span><\/p>
              The InSAR ground displacement results posted here are preliminary results, primarily intended to aid field response and provide rapid assessment of earthquake-induced surface deformation. These preliminary products may or may not be suitable for detailed scientific analysis without further validation. This displacement map should be used as guidance to identify areas of significant ground displacement, and may be less reliable over snow-covered and vegetated areas, steep terrain, or regions that experienced surface changes between acquisitions. <\/span><\/p>
              The Sentinel-1 data products contain modified Copernicus Sentinel data (2026), processed by the European Space Agency and analyzed at the NASA Jet Propulsion Laboratory. For more information about ARIA, visit: http://aria.jpl.nasa.gov<\/span><\/p>
              Credits:<\/span><\/p>
              Sentinel-1 data were accessed through the Copernicus Open Hub and the Alaska Satellite Facility server. The product contains modified Copernicus Sentinel data (2026), processed by the European Space Agency and analyzed by the NASA-JPL/Caltech ARIA and OPERA team. The products are produced as part of the OPERA project, which is funded by NASA to address remote sensing needs identified by the Satellite Needs Working Group, and managed by NASA's Jet Propulsion Laboratory.<\/span><\/span><\/p>
              Grace Bato, Cole Speed, Eric Fielding<\/span><\/p>
              Esri REST Endpoint:<\/span><\/p>
              See URL to the right<\/span><\/p>
              <\/span><\/p><\/div>", "extent": { "xmin": -7874226.1227, "ymin": 1046557.721238819, "xmax": -7312093.16656874, "ymax": 1373868.2080999985, "spatialReference": { "wkid": 102100, "latestWkid": 3857 } }, "initialExtent": { "xmin": -7874226.1227, "ymin": 1046557.721238819, "xmax": -7312093.16656874, "ymax": 1373868.2080999985, "spatialReference": { "wkid": 102100, "latestWkid": 3857 } }, "fullExtent": { "xmin": -7874226.1227, "ymin": 1046557.721238819, "xmax": -7312093.16656874, "ymax": 1373868.2080999985, "spatialReference": { "wkid": 102100, "latestWkid": 3857 } }, "sortableFields": "MinPS,MaxPS,LowPS,HighPS,CenterX,CenterY,ZOrder,Shape_Length,Shape_Area", "bandCount": 1, "pixelType": "F32", "minValues": [], "maxValues": [], "meanValues": [], "stdvValues": [], "serviceProperties": "NorthWest<\/MosaicMethod>First<\/MosaicOperator>true<\/SortAscending><\/LockImageID>Name<\/TileOrderField>0<\/TileOrderBase>600.000000<\/AvgImageSpacingX>300.000000<\/AvgImageSpacingY>0.0<\/ViewPointX>0.0<\/ViewPointY>0.0<\/ViewPointDefShiftX>0.0<\/ViewPointDefShiftY>None<\/CompressionMethod>75<\/CompressionQuality>0.010000<\/CompressionTolerance>Bilinear<\/SamplingMethod><\/ImageServiceProperties><\/ImageServer>", "allowedFields": "Name,MinPS,MaxPS,LowPS,HighPS,Tag,GroupName,ProductName,CenterX,CenterY,ZOrder,Shape_Length,Shape_Area,Date", "hasMultidimensions": false, "pixelSizeX": 30.9221055135739, "pixelSizeY": 30.922105513573886, "meanPixelSize": 30.922105513573893, "datasetFormat": "AMD", "uncompressedSize": 769698860, "blockWidth": 2048, "blockHeight": 256, "compressionType": "None", "bandNames": [ "Band_1" ], "allowCopy": true, "allowAnalysis": true, "itemAccess": false, "inspectionCapabilities": "", "minPixelSize": 0, "maxPixelSize": 0, "copyrightText": "Sentinel-1 data were accessed through the Copernicus Open Hub and the Alaska Satellite Facility server. The product contains modified Copernicus Sentinel data (2026), processed by the European Space Agency and analyzed by the NASA-JPL/Caltech ARIA and OPERA team. The products are produced as part of the OPERA project, which is funded by NASA to address remote sensing needs identified by the Satellite Needs Working Group, and managed by NASA's Jet Propulsion Laboratory.", "serviceDataType": "esriImageServiceDataTypeGeneric", "serviceSourceType": "esriImageServiceSourceTypeMosaicDataset", "objectIdField": "OBJECTID", "fields": [ { "name": "OBJECTID", "type": "esriFieldTypeOID", "alias": "OBJECTID", "domain": null }, { "name": "Shape", "type": "esriFieldTypeGeometry", "alias": "Shape", "domain": null }, { "name": "Name", "type": "esriFieldTypeString", "alias": "Name", "domain": null, "length": 200 }, { "name": "MinPS", "type": "esriFieldTypeDouble", "alias": "MinPS", "domain": null }, { "name": "MaxPS", "type": "esriFieldTypeDouble", "alias": "MaxPS", "domain": null }, { "name": "LowPS", "type": "esriFieldTypeDouble", "alias": "LowPS", "domain": null }, { "name": "HighPS", "type": "esriFieldTypeDouble", "alias": "HighPS", "domain": null }, { "name": "Category", "type": "esriFieldTypeInteger", "alias": "Category", "domain": { "type": "codedValue", "name": "MosaicCatalogItemCategoryDomain", "description": "Catalog item categories.", "codedValues": [ { "name": "Unknown", "code": 0 }, { "name": "Primary", "code": 1 }, { "name": "Overview", "code": 2 }, { "name": "Unprocessed Overview", "code": 3 }, { "name": "Partial Overview", "code": 4 }, { "name": "Inactive", "code": 5 }, { "name": "Uploaded", "code": 253 }, { "name": "Incomplete", "code": 254 }, { "name": "Custom", "code": 255 } ], "mergePolicy": "esriMPTDefaultValue", "splitPolicy": "esriSPTDefaultValue" } }, { "name": "Tag", "type": "esriFieldTypeString", "alias": "Tag", "domain": null, "length": 100 }, { "name": "GroupName", "type": "esriFieldTypeString", "alias": "GroupName", "domain": null, "length": 100 }, { "name": "ProductName", "type": "esriFieldTypeString", "alias": "ProductName", "domain": null, "length": 100 }, { "name": "CenterX", "type": "esriFieldTypeDouble", "alias": "CenterX", "domain": null }, { "name": "CenterY", "type": "esriFieldTypeDouble", "alias": "CenterY", "domain": null }, { "name": "ZOrder", "type": "esriFieldTypeInteger", "alias": "ZOrder", "domain": null }, { "name": "Date", "type": "esriFieldTypeDateOnly", "alias": "Date", "domain": null }, { "name": "Shape_Length", "type": "esriFieldTypeDouble", "alias": "Shape_Length", "domain": null }, { "name": "Shape_Area", "type": "esriFieldTypeDouble", "alias": "Shape_Area", "domain": null } ], "capabilities": "Image,Metadata,Mensuration,Catalog", "defaultMosaicMethod": "Northwest", "allowedMosaicMethods": "NorthWest,Center,LockRaster,ByAttribute,Nadir,Viewpoint,Seamline,None", "sortField": "", "sortValue": null, "sortAscending": true, "mosaicOperator": "First", "maxDownloadSizeLimit": 2048, "defaultCompressionQuality": 75, "defaultResamplingMethod": "Bilinear", "maxImageHeight": 4100, "maxImageWidth": 15000, "maxRecordCount": 1000, "maxDownloadImageCount": 20, "maxMosaicImageCount": 20, "allowRasterFunction": true, "rasterFunctionInfos": [ { "name": "None", "description": "", "help": "" } ], "rasterTypeInfos": [ { "name": "Raster Dataset", "description": "Supports all ArcGIS Raster Datasets", "help": "" } ], "mensurationCapabilities": "Basic", "hasHistograms": false, "hasColormap": false, "hasRasterAttributeTable": false, "minScale": 0, "maxScale": 0, "exportTilesAllowed": false, "supportsStatistics": true, "supportsAdvancedQueries": true, "editFieldsInfo": null, "ownershipBasedAccessControlForRasters": null, "allowComputeTiePoints": false, "useStandardizedQueries": true, "advancedQueryCapabilities": { "useStandardizedQueries": true, "supportsStatistics": true, "supportsOrderBy": true, "supportsDistinct": true, "supportsPagination": true }, "spatialReference": { "wkid": 102100, "latestWkid": 3857 } }