{ "currentVersion": 11.5, "serviceDescription": "

Dates of Images:<\/SPAN><\/P>
Post-Event: 06/25/2026<\/SPAN><\/P>
Pre-Event: 04/07/2026-06/13/2026 (8 images total)<\/SPAN><\/P>
Summary:<\/SPAN><\/P>
The NASA GSFC landslides team produced this landslide proxy heatmap from Sentinel-1 imagery. Potential landslides were detected by calculating the change in the backscatter coefficient before and after the triggering event using the log ratio approach (Iratio). The Iratio is generated by subtracting median pre- and post-event Radiometrically Terrain Corrected (RTC) gamma0 backscatter in decibel scale at 10 m resolution obtained from the Alaska Sar Facility\u2019s Hybrid Pluggable Processing Pipeline (HyP3).<\/SPAN><\/P>
The likely landslide pixels are identified using 99th percentile Iratio threshold considering areas greater than 10-degree in slope and not affected by radar shadow and layover effects. A heatmap is generated using identified landslide pixels for visualization ease.<\/SPAN><\/P>
Pre-event imagery = median imagery generated using images from 04/07/2026-06/13/2026 (8 images total)<\/SPAN><\/P>
Post-event imagery = 06/25/2026<\/SPAN><\/P>
This map should be used as a guide to identify areas likely affected by landslides. This is a rapid response product. We have not done any form of manual verification or corrections to remove false positives.<\/SPAN><\/P>
Suggested Use:<\/SPAN><\/P>
The red and yellow areas indicate potential zones of dense landsliding. False positives related to natural and human-made ground surface change, including but not limited to deformation from mining, construction, deforestation, agriculture, flooding, snow cover, and changes in reservoir water levels can also be within the red and yellow areas.<\/SPAN><\/P>
Satellite/Sensor/Resolution:<\/SPAN><\/P>
Synthetic Aperture Radar on European Space Agency's (ESA) Copernicus Sentinel-1 satellite, 10 meters<\/SPAN><\/P>
Credits:<\/SPAN><\/P>
NASA GSFC landslides team, Copernicus Sentinel-1 data<\/SPAN><\/P>
Citation: Handwerger AL, Huang M-H, Jones SY, Amatya P, Kerner HR, Kirschbaum DB. 2022. Generating landslide density heatmaps for rapid detection using open-access satellite radar data in Google Earth Engine. Nat. Hazards Earth Syst. Sci. Copernicus Publications, 22(3): 753\u2013773. https://doi.org/10.5194/nhess-22-753-2022.<\/SPAN><\/P>
Esri REST Endpoint:<\/SPAN><\/P>
See URL to the right.<\/SPAN><\/P>
WMS Endpoint:<\/SPAN><\/P>
See Sublayers.<\/SPAN><\/P><\/DIV><\/DIV><\/DIV>", "serviceItemId": "4b5a14073ddd4da6a848e3602f3aaad7", "name": "DISASTERS_202606_EARTHQUAKE_VENEZUELA/202611_sentinel1_landslide_heatmap", "description": "

Dates of Images:<\/SPAN><\/P>
Post-Event: 06/25/2026<\/SPAN><\/P>
Pre-Event: 04/07/2026-06/13/2026 (8 images total)<\/SPAN><\/P>
Summary:<\/SPAN><\/P>
The NASA GSFC landslides team produced this landslide proxy heatmap from Sentinel-1 imagery. Potential landslides were detected by calculating the change in the backscatter coefficient before and after the triggering event using the log ratio approach (Iratio). The Iratio is generated by subtracting median pre- and post-event Radiometrically Terrain Corrected (RTC) gamma0 backscatter in decibel scale at 10 m resolution obtained from the Alaska Sar Facility\u2019s Hybrid Pluggable Processing Pipeline (HyP3).<\/SPAN><\/P>
The likely landslide pixels are identified using 99th percentile Iratio threshold considering areas greater than 10-degree in slope and not affected by radar shadow and layover effects. A heatmap is generated using identified landslide pixels for visualization ease.<\/SPAN><\/P>
Pre-event imagery = median imagery generated using images from 04/07/2026-06/13/2026 (8 images total)<\/SPAN><\/P>
Post-event imagery = 06/25/2026<\/SPAN><\/P>
This map should be used as a guide to identify areas likely affected by landslides. This is a rapid response product. We have not done any form of manual verification or corrections to remove false positives.<\/SPAN><\/P>
Suggested Use:<\/SPAN><\/P>
The red and yellow areas indicate potential zones of dense landsliding. False positives related to natural and human-made ground surface change, including but not limited to deformation from mining, construction, deforestation, agriculture, flooding, snow cover, and changes in reservoir water levels can also be within the red and yellow areas.<\/SPAN><\/P>
Satellite/Sensor/Resolution:<\/SPAN><\/P>
Synthetic Aperture Radar on European Space Agency's (ESA) Copernicus Sentinel-1 satellite, 10 meters<\/SPAN><\/P>
Credits:<\/SPAN><\/P>
NASA GSFC landslides team, Copernicus Sentinel-1 data<\/SPAN><\/P>
Citation: Handwerger AL, Huang M-H, Jones SY, Amatya P, Kerner HR, Kirschbaum DB. 2022. Generating landslide density heatmaps for rapid detection using open-access satellite radar data in Google Earth Engine. Nat. Hazards Earth Syst. Sci. Copernicus Publications, 22(3): 753\u2013773. https://doi.org/10.5194/nhess-22-753-2022.<\/SPAN><\/P>
Esri REST Endpoint:<\/SPAN><\/P>
See URL to the right.<\/SPAN><\/P>
WMS Endpoint:<\/SPAN><\/P>
See Sublayers.<\/SPAN><\/P><\/DIV><\/DIV><\/DIV>", "extent": { "xmin": 582343.6842105263, "ymin": 1122773.6842105263, "xmax": 762843.6842105263, "ymax": 1175973.6842105263, "spatialReference": { "wkid": 32619, "latestWkid": 32619 } }, "initialExtent": { "xmin": 582343.6842105263, "ymin": 1122773.6842105263, "xmax": 762843.6842105263, "ymax": 1175973.6842105263, "spatialReference": { "wkid": 32619, "latestWkid": 32619 } }, "fullExtent": { "xmin": 582343.6842105263, "ymin": 1122773.6842105263, "xmax": 762843.6842105263, "ymax": 1175973.6842105263, "spatialReference": { "wkid": 32619, "latestWkid": 32619 } }, "sortableFields": "", "bandCount": 1, "pixelType": "F32", "minValues": [ 0 ], "maxValues": [ 5.5430078646168E-4 ], "meanValues": [ 5.7294429419634E-5 ], "stdvValues": [ 6.3922835253598E-5 ], "serviceProperties": "Center<\/MosaicMethod>First<\/MosaicOperator>true<\/SortAscending><\/LockImageID><\/TileOrderField>0<\/TileOrderBase>0.000000<\/AvgImageSpacingX>0.000000<\/AvgImageSpacingY>0.0<\/ViewPointX>0.0<\/ViewPointY>0.0<\/ViewPointDefShiftX>0.0<\/ViewPointDefShiftY>None<\/CompressionMethod>75<\/CompressionQuality>0.010000<\/CompressionTolerance>Bilinear<\/SamplingMethod><\/ImageServiceProperties><\/ImageServer>", "allowedFields": "", "hasMultidimensions": false, "pixelSizeX": 100, "pixelSizeY": 100, "meanPixelSize": 100, "datasetFormat": "TIFF", "uncompressedSize": 3841040, "blockWidth": 128, "blockHeight": 128, "compressionType": "None", "bandNames": [ "Band_1" ], "allowCopy": true, "allowAnalysis": true, "itemAccess": false, "inspectionCapabilities": "", "noDataValue": -3.4028234663852886E38, "noDataValues": [ -3.4028234663852886E38 ], "minPixelSize": 0, "maxPixelSize": 0, "copyrightText": "NASA GSFC landslides team, Copernicus Sentinel-1 data. Citation: https://doi.org/10.5194/nhess-22-753-2022. NASA GSFC landslides team, NASA GSFC Data Science group", "serviceDataType": "esriImageServiceDataTypeGeneric", "serviceSourceType": "esriImageServiceSourceTypeDataset", "objectIdField": "", "fields": [], "capabilities": "Image,Metadata,Mensuration", "defaultMosaicMethod": "Center", "allowedMosaicMethods": "", "sortField": "", "sortValue": null, "sortAscending": true, "mosaicOperator": "First", "defaultCompressionQuality": 75, "defaultResamplingMethod": "Bilinear", "maxImageHeight": 4100, "maxImageWidth": 15000, "allowRasterFunction": true, "rasterFunctionInfos": [ { "name": "None", "description": "", "help": "" } ], "rasterTypeInfos": [ { "name": "Raster Dataset", "description": "Supports all ArcGIS Raster Datasets", "help": "" } ], "mensurationCapabilities": "Basic", "hasHistograms": true, "hasColormap": false, "hasRasterAttributeTable": false, "minScale": 0, "maxScale": 0, "exportTilesAllowed": false, "supportsStatistics": false, "supportsAdvancedQueries": false, "editFieldsInfo": null, "ownershipBasedAccessControlForRasters": null, "allowComputeTiePoints": false, "useStandardizedQueries": true, "advancedQueryCapabilities": { "useStandardizedQueries": true, "supportsStatistics": false, "supportsOrderBy": false, "supportsDistinct": false, "supportsPagination": false }, "spatialReference": { "wkid": 32619, "latestWkid": 32619 } }