{
 "currentVersion": 11.5,
 "serviceDescription": "DISASTERS_202606_EARTHQUAKE_VENEZUELA/202611_sentinel2_buildingDamageLikelihood",
 "serviceItemId": "5e15491cf02a4eb9936f7f3ce212fb96",
 "name": "DISASTERS_202606_EARTHQUAKE_VENEZUELA/202611_sentinel2_buildingDamageLikelihood",
 "description": "",
 "extent": {
  "xmin": -67.13658090548498,
  "ymin": 10.322091772175364,
  "xmax": -66.75389859445006,
  "ymax": 10.63632245856037,
  "spatialReference": {
   "wkid": 4326,
   "latestWkid": 4326
  }
 },
 "initialExtent": {
  "xmin": -67.13658090548498,
  "ymin": 10.322091772175364,
  "xmax": -66.75389859445006,
  "ymax": 10.63632245856037,
  "spatialReference": {
   "wkid": 4326,
   "latestWkid": 4326
  }
 },
 "fullExtent": {
  "xmin": -67.13658090548498,
  "ymin": 10.322091772175364,
  "xmax": -66.75389859445006,
  "ymax": 10.63632245856037,
  "spatialReference": {
   "wkid": 4326,
   "latestWkid": 4326
  }
 },
 "sortableFields": "",
 "bandCount": 1,
 "pixelType": "F64",
 "minValues": [
  -0.94572830796242
 ],
 "maxValues": [
  2.8078800097108
 ],
 "meanValues": [
  0.0074520085055208
 ],
 "stdvValues": [
  0.059020843465935
 ],
 "serviceProperties": "Center<\/MosaicMethod>First<\/MosaicOperator>true<\/SortAscending><\/LockImageID><\/TileOrderField>0<\/TileOrderBase>0.000000<\/AvgImageSpacingX>0.000000<\/AvgImageSpacingY>0.0<\/ViewPointX>0.0<\/ViewPointY>0.0<\/ViewPointDefShiftX>0.0<\/ViewPointDefShiftY>None<\/CompressionMethod>75<\/CompressionQuality>0.010000<\/CompressionTolerance>Bilinear<\/SamplingMethod><\/ImageServiceProperties><\/ImageServer>",
 "allowedFields": "",
 "hasMultidimensions": false,
 "pixelSizeX": 8.983152841195128E-5,
 "pixelSizeY": 8.983152841195139E-5,
 "meanPixelSize": 9.99999999999991,
 "datasetFormat": "TIFF",
 "uncompressedSize": 119211840,
 "blockWidth": 256,
 "blockHeight": 256,
 "compressionType": "LZW",
 "bandNames": [
  "damage_score"
 ],
 "allowCopy": true,
 "allowAnalysis": true,
 "itemAccess": false,
 "inspectionCapabilities": "",
 "noDataValue": 1.7976931348623157E308,
 "noDataValues": [
  1.7976931348623157E308
 ],
 "minPixelSize": 0,
 "maxPixelSize": 0,
 "copyrightText": "",
 "serviceDataType": "esriImageServiceDataTypeGeneric",
 "serviceSourceType": "esriImageServiceSourceTypeDataset",
 "objectIdField": "",
 "fields": [],
 "capabilities": "Image,Metadata,Mensuration",
 "defaultMosaicMethod": "Center",
 "allowedMosaicMethods": "",
 "sortField": "",
 "sortValue": null,
 "sortAscending": true,
 "mosaicOperator": "First",
 "defaultCompressionQuality": 75,
 "defaultResamplingMethod": "Bilinear",
 "maxImageHeight": 4100,
 "maxImageWidth": 15000,
 "allowRasterFunction": true,
 "rasterFunctionInfos": [
  {
   "name": "None",
   "description": "",
   "help": ""
  }
 ],
 "rasterTypeInfos": [
  {
   "name": "Raster Dataset",
   "description": "Supports all ArcGIS Raster Datasets",
   "help": ""
  }
 ],
 "mensurationCapabilities": "Basic",
 "hasHistograms": true,
 "hasColormap": false,
 "hasRasterAttributeTable": false,
 "minScale": 0,
 "maxScale": 0,
 "exportTilesAllowed": false,
 "supportsStatistics": false,
 "supportsAdvancedQueries": false,
 "editFieldsInfo": null,
 "ownershipBasedAccessControlForRasters": null,
 "allowComputeTiePoints": false,
 "useStandardizedQueries": true,
 "advancedQueryCapabilities": {
  "useStandardizedQueries": true,
  "supportsStatistics": false,
  "supportsOrderBy": false,
  "supportsDistinct": false,
  "supportsPagination": false
 },
 "spatialReference": {
  "wkid": 4326,
  "latestWkid": 4326
 }
}
