{ "currentVersion": 11.5, "serviceDescription": "

Dates of Images:<\/SPAN><\/P>
Post-Event: June 28, 2026<\/SPAN><\/P>
Pre-Event: May 14, 2026<\/SPAN><\/P>
Date of Next Image:<\/SPAN><\/P>
Unknown<\/SPAN><\/P>
Summary:<\/SPAN><\/P>
The True Color RGB composite provides a product of how the surface would look to the naked eye from space. The RGB is created using the red, green, and blue channels of the respective instrument.<\/SPAN><\/P>
The Color Infrared composite is created using the near-infrared, red, and green channels. The near-infrared gives the ability to see through thin clouds. Healthy vegetation is shown as red, water is in blue.<\/SPAN><\/P>
Suggested Use:<\/SPAN><\/P>
The True Color RGB provides a product of how the surface would look to the naked eye from space. The True Color RGB is produced using the 3 visible wavelength bands (red, green, and blue) from the respective sensor. Some minor atmospheric corrections have occurred.<\/SPAN><\/P>
A Color Infrared composite depicts healthy vegetation as red, water as blue. Some minor atmospheric corrections have occurred.<\/SPAN><\/P>
Satellite/Sensor:<\/SPAN><\/P>
MultiSpectral Instrument (MSI) on European Space Agency's (ESA) Copernicus Sentinel-2A/2B satellites<\/SPAN><\/P>
Resolution:<\/SPAN><\/P>
True Color: 10 meters<\/SPAN><\/P>
Credits:<\/SPAN><\/P>
NASA/MSFC, USGS, ESA Copernicus<\/SPAN><\/P>
Esri REST Endpoint:<\/SPAN><\/P>
https://gis.earthdata.nasa.gov/gis05/rest/services/DISASTERS_202606_EARTHQUAKE_VENEZUELA/202611_sentinel2/ImageServer<\/SPAN><\/P>
WMS Endpoint:<\/SPAN><\/P>
https://gis.earthdata.nasa.gov/gis05/services/DISASTERS_202606_EARTHQUAKE_VENEZUELA/202611_sentinel2/ImageServer/WMSServer<\/SPAN><\/P>
Data Download:<\/SPAN><\/P>
https://nasagov.box.com/s/72lgkqftkz2pupztndhroy0vf97jo19x<\/SPAN><\/P><\/DIV><\/DIV><\/DIV>", "serviceItemId": "92cd2cae94854d24912dd78c7036f2da", "name": "DISASTERS_202606_FLOOD_LA/202610_sentinel2", "description": "

Dates of Images:<\/span><\/p>
Post-Event: June 28, 2026<\/span><\/p>
Pre-Event: May 14, 2026<\/span><\/p>
Date of Next Image:<\/span><\/p>
Unknown<\/span><\/p>
Summary:<\/span><\/p>
The True Color RGB composite provides a product of how the surface would look to the naked eye from space. The RGB is created using the red, green, and blue channels of the respective instrument.<\/span><\/p>
The Color Infrared composite is created using the near-infrared, red, and green channels. The near-infrared gives the ability to see through thin clouds. Healthy vegetation is shown as red, water is in blue.<\/span><\/p>
Suggested Use:<\/span><\/p>
The True Color RGB provides a product of how the surface would look to the naked eye from space. The True Color RGB is produced using the 3 visible wavelength bands (red, green, and blue) from the respective sensor. Some minor atmospheric corrections have occurred.<\/span><\/p>
A Color Infrared composite depicts healthy vegetation as red, water as blue. Some minor atmospheric corrections have occurred.<\/span><\/p>
Satellite/Sensor:<\/span><\/p>
MultiSpectral Instrument (MSI) on European Space Agency's (ESA) Copernicus Sentinel-2A/2B satellites<\/span><\/p>
Resolution:<\/span><\/p>
True Color: 10 meters<\/span><\/p>
Credits:<\/span><\/p>
NASA/MSFC, USGS, ESA Copernicus<\/span><\/p>
Esri REST Endpoint:<\/span><\/p>
https://gis.earthdata.nasa.gov/gis05/rest/services/DISASTERS_202606_FLOOD_LA/202610_sentinel2/ImageServer<\/a><\/p>
WMS Endpoint:<\/span><\/p>
https://gis.earthdata.nasa.gov/gis05/services/DISASTERS_202606_FLOOD_LA/202610_sentinel2/ImageServer/WMSServer<\/a><\/p><\/div>", "extent": { "xmin": -1.03527361222E7, "ymin": 3468178.558715448, "xmax": -1.010649337413544E7, "ymax": 3715565.0260000005, "spatialReference": { "wkid": 102100, "latestWkid": 3857 } }, "initialExtent": { "xmin": -1.03527361222E7, "ymin": 3468178.558715448, "xmax": -1.010649337413544E7, "ymax": 3715565.0260000005, "spatialReference": { "wkid": 102100, "latestWkid": 3857 } }, "fullExtent": { "xmin": -1.03527361222E7, "ymin": 3468178.558715448, "xmax": -1.010649337413544E7, "ymax": 3715565.0260000005, "spatialReference": { "wkid": 102100, "latestWkid": 3857 } }, "sortableFields": "MinPS,MaxPS,LowPS,HighPS,CenterX,CenterY,ZOrder,Shape_Length,Shape_Area", "bandCount": 3, "pixelType": "U8", "minValues": [ 0, 24, 19 ], "maxValues": [ 255, 255, 255 ], "meanValues": [ 121.39063133979725, 134.85569326003545, 118.82512660588488 ], "stdvValues": [ 67.73833537111014, 60.27946995074354, 66.1588042671403 ], "serviceProperties": "NorthWest<\/MosaicMethod>First<\/MosaicOperator>true<\/SortAscending><\/LockImageID>Name<\/TileOrderField>0<\/TileOrderBase>600.000000<\/AvgImageSpacingX>300.000000<\/AvgImageSpacingY>0.0<\/ViewPointX>0.0<\/ViewPointY>0.0<\/ViewPointDefShiftX>0.0<\/ViewPointDefShiftY>None<\/CompressionMethod>75<\/CompressionQuality>0.010000<\/CompressionTolerance>Bilinear<\/SamplingMethod><\/ImageServiceProperties><\/ImageServer>", "allowedFields": "Name,MinPS,MaxPS,LowPS,HighPS,Tag,GroupName,ProductName,CenterX,CenterY,ZOrder,Shape_Length,Shape_Area,Date", "hasMultidimensions": false, "pixelSizeX": 10.397447454484608, "pixelSizeY": 10.397447454484627, "meanPixelSize": 10.397447454484617, "datasetFormat": "AMD", "uncompressedSize": 1690468857, "blockWidth": 2048, "blockHeight": 256, "compressionType": "None", "bandNames": [ "Band_1", "Band_2", "Band_3" ], "allowCopy": true, "allowAnalysis": true, "itemAccess": false, "inspectionCapabilities": "", "minPixelSize": 0, "maxPixelSize": 0, "copyrightText": "NASA/MSFC, USGS, ESA Copernicus", "serviceDataType": "esriImageServiceDataTypeRGB", "serviceSourceType": "esriImageServiceSourceTypeMosaicDataset", "objectIdField": "OBJECTID", "fields": [ { "name": "OBJECTID", "type": "esriFieldTypeOID", "alias": "OBJECTID", "domain": null }, { "name": "Shape", "type": "esriFieldTypeGeometry", "alias": "Shape", "domain": null }, { "name": "Name", "type": "esriFieldTypeString", "alias": "Name", "domain": null, "length": 200 }, { "name": "MinPS", "type": "esriFieldTypeDouble", "alias": "MinPS", "domain": null }, { "name": "MaxPS", "type": "esriFieldTypeDouble", "alias": "MaxPS", "domain": null }, { "name": "LowPS", "type": "esriFieldTypeDouble", "alias": "LowPS", "domain": null }, { "name": "HighPS", "type": "esriFieldTypeDouble", "alias": "HighPS", "domain": null }, { "name": "Category", "type": "esriFieldTypeInteger", "alias": "Category", "domain": { "type": "codedValue", "name": "MosaicCatalogItemCategoryDomain", "description": "Catalog item categories.", "codedValues": [ { "name": "Unknown", "code": 0 }, { "name": "Primary", "code": 1 }, { "name": "Overview", "code": 2 }, { "name": "Unprocessed Overview", "code": 3 }, { "name": "Partial Overview", "code": 4 }, { "name": "Inactive", "code": 5 }, { "name": "Uploaded", "code": 253 }, { "name": "Incomplete", "code": 254 }, { "name": "Custom", "code": 255 } ], "mergePolicy": "esriMPTDefaultValue", "splitPolicy": "esriSPTDefaultValue" } }, { "name": "Tag", "type": "esriFieldTypeString", "alias": "Tag", "domain": null, "length": 100 }, { "name": "GroupName", "type": "esriFieldTypeString", "alias": "GroupName", "domain": null, "length": 100 }, { "name": "ProductName", "type": "esriFieldTypeString", "alias": "ProductName", "domain": null, "length": 100 }, { "name": "CenterX", "type": "esriFieldTypeDouble", "alias": "CenterX", "domain": null }, { "name": "CenterY", "type": "esriFieldTypeDouble", "alias": "CenterY", "domain": null }, { "name": "ZOrder", "type": "esriFieldTypeInteger", "alias": "ZOrder", "domain": null }, { "name": "Date", "type": "esriFieldTypeDateOnly", "alias": "Date", "domain": null }, { "name": "Shape_Length", "type": "esriFieldTypeDouble", "alias": "Shape_Length", "domain": null }, { "name": "Shape_Area", "type": "esriFieldTypeDouble", "alias": "Shape_Area", "domain": null } ], "capabilities": "Image,Metadata,Mensuration,Catalog", "defaultMosaicMethod": "Northwest", "allowedMosaicMethods": "NorthWest,Center,LockRaster,ByAttribute,Nadir,Viewpoint,Seamline,None", "sortField": "", "sortValue": null, "sortAscending": true, "mosaicOperator": "First", "maxDownloadSizeLimit": 2048, "defaultCompressionQuality": 75, "defaultResamplingMethod": "Bilinear", "maxImageHeight": 4100, "maxImageWidth": 15000, "maxRecordCount": 1000, "maxDownloadImageCount": 20, "maxMosaicImageCount": 20, "allowRasterFunction": true, "rasterFunctionInfos": [ { "name": "None", "description": "", "help": "" } ], "rasterTypeInfos": [ { "name": "Raster Dataset", "description": "Supports all ArcGIS Raster Datasets", "help": "" } ], "mensurationCapabilities": "Basic", "hasHistograms": true, "hasColormap": false, "hasRasterAttributeTable": false, "minScale": 0, "maxScale": 0, "exportTilesAllowed": false, "supportsStatistics": true, "supportsAdvancedQueries": true, "editFieldsInfo": null, "ownershipBasedAccessControlForRasters": null, "allowComputeTiePoints": false, "useStandardizedQueries": true, "advancedQueryCapabilities": { "useStandardizedQueries": true, "supportsStatistics": true, "supportsOrderBy": true, "supportsDistinct": true, "supportsPagination": true }, "spatialReference": { "wkid": 102100, "latestWkid": 3857 } }