{ "currentVersion": 11.5, "serviceDescription": "

Dates of Images:<\/SPAN><\/P>
<\/P>
Post-Event: 7/2/2026, 7/12/2026, 7/18/2026<\/SPAN><\/P>
<\/P>
Pre-Event: 6/10/2026. 6/12/2026<\/SPAN><\/P>
<\/P>
Date of Next Image:<\/SPAN><\/P>
<\/P>
Unknown<\/SPAN><\/P>
<\/P>
Summary:<\/SPAN><\/P>
<\/P>
True Color: The True Color RGB composite provides a product of how the surface would look to the naked eye from space. The RGB is created using the red, green, and blue channels of the respective instrument.<\/SPAN><\/P>
<\/P>
Color Infrared: The Color Infrared composite is created using the near-infrared, red, and green channels, allowing for the ability to see areas impacted from the fires. The near-infrared gives the ability to see through thin clouds. Healthy vegetation is shown as red, water is in blue.<\/SPAN><\/P>
<\/P>
Normalized Burn Ratio (NBR) is defined mathematically as (NIR \u2013 SWIR)/(NIR + SWIR) where NIR is near-infrared and SWIR is short-wave infrared. dNBR is computed by the difference between the pre-fire NBR and the post-fire NBR. More information on dNBR can be found here: https://un-spider.org/advisory-support/recommended-practices/recommended-practice-burn-severity/in-detail/normalized-burn-ratio.<\/SPAN><\/P>
dNBR data may be computed while the fire is in progress. This is intentionally done to prioritize rapid data availability for proactive disaster response but means data can change over the course of the fire.<\/SPAN><\/P>
Check fire containment and image dates for further context on image timing.<\/SPAN><\/P>
<\/P>
Suggested Use:<\/SPAN><\/P>
<\/P>
True Color: provides a product of how the surface would look to the naked eye from space. The True Color RGB is produced using the 3 visible wavelength bands (red, green, and blue) from the respective sensor. Some minor atmospheric corrections have occurred.<\/SPAN><\/P>
<\/P>
Color Infrared: depicts healthy vegetation as red, water as blue. Some minor atmospheric corrections have occurred.<\/SPAN><\/P>
<\/P>
NBR is commonly used as a proxy to indicate areas which have charred vegetation. Darker areas (more negative values) in the NBR image more strongly represent the presence of burned vegetation. Since the dNBR considers the condition of the scene before the fire occurred, the resulting value has been used as a proxy for burn severity. Higher dNBR values represent a proxy for greater burn severity. Negative dNBR values may represent a re-greening of or growth of vegetation in between pre and post imagery.<\/SPAN><\/P>
The use of this dNBR product as a quantitative metric of burn severity at the time of posting this dataset should be strongly caveated. This is due to several dNBR limitations:<\/SPAN><\/P>
The spectral band selections used for dNBR calculations, and the implication of changes observed following fire in those wavelengths, primarily pertain to how vegetation spectral signatures change in NIR and SWIR wavelengths following charring. Because of this, dNBR may not accurately describe burned surfaces that are not vegetation (e.g. human built infrastructure).<\/SPAN><\/P>
This dataset has not been validated by independent burn severity assessments.<\/SPAN><\/P>
The degree to which dNBR is accurately determined depends on careful selection of pre and post event imagery. An effort was made to use the highest quality imagery (i.e. cloud free) with representative conditions for each scene; however, it is unknown at the time of this posting how selection of different pre/post image pairs could affect the derived dNBR values.<\/SPAN><\/P>
<\/P>
Satellite/Sensor:<\/SPAN><\/P>
<\/P>
Landsat 8 Operational Land Imager (OLI), Landsat 9 Operational Land Imager (OLI-2)<\/SPAN><\/P>
<\/P>
Resolution:<\/SPAN><\/P>
<\/P>
30 meters<\/SPAN><\/P>
<\/P>
Esri REST Endpoint:<\/SPAN><\/P>
<\/P>
See Layers below.<\/SPAN><\/P>
<\/P>
WMS Endpoint:<\/SPAN><\/P>
<\/P>
https://gis.earthdata.nasa.gov/gis05/rest/services/DISASTERS_202607_FIRE_CO/202614_landsat_nbr/ImageServer<\/SPAN><\/P>
<\/P><\/DIV><\/DIV><\/DIV>", "serviceItemId": "f386dedda44545ea8a378c84e96f4480", "name": "DISASTERS_202607_FIRE_CO/202614_landsat_nbr", "description": "

Dates of Images:<\/SPAN><\/P>
<\/P>
Post-Event: 7/2/2026, 7/12/2026, 7/18/2026<\/SPAN><\/P>
<\/P>
Pre-Event: 6/10/2026. 6/12/2026<\/SPAN><\/P>
<\/P>
Date of Next Image:<\/SPAN><\/P>
<\/P>
Unknown<\/SPAN><\/P>
<\/P>
Summary:<\/SPAN><\/P>
<\/P>
True Color: The True Color RGB composite provides a product of how the surface would look to the naked eye from space. The RGB is created using the red, green, and blue channels of the respective instrument.<\/SPAN><\/P>
<\/P>
Color Infrared: The Color Infrared composite is created using the near-infrared, red, and green channels, allowing for the ability to see areas impacted from the fires. The near-infrared gives the ability to see through thin clouds. Healthy vegetation is shown as red, water is in blue.<\/SPAN><\/P>
<\/P>
Normalized Burn Ratio (NBR) is defined mathematically as (NIR \u2013 SWIR)/(NIR + SWIR) where NIR is near-infrared and SWIR is short-wave infrared. dNBR is computed by the difference between the pre-fire NBR and the post-fire NBR. More information on dNBR can be found here: https://un-spider.org/advisory-support/recommended-practices/recommended-practice-burn-severity/in-detail/normalized-burn-ratio.<\/SPAN><\/P>
dNBR data may be computed while the fire is in progress. This is intentionally done to prioritize rapid data availability for proactive disaster response but means data can change over the course of the fire.<\/SPAN><\/P>
Check fire containment and image dates for further context on image timing.<\/SPAN><\/P>
<\/P>
Suggested Use:<\/SPAN><\/P>
<\/P>
True Color: provides a product of how the surface would look to the naked eye from space. The True Color RGB is produced using the 3 visible wavelength bands (red, green, and blue) from the respective sensor. Some minor atmospheric corrections have occurred.<\/SPAN><\/P>
<\/P>
Color Infrared: depicts healthy vegetation as red, water as blue. Some minor atmospheric corrections have occurred.<\/SPAN><\/P>
<\/P>
NBR is commonly used as a proxy to indicate areas which have charred vegetation. Darker areas (more negative values) in the NBR image more strongly represent the presence of burned vegetation. Since the dNBR considers the condition of the scene before the fire occurred, the resulting value has been used as a proxy for burn severity. Higher dNBR values represent a proxy for greater burn severity. Negative dNBR values may represent a re-greening of or growth of vegetation in between pre and post imagery.<\/SPAN><\/P>
The use of this dNBR product as a quantitative metric of burn severity at the time of posting this dataset should be strongly caveated. This is due to several dNBR limitations:<\/SPAN><\/P>
The spectral band selections used for dNBR calculations, and the implication of changes observed following fire in those wavelengths, primarily pertain to how vegetation spectral signatures change in NIR and SWIR wavelengths following charring. Because of this, dNBR may not accurately describe burned surfaces that are not vegetation (e.g. human built infrastructure).<\/SPAN><\/P>
This dataset has not been validated by independent burn severity assessments.<\/SPAN><\/P>
The degree to which dNBR is accurately determined depends on careful selection of pre and post event imagery. An effort was made to use the highest quality imagery (i.e. cloud free) with representative conditions for each scene; however, it is unknown at the time of this posting how selection of different pre/post image pairs could affect the derived dNBR values.<\/SPAN><\/P>
<\/P>
Satellite/Sensor:<\/SPAN><\/P>
<\/P>
Landsat 8 Operational Land Imager (OLI), Landsat 9 Operational Land Imager (OLI-2)<\/SPAN><\/P>
<\/P>
Resolution:<\/SPAN><\/P>
<\/P>
30 meters<\/SPAN><\/P>
<\/P>
Esri REST Endpoint:<\/SPAN><\/P>
<\/P>
See Layers below.<\/SPAN><\/P>
<\/P>
WMS Endpoint:<\/SPAN><\/P>
<\/P>
https://gis.earthdata.nasa.gov/gis05/rest/services/DISASTERS_202607_FIRE_CO/202614_landsat_nbr/ImageServer<\/SPAN><\/P>
<\/P><\/DIV><\/DIV><\/DIV>", "extent": { "xmin": -109.21538296399996, "ymin": 36.40028348430931, "xmax": -103.773443936608, "ymax": 40.00414764800007, "spatialReference": { "wkid": 4326, "latestWkid": 4326 } }, "initialExtent": { "xmin": -109.21538296399996, "ymin": 36.40028348430931, "xmax": -103.773443936608, "ymax": 40.00414764800007, "spatialReference": { "wkid": 4326, "latestWkid": 4326 } }, "fullExtent": { "xmin": -109.21538296399996, "ymin": 36.40028348430931, "xmax": -103.773443936608, "ymax": 40.00414764800007, "spatialReference": { "wkid": 4326, "latestWkid": 4326 } }, "sortableFields": "MinPS,MaxPS,LowPS,HighPS,CenterX,CenterY,ZOrder,Shape_Length,Shape_Area", "bandCount": 1, "pixelType": "F32", "minValues": [ -0.9558084011077881 ], "maxValues": [ 999 ], "meanValues": [ 345.2340156787834 ], "stdvValues": [ 474.8886323064791 ], "serviceProperties": "NorthWest<\/MosaicMethod>First<\/MosaicOperator>true<\/SortAscending><\/LockImageID>Name<\/TileOrderField>0<\/TileOrderBase>600.000000<\/AvgImageSpacingX>300.000000<\/AvgImageSpacingY>0.0<\/ViewPointX>0.0<\/ViewPointY>0.0<\/ViewPointDefShiftX>0.0<\/ViewPointDefShiftY>None<\/CompressionMethod>75<\/CompressionQuality>0.010000<\/CompressionTolerance>Bilinear<\/SamplingMethod><\/ImageServiceProperties><\/ImageServer>", "allowedFields": "Name,MinPS,MaxPS,LowPS,HighPS,Tag,GroupName,ProductName,CenterX,CenterY,ZOrder,Shape_Length,Shape_Area,Date", "hasMultidimensions": false, "pixelSizeX": 3.0629476148995066E-4, "pixelSizeY": 3.0629476148995056E-4, "meanPixelSize": 34.09657688170848, "datasetFormat": "AMD", "uncompressedSize": 836186088, "blockWidth": 2048, "blockHeight": 256, "compressionType": "None", "bandNames": [ "Band_1" ], "allowCopy": true, "allowAnalysis": true, "itemAccess": false, "inspectionCapabilities": "", "noDataValue": 999, "noDataValues": [ 999 ], "minPixelSize": 0, "maxPixelSize": 0, "copyrightText": "NASA/MSFC, USGS", "serviceDataType": "esriImageServiceDataTypeGeneric", "serviceSourceType": "esriImageServiceSourceTypeMosaicDataset", "objectIdField": "OBJECTID", "fields": [ { "name": "OBJECTID", "type": "esriFieldTypeOID", "alias": "OBJECTID", "domain": null }, { "name": "Shape", "type": "esriFieldTypeGeometry", "alias": "Shape", "domain": null }, { "name": "Name", "type": "esriFieldTypeString", "alias": "Name", "domain": null, "length": 200 }, { "name": "MinPS", "type": "esriFieldTypeDouble", "alias": "MinPS", "domain": null }, { "name": "MaxPS", "type": "esriFieldTypeDouble", "alias": "MaxPS", "domain": null }, { "name": "LowPS", "type": "esriFieldTypeDouble", "alias": "LowPS", "domain": null }, { "name": "HighPS", "type": "esriFieldTypeDouble", "alias": "HighPS", "domain": null }, { "name": "Category", "type": "esriFieldTypeInteger", "alias": "Category", "domain": { "type": "codedValue", "name": "MosaicCatalogItemCategoryDomain", "description": "Catalog item categories.", "codedValues": [ { "name": "Unknown", "code": 0 }, { "name": "Primary", "code": 1 }, { "name": "Overview", "code": 2 }, { "name": "Unprocessed Overview", "code": 3 }, { "name": "Partial Overview", "code": 4 }, { "name": "Inactive", "code": 5 }, { "name": "Uploaded", "code": 253 }, { "name": "Incomplete", "code": 254 }, { "name": "Custom", "code": 255 } ], "mergePolicy": "esriMPTDefaultValue", "splitPolicy": "esriSPTDefaultValue" } }, { "name": "Tag", "type": "esriFieldTypeString", "alias": "Tag", "domain": null, "length": 100 }, { "name": "GroupName", "type": "esriFieldTypeString", "alias": "GroupName", "domain": null, "length": 100 }, { "name": "ProductName", "type": "esriFieldTypeString", "alias": "ProductName", "domain": null, "length": 100 }, { "name": "CenterX", "type": "esriFieldTypeDouble", "alias": "CenterX", "domain": null }, { "name": "CenterY", "type": "esriFieldTypeDouble", "alias": "CenterY", "domain": null }, { "name": "ZOrder", "type": "esriFieldTypeInteger", "alias": "ZOrder", "domain": null }, { "name": "Date", "type": "esriFieldTypeDateOnly", "alias": "Date", "domain": null }, { "name": "Shape_Length", "type": "esriFieldTypeDouble", "alias": "Shape_Length", "domain": null }, { "name": "Shape_Area", "type": "esriFieldTypeDouble", "alias": "Shape_Area", "domain": null } ], "capabilities": "Image,Metadata,Mensuration,Catalog", "defaultMosaicMethod": "Northwest", "allowedMosaicMethods": "NorthWest,Center,LockRaster,ByAttribute,Nadir,Viewpoint,Seamline,None", "sortField": "", "sortValue": null, "sortAscending": true, "mosaicOperator": "First", "maxDownloadSizeLimit": 2048, "defaultCompressionQuality": 75, "defaultResamplingMethod": "Bilinear", "maxImageHeight": 4100, "maxImageWidth": 15000, "maxRecordCount": 1000, "maxDownloadImageCount": 20, "maxMosaicImageCount": 20, "allowRasterFunction": true, "rasterFunctionInfos": [ { "name": "landsat_nbr", "description": "landsat_nbr", "help": "" }, { "name": "None", "description": "", "help": "" } ], "rasterTypeInfos": [ { "name": "Raster Dataset", "description": "Supports all ArcGIS Raster Datasets", "help": "" } ], "mensurationCapabilities": "Basic", "hasHistograms": true, "hasColormap": false, "hasRasterAttributeTable": false, "minScale": 0, "maxScale": 0, "exportTilesAllowed": false, "supportsStatistics": true, "supportsAdvancedQueries": true, "editFieldsInfo": null, "ownershipBasedAccessControlForRasters": null, "allowComputeTiePoints": false, "useStandardizedQueries": true, "advancedQueryCapabilities": { "useStandardizedQueries": true, "supportsStatistics": true, "supportsOrderBy": true, "supportsDistinct": true, "supportsPagination": true }, "spatialReference": { "wkid": 4326, "latestWkid": 4326 } }