{ "currentVersion": 11.5, "serviceDescription": "

Dates of Images:<\/SPAN><\/P>
20260629T1803, 20260702T1749, 20260703T1743 (GMT) (YYYYMMDDTHHMM)<\/SPAN><\/P>
Summary:<\/SPAN><\/P>
The Advanced Rapid Imaging and Analysis (ARIA) and Observational Products for End-Users from Remote Sensing Analysis (OPERA) teams at the Jet Propulsion Laboratory, California Institute of Technology produced maximum vegetation anomaly loss and disturbance status, using the OPERA Surface Disturbance Alert from Harmonized Landsat Sentinel-2 (DIST-ALERT-HLS) dataset.<\/SPAN><\/P>
The dataset provided includes two product types:<\/SPAN><\/P>
  • Vegetation Disturbance Status maps on individual dates<\/SPAN><\/P><\/LI>
  • Maximum Vegetation Anomaly loss maps on individual dates<\/SPAN><\/P><\/LI><\/UL>
    Dates and Input Data:<\/SPAN><\/P>
    • Images: June 29, 2026, July 02, 2026 and July 03, 2026<\/SPAN><\/P><\/LI>
    • Products are generated from OPERA DIST-ALERT-HLS satellite imagery and mosaicked across tiles to provide continuous coverage.<\/SPAN><\/P><\/LI><\/UL>
      Product Description: Surface Disturbance, specifically vegetation loss, is identified from optical satellite imagery and mapped at 30 m spatial resolution. The Vegetation Disturbance Status layer indicates the confidence that vegetation loss has occurred, and whether the disturbance is still ongoing or has ended. The Max Vegetation Anomaly loss shows how much vegetation has been lost at each location, based on the largest change observed during the time period. As the number of post-event images increase, the confidence in the detections increases.<\/SPAN><\/P>
      Note we applied a temporal filter to these products. The temporal filter was used to remove any surface disturbance that occurred prior to the onset of the wildfires.<\/SPAN><\/P>
      Caveats and Limitations:<\/SPAN><\/P>
      This product detects vegetation loss due to any reason. Importantly, not all detected changes are due to wildfire on June 28, 2026.<\/SPAN><\/P>
      These results are intended to support rapid emergency response. All information is provisional for use under emergency response guidelines. These data are provided with absolutely no warranty of any kind. Use at your own risk.<\/SPAN><\/P>
      Suggested Use:<\/SPAN><\/P>
      The OPERA DIST-ALERT-HLS maps per pixel vegetation disturbance (specifically, vegetation cover loss) from the Harmonized Landsat Sentinel-2 (HLS) scenes. We provide the (1) maximum vegetation anomaly value (VEG-ANOM-MAX) layer and (2) vegetation disturbance status (VEG-DIST-STATUS). All provided layers have been filtered to include only disturbance detected following the start of the fires.<\/SPAN><\/P>
      VEG-ANOM-MAX:<\/SPAN><\/P>
      Difference between 3 year historical baseline and current year observed vegetation cover at the date of maximum decrease (vegetation loss of 0-100%). This layer can be used to threshold vegetation disturbance per a given sensitivity (e.g. disturbance of >=20% vegetation cover loss).<\/SPAN><\/P>
      Layer Values:<\/SPAN><\/P>
      • 0-100: Maximum loss of percent vegetation (suggested color: white to red gradient)<\/SPAN><\/P><\/LI>
      • 255: No data (suggested color: transparent)<\/SPAN><\/P><\/LI><\/UL>
        File names: OPERA_L3_DIST-ALERT-HLS_V1_VEG-ANOM-MAX_20260629T1803_mosaic.tif, OPERA_L3_DIST-ALERT-HLS_V1_VEG-ANOM-MAX_20260702T1749_mosaic.tif, OPERA_L3_DIST-ALERT-HLS_V1_VEG-ANOM-MAX_20260703T1743_mosaic.tif<\/SPAN><\/P>
        VEG-DIST-STATUS:<\/SPAN><\/P>
        Indication of vegetation cover loss (vegetation disturbance). The status label is based on the maximum anomaly value, confidence level, and whether it is ongoing or finished. ''First'' means the pixel has had an anomaly detection but no subsequent observations whether anomalous or not. ''Provisional'' means there have been two consecutive disturbance detections but not yet with high confidence. ''Confirmed'' means that vegetation disturbance is detected with high confidence. The label ''finished'' is applied to confirmed disturbances that have had two consecutive no-anomaly observations or one 15 days or more after the last anomaly detection. If a new disturbance is detected, it will overwrite those in a ''finished'' state. These labels are reported for both above and below the 50% disturbance threshold based on the maximum anomaly value.<\/SPAN><\/P>
        Layer Values:<\/SPAN><\/P>
        • 0: No disturbance (suggested color: #121212)<\/SPAN><\/P><\/LI>
        • 1: first <50% (suggested color: #005555)<\/SPAN><\/P><\/LI>
        • 2: provisional <50% (suggested color: #897f4e)<\/SPAN><\/P><\/LI>
        • 3: confirmed <50% (suggested color: #dee043)<\/SPAN><\/P><\/LI>
        • 4: first >=50% (suggested color: #008888)<\/SPAN><\/P><\/LI>
        • 5: provisional >=50% (suggested color: #e48727)<\/SPAN><\/P><\/LI>
        • 6: confirmed >=50% (suggested color: #e01b07)<\/SPAN><\/P><\/LI>
        • 7: confirmed <50%, finished (suggested color: #777777)<\/SPAN><\/P><\/LI>
        • 8: confirmed >=50%, finished (suggested color: #dddddd)<\/SPAN><\/P><\/LI>
        • 255: No data (suggested color: transparent)<\/SPAN><\/P><\/LI><\/UL>
          File names: OPERA_L3_DIST-ALERT-HLS_V1_VEG-DIST-STATUS_20260629T1803_mosaic.tif, OPERA_L3_DIST-ALERT-HLS_V1_VEG-DIST-STATUS_20260702T1749_mosaic.tif, OPERA_L3_DIST-ALERT-HLS_V1_VEG-DIST-STATUS_20260703T1743_mosaic.tif<\/SPAN><\/P>
          Satellite/Sensor/Resolution:<\/SPAN><\/P>
          Satellite/Sensor: Harmonized Landsat Sentinel-2 (HLS) derived from MultiSpectral Instrument (MSI) on European Space Agency's (ESA) Copernicus Sentinel-2A/2B/2C satellites and Operational Land Imager 2 (OLI-2) on NASA/USGS Landsat 8/9 satellites.<\/SPAN><\/P>
          Spatial Resolution: 30 meters<\/SPAN><\/P>
          Temporal Resolution: Sub-weekly<\/SPAN><\/P>
          Credits:<\/SPAN><\/P>
          The product contains modified Copernicus Sentinel-2 and NASA Landsat 8/9 data, processed by the European Space Agency and NASA. Data were analyzed by the NASA-JPL/Caltech ARIA/OPERA team. The DIST products are produced as part of the OPERA project, which is funded by NASA to address remote sensing needs identified by the Satellite Needs Working Group, and managed by NASA's Jet Propulsion Laboratory. The DIST-ALERT-HLS product was developed and produced by the OPERA Global Land Analysis and Discovery (GLAD) laboratory at the University of Maryland.<\/SPAN><\/P>
          NASA JPL-Caltech-UMD ARIA/OPERA Team<\/SPAN><\/P>
          Product POCs: Cole Speed (cole.speed@jpl.nasa.gov) Mary Grace Bato (bato@jpl.nasa.gov) Alexander Handwerger (alexander.handwerger@jpl.nasa.gov )<\/SPAN><\/P><\/DIV><\/DIV><\/DIV>", "serviceItemId": "1c6eba90ab6c4a21b6598caf0bf52ea0", "name": "DISASTERS_202607_FIRE_CO/202614_opera_dist_vegDistStatus", "description": "

          Dates of Images:<\/span><\/p>
          20260629T1803, 20260702T1749, 20260703T1743 (GMT) (YYYYMMDDTHHMM)<\/span><\/p>
          Summary:<\/span><\/p>
          The Advanced Rapid Imaging and Analysis (ARIA) and Observational Products for End-Users from Remote Sensing Analysis (OPERA) teams at the Jet Propulsion Laboratory, California Institute of Technology produced maximum vegetation anomaly loss and disturbance status, using the OPERA Surface Disturbance Alert from Harmonized Landsat Sentinel-2 (DIST-ALERT-HLS) dataset.<\/span><\/p>
          The dataset provided includes two product types:<\/span><\/p>
          • Vegetation Disturbance Status maps on individual dates<\/span><\/p><\/li>
          • Maximum Vegetation Anomaly loss maps on individual dates<\/span><\/p><\/li><\/ul>
            Dates and Input Data:<\/span><\/p>
            • Images: June 29, 2026, July 02, 2026 and July 03, 2026<\/span><\/p><\/li>
            • Products are generated from OPERA DIST-ALERT-HLS satellite imagery and mosaicked across tiles to provide continuous coverage.<\/span><\/p><\/li><\/ul>
              Product Description: Surface Disturbance, specifically vegetation loss, is identified from optical satellite imagery and mapped at 30 m spatial resolution. The Vegetation Disturbance Status layer indicates the confidence that vegetation loss has occurred, and whether the disturbance is still ongoing or has ended. The Max Vegetation Anomaly loss shows how much vegetation has been lost at each location, based on the largest change observed during the time period. As the number of post-event images increase, the confidence in the detections increases.<\/span><\/p>
              Note we applied a temporal filter to these products. The temporal filter was used to remove any surface disturbance that occurred prior to the onset of the wildfires.<\/span><\/p>
              Caveats and Limitations:<\/span><\/p>
              This product detects vegetation loss due to any reason. Importantly, not all detected changes are due to wildfire on June 28, 2026.<\/span><\/p>
              These results are intended to support rapid emergency response. All information is provisional for use under emergency response guidelines. These data are provided with absolutely no warranty of any kind. Use at your own risk.<\/span><\/p>
              Suggested Use:<\/span><\/p>
              The OPERA DIST-ALERT-HLS maps per pixel vegetation disturbance (specifically, vegetation cover loss) from the Harmonized Landsat Sentinel-2 (HLS) scenes. We provide the (1) maximum vegetation anomaly value (VEG-ANOM-MAX) layer and (2) vegetation disturbance status (VEG-DIST-STATUS). All provided layers have been filtered to include only disturbance detected following the start of the fires.<\/span><\/p>
              VEG-ANOM-MAX:<\/span><\/p>
              Difference between 3 year historical baseline and current year observed vegetation cover at the date of maximum decrease (vegetation loss of 0-100%). This layer can be used to threshold vegetation disturbance per a given sensitivity (e.g. disturbance of >=20% vegetation cover loss).<\/span><\/p>
              Layer Values:<\/span><\/p>
              • 0-100: Maximum loss of percent vegetation (suggested color: white to red gradient)<\/span><\/p><\/li>
              • 255: No data (suggested color: transparent)<\/span><\/p><\/li><\/ul>
                File names: OPERA_L3_DIST-ALERT-HLS_V1_VEG-ANOM-MAX_20260629T1803_mosaic.tif, OPERA_L3_DIST-ALERT-HLS_V1_VEG-ANOM-MAX_20260702T1749_mosaic.tif, OPERA_L3_DIST-ALERT-HLS_V1_VEG-ANOM-MAX_20260703T1743_mosaic.tif<\/span><\/p>
                VEG-DIST-STATUS:<\/span><\/p>
                Indication of vegetation cover loss (vegetation disturbance). The status label is based on the maximum anomaly value, confidence level, and whether it is ongoing or finished. ''First'' means the pixel has had an anomaly detection but no subsequent observations whether anomalous or not. ''Provisional'' means there have been two consecutive disturbance detections but not yet with high confidence. ''Confirmed'' means that vegetation disturbance is detected with high confidence. The label ''finished'' is applied to confirmed disturbances that have had two consecutive no-anomaly observations or one 15 days or more after the last anomaly detection. If a new disturbance is detected, it will overwrite those in a ''finished'' state. These labels are reported for both above and below the 50% disturbance threshold based on the maximum anomaly value.<\/span><\/p>
                Layer Values:<\/span><\/p>
                • 0: No disturbance (suggested color: #121212)<\/span><\/p><\/li>
                • 1: first <50% (suggested color: #005555)<\/span><\/p><\/li>
                • 2: provisional <50% (suggested color: #897f4e)<\/span><\/p><\/li>
                • 3: confirmed <50% (suggested color: #dee043)<\/span><\/p><\/li>
                • 4: first >=50% (suggested color: #008888)<\/span><\/p><\/li>
                • 5: provisional >=50% (suggested color: #e48727)<\/span><\/p><\/li>
                • 6: confirmed >=50% (suggested color: #e01b07)<\/span><\/p><\/li>
                • 7: confirmed <50%, finished (suggested color: #777777)<\/span><\/p><\/li>
                • 8: confirmed >=50%, finished (suggested color: #dddddd)<\/span><\/p><\/li>
                • 255: No data (suggested color: transparent)<\/span><\/p><\/li><\/ul>
                  File names: OPERA_L3_DIST-ALERT-HLS_V1_VEG-DIST-STATUS_20260629T1803_mosaic.tif, OPERA_L3_DIST-ALERT-HLS_V1_VEG-DIST-STATUS_20260702T1749_mosaic.tif, OPERA_L3_DIST-ALERT-HLS_V1_VEG-DIST-STATUS_20260703T1743_mosaic.tif<\/span><\/p>
                  Satellite/Sensor/Resolution:<\/span><\/p>
                  Satellite/Sensor: Harmonized Landsat Sentinel-2 (HLS) derived from MultiSpectral Instrument (MSI) on European Space Agency's (ESA) Copernicus Sentinel-2A/2B/2C satellites and Operational Land Imager 2 (OLI-2) on NASA/USGS Landsat 8/9 satellites.<\/span><\/p>
                  Spatial Resolution: 30 meters<\/span><\/p>
                  Temporal Resolution: Sub-weekly<\/span><\/p>
                  Credits:<\/span><\/p>
                  The product contains modified Copernicus Sentinel-2 and NASA Landsat 8/9 data, processed by the European Space Agency and NASA. Data were analyzed by the NASA-JPL/Caltech ARIA/OPERA team. The DIST products are produced as part of the OPERA project, which is funded by NASA to address remote sensing needs identified by the Satellite Needs Working Group, and managed by NASA's Jet Propulsion Laboratory. The DIST-ALERT-HLS product was developed and produced by the OPERA Global Land Analysis and Discovery (GLAD) laboratory at the University of Maryland.<\/span><\/p>
                  NASA JPL-Caltech-UMD ARIA/OPERA Team<\/span><\/p>
                  Product POCs: Cole Speed (cole.speed@jpl.nasa.gov) Mary Grace Bato (bato@jpl.nasa.gov) Alexander Handwerger (alexander.handwerger@jpl.nasa.gov )<\/span><\/p><\/div><\/div><\/div>", "extent": { "xmin": -1.19999088292E7, "ymin": 4555164.1197, "xmax": -1.16615088292E7, "ymax": 4618344.1197, "spatialReference": { "wkid": 102100, "latestWkid": 3857 } }, "initialExtent": { "xmin": -1.19999088292E7, "ymin": 4555164.1197, "xmax": -1.16615088292E7, "ymax": 4618344.1197, "spatialReference": { "wkid": 102100, "latestWkid": 3857 } }, "fullExtent": { "xmin": -1.19999088292E7, "ymin": 4555164.1197, "xmax": -1.16615088292E7, "ymax": 4618344.1197, "spatialReference": { "wkid": 102100, "latestWkid": 3857 } }, "sortableFields": "MinPS,MaxPS,LowPS,HighPS,CenterX,CenterY,ZOrder,Shape_Length,Shape_Area", "bandCount": 1, "pixelType": "U8", "minValues": [ 1 ], "maxValues": [ 4 ], "meanValues": [ 1.3073490200501174 ], "stdvValues": [ 0.9097199056120793 ], "serviceProperties": "NorthWest<\/MosaicMethod>First<\/MosaicOperator>true<\/SortAscending><\/LockImageID>Name<\/TileOrderField>0<\/TileOrderBase>600.000000<\/AvgImageSpacingX>300.000000<\/AvgImageSpacingY>0.0<\/ViewPointX>0.0<\/ViewPointY>0.0<\/ViewPointDefShiftX>0.0<\/ViewPointDefShiftY>None<\/CompressionMethod>75<\/CompressionQuality>0.010000<\/CompressionTolerance>Bilinear<\/SamplingMethod><\/ImageServiceProperties><\/ImageServer>", "allowedFields": "Name,MinPS,MaxPS,LowPS,HighPS,Tag,GroupName,ProductName,CenterX,CenterY,ZOrder,Shape_Length,Shape_Area", "hasMultidimensions": false, "pixelSizeX": 30, "pixelSizeY": 30, "meanPixelSize": 30, "datasetFormat": "AMD", "uncompressedSize": 23755680, "blockWidth": 2048, "blockHeight": 256, "compressionType": "None", "bandNames": [ "Band_1" ], "allowCopy": true, "allowAnalysis": true, "itemAccess": false, "inspectionCapabilities": "", "minPixelSize": 0, "maxPixelSize": 0, "copyrightText": "The product contains modified Copernicus Sentinel-2 and NASA Landsat 8/9 data, processed by the European Space Agency and NASA. Data were analyzed by the NASA-JPL/Caltech ARIA/OPERA team. The DIST products are produced as part of the OPERA project, which is funded by NASA to address remote sensing needs identified by the Satellite Needs Working Group, and managed by NASA's Jet Propulsion Laboratory. The DIST-ALERT-HLS product was developed and produced by the OPERA Global Land Analysis and Discovery (GLAD) laboratory at the University of Maryland.", "serviceDataType": "esriImageServiceDataTypeGeneric", "serviceSourceType": "esriImageServiceSourceTypeMosaicDataset", "objectIdField": "OBJECTID", "fields": [ { "name": "OBJECTID", "type": "esriFieldTypeOID", "alias": "OBJECTID", "domain": null }, { "name": "Shape", "type": "esriFieldTypeGeometry", "alias": "Shape", "domain": null }, { "name": "Name", "type": "esriFieldTypeString", "alias": "Name", "domain": null, "length": 200 }, { "name": "MinPS", "type": "esriFieldTypeDouble", "alias": "MinPS", "domain": null }, { "name": "MaxPS", "type": "esriFieldTypeDouble", "alias": "MaxPS", "domain": null }, { "name": "LowPS", "type": "esriFieldTypeDouble", "alias": "LowPS", "domain": null }, { "name": "HighPS", "type": "esriFieldTypeDouble", "alias": "HighPS", "domain": null }, { "name": "Category", "type": "esriFieldTypeInteger", "alias": "Category", "domain": { "type": "codedValue", "name": "MosaicCatalogItemCategoryDomain", "description": "Catalog item categories.", "codedValues": [ { "name": "Unknown", "code": 0 }, { "name": "Primary", "code": 1 }, { "name": "Overview", "code": 2 }, { "name": "Unprocessed Overview", "code": 3 }, { "name": "Partial Overview", "code": 4 }, { "name": "Inactive", "code": 5 }, { "name": "Uploaded", "code": 253 }, { "name": "Incomplete", "code": 254 }, { "name": "Custom", "code": 255 } ], "mergePolicy": "esriMPTDefaultValue", "splitPolicy": "esriSPTDefaultValue" } }, { "name": "Tag", "type": "esriFieldTypeString", "alias": "Tag", "domain": null, "length": 100 }, { "name": "GroupName", "type": "esriFieldTypeString", "alias": "GroupName", "domain": null, "length": 100 }, { "name": "ProductName", "type": "esriFieldTypeString", "alias": "ProductName", "domain": null, "length": 100 }, { "name": "CenterX", "type": "esriFieldTypeDouble", "alias": "CenterX", "domain": null }, { "name": "CenterY", "type": "esriFieldTypeDouble", "alias": "CenterY", "domain": null }, { "name": "ZOrder", "type": "esriFieldTypeInteger", "alias": "ZOrder", "domain": null }, { "name": "Shape_Length", "type": "esriFieldTypeDouble", "alias": "Shape_Length", "domain": null }, { "name": "Shape_Area", "type": "esriFieldTypeDouble", "alias": "Shape_Area", "domain": null } ], "capabilities": "Image,Metadata,Mensuration,Catalog", "defaultMosaicMethod": "Northwest", "allowedMosaicMethods": "NorthWest,Center,LockRaster,ByAttribute,Nadir,Viewpoint,Seamline,None", "sortField": "", "sortValue": null, "sortAscending": true, "mosaicOperator": "First", "maxDownloadSizeLimit": 2048, "defaultCompressionQuality": 75, "defaultResamplingMethod": "Bilinear", "maxImageHeight": 4100, "maxImageWidth": 15000, "maxRecordCount": 1000, "maxDownloadImageCount": 20, "maxMosaicImageCount": 20, "allowRasterFunction": true, "rasterFunctionInfos": [ { "name": "opera_dist_alert_status", "description": "A raster function template.", "help": "" }, { "name": "None", "description": "Make a Raster or Raster Dataset into a Function Raster Dataset.", "help": "" } ], "rasterTypeInfos": [ { "name": "Raster Dataset", "description": "Supports all ArcGIS Raster Datasets", "help": "" } ], "mensurationCapabilities": "Basic", "hasHistograms": true, "hasColormap": false, "hasRasterAttributeTable": false, "minScale": 0, "maxScale": 0, "exportTilesAllowed": false, "supportsStatistics": true, "supportsAdvancedQueries": true, "editFieldsInfo": null, "ownershipBasedAccessControlForRasters": null, "allowComputeTiePoints": false, "useStandardizedQueries": true, "advancedQueryCapabilities": { "useStandardizedQueries": true, "supportsStatistics": true, "supportsOrderBy": true, "supportsDistinct": true, "supportsPagination": true }, "spatialReference": { "wkid": 102100, "latestWkid": 3857 } }