{ "currentVersion": 11.5, "serviceDescription": "

Dates of Images:<\/SPAN><\/P>
Post-Event: July 4, 2026<\/SPAN><\/P>
Pre-Event: June 19, 2026<\/SPAN><\/P>
Date of Next Image:<\/SPAN><\/P>
Unknown<\/SPAN><\/P>
Summary:<\/SPAN><\/P>
Normalized Differential Vegetation Index (NDVI) maps are produced by converting pixel values to NDVI = (Red \u2013 NIR)/(Red + NIR), NIR indicates the near infrared band. The dynamically generated Normalized Difference Vegetation Index (NDVI) layer is an index for quantifying green vegetation. It reflects the state of vegetation health based on how vegetation reflects light at certain wavelengths.<\/SPAN><\/P>
NDVI change was created by subtracting the cloud-masked post-event NDVI from the cloud-masked pre-event NDVI to show areas of potentially impacted vegetation as negative values (darker shades) and healthy/unimpacted vegetation in positive values (lighter shades). NDVI change can give insights to impacts from an event (like the scouring of vegetation from the riverbeds) but can also show changes in unrelated areas like the clearing of agriculture fields.<\/SPAN><\/P>
This layer is a binary NDVI change polygon (threshold of areas where NDVI decreased by -0.25 or more) for November 2, 2025 as compared to October 20, 2025.<\/SPAN><\/P>
Suggested Use:<\/SPAN><\/P>
NDVI change: Commonly used to distinguish healthy/active vegetation (positive values) from potentially unhealthy/impacted vegetation (negative values). This map shows a binary flag where NDVI decreased.<\/SPAN><\/P>
Satellite/Sensor:<\/SPAN><\/P>
MultiSpectral Instrument (MSI) on European Space Agency's (ESA) Copernicus Sentinel-2A/2B satellites<\/SPAN><\/P>
Resolution:<\/SPAN><\/P>
10 meters<\/SPAN><\/P>
Credits:<\/SPAN><\/P>
NASA/MSFC, USGS, ESA Copernicus<\/SPAN><\/P>
Esri REST Endpoint:<\/SPAN><\/P>
See URL section on right side of page<\/SPAN><\/P><\/DIV><\/DIV><\/DIV>", "serviceItemId": "42bc5000cf954fff904eb2a1dd1d5c27", "name": "DISASTERS_202607_FIRE_CO/202614_sentinel2_bndviChange", "description": "

Dates of Images:<\/SPAN><\/P>
Post-Event: July 4, 2026<\/SPAN><\/P>
Pre-Event: June 19, 2026<\/SPAN><\/P>
Date of Next Image:<\/SPAN><\/P>
Unknown<\/SPAN><\/P>
Summary:<\/SPAN><\/P>
Normalized Differential Vegetation Index (NDVI) maps are produced by converting pixel values to NDVI = (Red \u2013 NIR)/(Red + NIR), NIR indicates the near infrared band. The dynamically generated Normalized Difference Vegetation Index (NDVI) layer is an index for quantifying green vegetation. It reflects the state of vegetation health based on how vegetation reflects light at certain wavelengths.<\/SPAN><\/P>
NDVI change was created by subtracting the cloud-masked post-event NDVI from the cloud-masked pre-event NDVI to show areas of potentially impacted vegetation as negative values (darker shades) and healthy/unimpacted vegetation in positive values (lighter shades). NDVI change can give insights to impacts from an event (like the scouring of vegetation from the riverbeds) but can also show changes in unrelated areas like the clearing of agriculture fields.<\/SPAN><\/P>
This layer is a binary NDVI change polygon (threshold of areas where NDVI decreased by -0.25 or more) for November 2, 2025 as compared to October 20, 2025.<\/SPAN><\/P>
Suggested Use:<\/SPAN><\/P>
NDVI change: Commonly used to distinguish healthy/active vegetation (positive values) from potentially unhealthy/impacted vegetation (negative values). This map shows a binary flag where NDVI decreased.<\/SPAN><\/P>
Satellite/Sensor:<\/SPAN><\/P>
MultiSpectral Instrument (MSI) on European Space Agency's (ESA) Copernicus Sentinel-2A/2B satellites<\/SPAN><\/P>
Resolution:<\/SPAN><\/P>
10 meters<\/SPAN><\/P>
Credits:<\/SPAN><\/P>
NASA/MSFC, USGS, ESA Copernicus<\/SPAN><\/P>
Esri REST Endpoint:<\/SPAN><\/P>
See URL section on right side of page<\/SPAN><\/P><\/DIV><\/DIV><\/DIV>", "extent": { "xmin": -1.20731000442E7, "ymin": 4552634.991903244, "xmax": -1.1929196636872455E7, "ymax": 4697126.748899996, "spatialReference": { "wkid": 102100, "latestWkid": 3857 } }, "initialExtent": { "xmin": -1.20731000442E7, "ymin": 4552634.991903244, "xmax": -1.1929196636872455E7, "ymax": 4697126.748899996, "spatialReference": { "wkid": 102100, "latestWkid": 3857 } }, "fullExtent": { "xmin": -1.20731000442E7, "ymin": 4552634.991903244, "xmax": -1.1929196636872455E7, "ymax": 4697126.748899996, "spatialReference": { "wkid": 102100, "latestWkid": 3857 } }, "sortableFields": "MinPS,MaxPS,LowPS,HighPS,CenterX,CenterY,ZOrder,Shape_Length,Shape_Area", "bandCount": 1, "pixelType": "U8", "minValues": [], "maxValues": [], "meanValues": [], "stdvValues": [], "serviceProperties": "NorthWest<\/MosaicMethod>First<\/MosaicOperator>true<\/SortAscending><\/LockImageID>Name<\/TileOrderField>0<\/TileOrderBase>600.000000<\/AvgImageSpacingX>300.000000<\/AvgImageSpacingY>0.0<\/ViewPointX>0.0<\/ViewPointY>0.0<\/ViewPointDefShiftX>0.0<\/ViewPointDefShiftY>None<\/CompressionMethod>75<\/CompressionQuality>0.010000<\/CompressionTolerance>Bilinear<\/SamplingMethod><\/ImageServiceProperties><\/ImageServer>", "allowedFields": "Name,MinPS,MaxPS,LowPS,HighPS,Tag,GroupName,ProductName,CenterX,CenterY,ZOrder,Shape_Length,Shape_Area,Date", "hasMultidimensions": false, "pixelSizeX": 11.536268023692797, "pixelSizeY": 11.53626802369283, "meanPixelSize": 11.536268023692813, "datasetFormat": "AMD", "uncompressedSize": 156236850, "blockWidth": 2048, "blockHeight": 256, "compressionType": "None", "bandNames": [ "Band_1" ], "allowCopy": true, "allowAnalysis": true, "itemAccess": false, "inspectionCapabilities": "", "minPixelSize": 0, "maxPixelSize": 0, "copyrightText": "NASA/MSFC, USGS, ESA Copernicus", "serviceDataType": "esriImageServiceDataTypeGeneric", "serviceSourceType": "esriImageServiceSourceTypeMosaicDataset", "objectIdField": "OBJECTID", "fields": [ { "name": "OBJECTID", "type": "esriFieldTypeOID", "alias": "OBJECTID", "domain": null }, { "name": "Shape", "type": "esriFieldTypeGeometry", "alias": "Shape", "domain": null }, { "name": "Name", "type": "esriFieldTypeString", "alias": "Name", "domain": null, "length": 200 }, { "name": "MinPS", "type": "esriFieldTypeDouble", "alias": "MinPS", "domain": null }, { "name": "MaxPS", "type": "esriFieldTypeDouble", "alias": "MaxPS", "domain": null }, { "name": "LowPS", "type": "esriFieldTypeDouble", "alias": "LowPS", "domain": null }, { "name": "HighPS", "type": "esriFieldTypeDouble", "alias": "HighPS", "domain": null }, { "name": "Category", "type": "esriFieldTypeInteger", "alias": "Category", "domain": { "type": "codedValue", "name": "MosaicCatalogItemCategoryDomain", "description": "Catalog item categories.", "codedValues": [ { "name": "Unknown", "code": 0 }, { "name": "Primary", "code": 1 }, { "name": "Overview", "code": 2 }, { "name": "Unprocessed Overview", "code": 3 }, { "name": "Partial Overview", "code": 4 }, { "name": "Inactive", "code": 5 }, { "name": "Uploaded", "code": 253 }, { "name": "Incomplete", "code": 254 }, { "name": "Custom", "code": 255 } ], "mergePolicy": "esriMPTDefaultValue", "splitPolicy": "esriSPTDefaultValue" } }, { "name": "Tag", "type": "esriFieldTypeString", "alias": "Tag", "domain": null, "length": 100 }, { "name": "GroupName", "type": "esriFieldTypeString", "alias": "GroupName", "domain": null, "length": 100 }, { "name": "ProductName", "type": "esriFieldTypeString", "alias": "ProductName", "domain": null, "length": 100 }, { "name": "CenterX", "type": "esriFieldTypeDouble", "alias": "CenterX", "domain": null }, { "name": "CenterY", "type": "esriFieldTypeDouble", "alias": "CenterY", "domain": null }, { "name": "ZOrder", "type": "esriFieldTypeInteger", "alias": "ZOrder", "domain": null }, { "name": "Date", "type": "esriFieldTypeDateOnly", "alias": "Date", "domain": null }, { "name": "Shape_Length", "type": "esriFieldTypeDouble", "alias": "Shape_Length", "domain": null }, { "name": "Shape_Area", "type": "esriFieldTypeDouble", "alias": "Shape_Area", "domain": null } ], "capabilities": "Image,Metadata,Mensuration,Catalog", "defaultMosaicMethod": "Northwest", "allowedMosaicMethods": "NorthWest,Center,LockRaster,ByAttribute,Nadir,Viewpoint,Seamline,None", "sortField": "", "sortValue": null, "sortAscending": true, "mosaicOperator": "First", "maxDownloadSizeLimit": 2048, "defaultCompressionQuality": 75, "defaultResamplingMethod": "Bilinear", "maxImageHeight": 4100, "maxImageWidth": 15000, "maxRecordCount": 1000, "maxDownloadImageCount": 20, "maxMosaicImageCount": 20, "allowRasterFunction": true, "rasterFunctionInfos": [ { "name": "None", "description": "Make a Raster or Raster Dataset into a Function Raster Dataset.", "help": "" } ], "rasterTypeInfos": [ { "name": "Raster Dataset", "description": "Supports all ArcGIS Raster Datasets", "help": "" } ], "mensurationCapabilities": "Basic", "hasHistograms": false, "hasColormap": false, "hasRasterAttributeTable": false, "minScale": 0, "maxScale": 0, "exportTilesAllowed": false, "supportsStatistics": true, "supportsAdvancedQueries": true, "editFieldsInfo": null, "ownershipBasedAccessControlForRasters": null, "allowComputeTiePoints": false, "useStandardizedQueries": true, "advancedQueryCapabilities": { "useStandardizedQueries": true, "supportsStatistics": true, "supportsOrderBy": true, "supportsDistinct": true, "supportsPagination": true }, "spatialReference": { "wkid": 102100, "latestWkid": 3857 } }