{ "currentVersion": 11.5, "serviceDescription": "

Dates of Images:<\/SPAN><\/P>
July 4-July 8<\/SPAN><\/P>
Summary:<\/SPAN><\/P>
This product provides the PM2.5 impacts at the surface from the Sandy Fire by calculating the total number of daytime hours when surface fine particulate matter (PM2.5) exceeded the 35 µg/m³ health threshold for sensitive groups (USG). Surface concentrations of PM2.5 Level 4 (L4) files were generated from Tropospheric Emissions: Monitoring of Pollution (TEMPO) Satellite and Advanced Baseline Imager (ABI) aerosol retrievals. The aerosol optical depth (AOD) and PM2.5 products were created at NOAA/NESDIS. The data covers the daytime observation windows during the active fire period from May 18 to May 25, 2026. Because TEMPO relies on sunlight, these observations represent approximately 10 to 12 hours of sun-lit coverage per calendar day rather than a full 24-hour cycle.<\/SPAN><\/P>
For emergency managers, this highlights total cumulative exposure durations, allowing officials to efficiently target health impacts in heavily affected communities.<\/SPAN><\/P>
Caveats and Limitations:<\/SPAN><\/P>
Since the TEMPO instrument only makes observations during daylight hours, communities likely experienced significant additional nighttime smoke exposure that is not captured in these products. Furthermore, dense cloud cover can block satellite measurements, and these values may underestimate the true duration of smoke exposure in persistently cloudy areas. TEMPO data also exhibits more noise at the edges of clouds.<\/SPAN><\/P>
Suggested Use:<\/SPAN><\/P>
While hours when surface PM2.5 was greater than 35 µg/m³ represents the health standard referred to as \"Unhealthy for Sensitive Groups,\" this daytime-only product is developed only for rapid disaster response and should not be used for official EPA regulatory compliance, which requires a full 24-hour average. Red colors in the image represent more hours when the surface pM2.5 concentrations were higher than 35 µg/m³.<\/SPAN><\/P>
Satellite/Sensor/Resolution:<\/SPAN><\/P>
The surface PM2.5 product is estimated using data from two primary instruments: the TEMPO spectrometer aboard the Intelsat-40e commercial satellite and the Advanced Baseline Imager (ABI) on the GOES-R Series satellites (GOES-East and GOES-West). The final product is derived using a geographically weighted regression (GWR) algorithm that combines satellite aerosol optical depth (AOD) and aerosol layer height (ALH) with hourly data from AIRNOW surface monitors. While the raw TEMPO data has a native resolution of 2.0 km by 4.75 km, it is re-scaled to match the ABI's fixed grid, resulting in a final product with a spatial resolution of 2 km.<\/SPAN><\/P>
Credits:<\/SPAN><\/P>
AOD and PM2.5 were provided by NOAA/NESDIS. Data analysis and cumulative exposure maps were created by Dr. Aishwarya Raman (BAERI/NASA ARC). Point of contact for TEMPO PM2.5 data - Amy Huff (Science and Technology Corporation (STC) at NOAA) and Shobha Kondragunta (NOAA).<\/SPAN><\/P>
Esri REST Endpoint:<\/SPAN><\/P>
See URL to the right.<\/SPAN><\/P>
Data Download:<\/SPAN><\/P>
For data, please contact Amy Huff (Science and Technology Corporation (STC) at NOAA) and Shobha Kondragunta (NOAA).<\/SPAN><\/P><\/DIV><\/DIV>", "serviceItemId": "051a8558de29423896e4a5515782d18b", "name": "DISASTERS_202607_FIRE_CO/202614_tempo_pm25_daily", "description": "

Dates of Images:<\/SPAN><\/P>
July 4-July 8<\/SPAN><\/P>
Summary:<\/SPAN><\/P>
This product provides the PM2.5 impacts at the surface from the Sandy Fire by calculating the total number of daytime hours when surface fine particulate matter (PM2.5) exceeded the 35 µg/m³ health threshold for sensitive groups (USG). Surface concentrations of PM2.5 Level 4 (L4) files were generated from Tropospheric Emissions: Monitoring of Pollution (TEMPO) Satellite and Advanced Baseline Imager (ABI) aerosol retrievals. The aerosol optical depth (AOD) and PM2.5 products were created at NOAA/NESDIS. The data covers the daytime observation windows during the active fire period from May 18 to May 25, 2026. Because TEMPO relies on sunlight, these observations represent approximately 10 to 12 hours of sun-lit coverage per calendar day rather than a full 24-hour cycle.<\/SPAN><\/P>
For emergency managers, this highlights total cumulative exposure durations, allowing officials to efficiently target health impacts in heavily affected communities.<\/SPAN><\/P>
Caveats and Limitations:<\/SPAN><\/P>
Since the TEMPO instrument only makes observations during daylight hours, communities likely experienced significant additional nighttime smoke exposure that is not captured in these products. Furthermore, dense cloud cover can block satellite measurements, and these values may underestimate the true duration of smoke exposure in persistently cloudy areas. TEMPO data also exhibits more noise at the edges of clouds.<\/SPAN><\/P>
Suggested Use:<\/SPAN><\/P>
While hours when surface PM2.5 was greater than 35 µg/m³ represents the health standard referred to as \"Unhealthy for Sensitive Groups,\" this daytime-only product is developed only for rapid disaster response and should not be used for official EPA regulatory compliance, which requires a full 24-hour average. Red colors in the image represent more hours when the surface pM2.5 concentrations were higher than 35 µg/m³.<\/SPAN><\/P>
Satellite/Sensor/Resolution:<\/SPAN><\/P>
The surface PM2.5 product is estimated using data from two primary instruments: the TEMPO spectrometer aboard the Intelsat-40e commercial satellite and the Advanced Baseline Imager (ABI) on the GOES-R Series satellites (GOES-East and GOES-West). The final product is derived using a geographically weighted regression (GWR) algorithm that combines satellite aerosol optical depth (AOD) and aerosol layer height (ALH) with hourly data from AIRNOW surface monitors. While the raw TEMPO data has a native resolution of 2.0 km by 4.75 km, it is re-scaled to match the ABI's fixed grid, resulting in a final product with a spatial resolution of 2 km.<\/SPAN><\/P>
Credits:<\/SPAN><\/P>
AOD and PM2.5 were provided by NOAA/NESDIS. Data analysis and cumulative exposure maps were created by Dr. Aishwarya Raman (BAERI/NASA ARC). Point of contact for TEMPO PM2.5 data - Amy Huff (Science and Technology Corporation (STC) at NOAA) and Shobha Kondragunta (NOAA).<\/SPAN><\/P>
Esri REST Endpoint:<\/SPAN><\/P>
See URL to the right.<\/SPAN><\/P>
Data Download:<\/SPAN><\/P>
For data, please contact Amy Huff (Science and Technology Corporation (STC) at NOAA) and Shobha Kondragunta (NOAA).<\/SPAN><\/P><\/DIV><\/DIV>", "extent": { "xmin": -1.20781647511E7, "ymin": 4507938.150276914, "xmax": -1.1888921616751434E7, "ymax": 4721671.5726, "spatialReference": { "wkid": 102100, "latestWkid": 3857 } }, "initialExtent": { "xmin": -1.20781647511E7, "ymin": 4507938.150276914, "xmax": -1.1888921616751434E7, "ymax": 4721671.5726, "spatialReference": { "wkid": 102100, "latestWkid": 3857 } }, "fullExtent": { "xmin": -1.20781647511E7, "ymin": 4507938.150276914, "xmax": -1.1888921616751434E7, "ymax": 4721671.5726, "spatialReference": { "wkid": 102100, "latestWkid": 3857 } }, "sortableFields": "MinPS,MaxPS,LowPS,HighPS,CenterX,CenterY,ZOrder,Shape_Length,Shape_Area", "bandCount": 1, "pixelType": "F32", "minValues": [ 1.3708254098892212 ], "maxValues": [ 182.8787078857422 ], "meanValues": [ 23.897623631896572 ], "stdvValues": [ 10.631751913110735 ], "serviceProperties": "NorthWest<\/MosaicMethod>First<\/MosaicOperator>true<\/SortAscending><\/LockImageID>Name<\/TileOrderField>0<\/TileOrderBase>600.000000<\/AvgImageSpacingX>300.000000<\/AvgImageSpacingY>0.0<\/ViewPointX>0.0<\/ViewPointY>0.0<\/ViewPointDefShiftX>0.0<\/ViewPointDefShiftY>None<\/CompressionMethod>75<\/CompressionQuality>0.010000<\/CompressionTolerance>Nearest<\/SamplingMethod><\/ImageServiceProperties><\/ImageServer>", "allowedFields": "Name,MinPS,MaxPS,LowPS,HighPS,Tag,GroupName,ProductName,CenterX,CenterY,ZOrder,Shape_Length,Shape_Area,Date", "hasMultidimensions": false, "pixelSizeX": 2226.389815865479, "pixelSizeY": 2226.3898158654724, "meanPixelSize": 2226.3898158654756, "datasetFormat": "AMD", "uncompressedSize": 32640, "blockWidth": 2048, "blockHeight": 256, "compressionType": "None", "bandNames": [ "Band_1" ], "allowCopy": true, "allowAnalysis": true, "itemAccess": false, "inspectionCapabilities": "", "minPixelSize": 0, "maxPixelSize": 0, "copyrightText": "NOAA/NESDIS. Data analysis and maps created by Dr. Aishwarya Raman (BAERI/NASA ARC). TEMPO PM2.5 POC Amy Huff (NOAA STC) and Shobha Kondragunta (NOAA)", "serviceDataType": "esriImageServiceDataTypeGeneric", "serviceSourceType": "esriImageServiceSourceTypeMosaicDataset", "objectIdField": "OBJECTID", "fields": [ { "name": "OBJECTID", "type": "esriFieldTypeOID", "alias": "OBJECTID", "domain": null }, { "name": "Shape", "type": "esriFieldTypeGeometry", "alias": "Shape", "domain": null }, { "name": "Name", "type": "esriFieldTypeString", "alias": "Name", "domain": null, "length": 200 }, { "name": "MinPS", "type": "esriFieldTypeDouble", "alias": "MinPS", "domain": null }, { "name": "MaxPS", "type": "esriFieldTypeDouble", "alias": "MaxPS", "domain": null }, { "name": "LowPS", "type": "esriFieldTypeDouble", "alias": "LowPS", "domain": null }, { "name": "HighPS", "type": "esriFieldTypeDouble", "alias": "HighPS", "domain": null }, { "name": "Category", "type": "esriFieldTypeInteger", "alias": "Category", "domain": { "type": "codedValue", "name": "MosaicCatalogItemCategoryDomain", "description": "Catalog item categories.", "codedValues": [ { "name": "Unknown", "code": 0 }, { "name": "Primary", "code": 1 }, { "name": "Overview", "code": 2 }, { "name": "Unprocessed Overview", "code": 3 }, { "name": "Partial Overview", "code": 4 }, { "name": "Inactive", "code": 5 }, { "name": "Uploaded", "code": 253 }, { "name": "Incomplete", "code": 254 }, { "name": "Custom", "code": 255 } ], "mergePolicy": "esriMPTDefaultValue", "splitPolicy": "esriSPTDefaultValue" } }, { "name": "Tag", "type": "esriFieldTypeString", "alias": "Tag", "domain": null, "length": 100 }, { "name": "GroupName", "type": "esriFieldTypeString", "alias": "GroupName", "domain": null, "length": 100 }, { "name": "ProductName", "type": "esriFieldTypeString", "alias": "ProductName", "domain": null, "length": 100 }, { "name": "CenterX", "type": "esriFieldTypeDouble", "alias": "CenterX", "domain": null }, { "name": "CenterY", "type": "esriFieldTypeDouble", "alias": "CenterY", "domain": null }, { "name": "ZOrder", "type": "esriFieldTypeInteger", "alias": "ZOrder", "domain": null }, { "name": "Date", "type": "esriFieldTypeDateOnly", "alias": "Date", "domain": null }, { "name": "Shape_Length", "type": "esriFieldTypeDouble", "alias": "Shape_Length", "domain": null }, { "name": "Shape_Area", "type": "esriFieldTypeDouble", "alias": "Shape_Area", "domain": null } ], "capabilities": "Image,Metadata,Mensuration,Catalog", "defaultMosaicMethod": "Northwest", "allowedMosaicMethods": "NorthWest,Center,LockRaster,ByAttribute,Nadir,Viewpoint,Seamline,None", "sortField": "", "sortValue": null, "sortAscending": true, "mosaicOperator": "First", "maxDownloadSizeLimit": 2048, "defaultCompressionQuality": 75, "defaultResamplingMethod": "Nearest", "maxImageHeight": 4100, "maxImageWidth": 15000, "maxRecordCount": 1000, "maxDownloadImageCount": 20, "maxMosaicImageCount": 20, "allowRasterFunction": true, "rasterFunctionInfos": [ { "name": "None", "description": "", "help": "" } ], "rasterTypeInfos": [ { "name": "Raster Dataset", "description": "Supports all ArcGIS Raster Datasets", "help": "" } ], "mensurationCapabilities": "Basic", "hasHistograms": true, "hasColormap": false, "hasRasterAttributeTable": false, "minScale": 0, "maxScale": 0, "exportTilesAllowed": false, "supportsStatistics": true, "supportsAdvancedQueries": true, "editFieldsInfo": null, "ownershipBasedAccessControlForRasters": null, "allowComputeTiePoints": false, "useStandardizedQueries": true, "advancedQueryCapabilities": { "useStandardizedQueries": true, "supportsStatistics": true, "supportsOrderBy": true, "supportsDistinct": true, "supportsPagination": true }, "spatialReference": { "wkid": 102100, "latestWkid": 3857 } }