Date(s) of Images:<\/SPAN><\/P>Post-Event: 7/29/2026, 7/31/2026, and 8/1/2026<\/SPAN><\/P>Summary:<\/SPAN><\/P>Satellogic\u2019s operates a commercial constellation of satellites and sensors that offers 4 band (R,G, B and NIR) acquisitions.<\/SPAN><\/P>True Color: The True Color RGB composite provides a product of how the surface would look to the naked eye from space. The RGB is created using the red, green, and blue channels of the respective instrument.<\/SPAN><\/P>Resolution:<\/SPAN><\/P>0.5 m to 1 m depending on generation of sensor used and viewing angle.<\/SPAN><\/P>Credits:<\/SPAN><\/P>NASA Disasters Program, Satellogic. For derived products: \u201cIncludes copyrighted material of Satellogic. All rights reserved.\u201d This work utilized data made available through the NASA Commercial Satellite Data Acquisition (CSDA) program.\"<\/SPAN><\/P><\/DIV><\/DIV><\/DIV>",
"serviceItemId": "3e62873a71da43afbdb20fbf55300977",
"name": "DISASTERS_202607_FIRE_OR/202618_satellogic",
"description": "NOTE: <\/span>due to the high resolution, users may need to zoom into individual tiles to view imagery. Open the attribute table, select a layer, and zoom to the tile to view if difficulties arise.<\/p>Date(s) of Images:<\/span><\/p>Post-Event: 7/29/2026, 7/31/2026, and 8/1/2026<\/span><\/p>Summary:<\/span><\/p>Satellogic\u2019s operates a commercial constellation of satellites and sensors that offers 4 band (R,G, B and NIR) acquisitions.<\/span><\/p>True Color: The True Color RGB composite provides a product of how the surface would look to the naked eye from space. The RGB is created using the red, green, and blue channels of the respective instrument.<\/span><\/p>Resolution:<\/span><\/p>0.5 m to 1 m depending on generation of sensor used and viewing angle.<\/span><\/p>Credits:<\/span><\/p>NASA Disasters Program, Satellogic. For derived products: \u201cIncludes copyrighted material of Satellogic. All rights reserved.\u201d This work utilized data made available through the NASA Commercial Satellite Data Acquisition (CSDA) program."<\/span><\/p><\/div><\/div><\/div>",
"extent": {
"xmin": -1.35330197956E7,
"ymin": 5469415.447300002,
"xmax": -1.25934167956E7,
"ymax": 6256492.447300002,
"spatialReference": {
"wkid": 102100,
"latestWkid": 3857
}
},
"initialExtent": {
"xmin": -1.35330197956E7,
"ymin": 5469415.447300002,
"xmax": -1.25934167956E7,
"ymax": 6256492.447300002,
"spatialReference": {
"wkid": 102100,
"latestWkid": 3857
}
},
"fullExtent": {
"xmin": -1.35330197956E7,
"ymin": 5469415.447300002,
"xmax": -1.25934167956E7,
"ymax": 6256492.447300002,
"spatialReference": {
"wkid": 102100,
"latestWkid": 3857
}
},
"sortableFields": "MinPS,MaxPS,LowPS,HighPS,CenterX,CenterY,ZOrder,Shape_Length,Shape_Area",
"bandCount": 3,
"pixelType": "U8",
"minValues": [
22,
39,
29
],
"maxValues": [
255,
255,
255
],
"meanValues": [
170.77613599905953,
169.7329418305502,
165.55687318537784
],
"stdvValues": [
41.009155049511065,
39.95435981167578,
43.38215340545753
],
"serviceProperties": "NorthWest<\/MosaicMethod>First<\/MosaicOperator>true<\/SortAscending><\/LockImageID>Name<\/TileOrderField>0<\/TileOrderBase>600.000000<\/AvgImageSpacingX>300.000000<\/AvgImageSpacingY>0.0<\/ViewPointX>0.0<\/ViewPointY>0.0<\/ViewPointDefShiftX>0.0<\/ViewPointDefShiftY>None<\/CompressionMethod>75<\/CompressionQuality>0.010000<\/CompressionTolerance>Bilinear<\/SamplingMethod><\/ImageServiceProperties><\/ImageServer>",
"allowedFields": "Name,MinPS,MaxPS,LowPS,HighPS,Tag,GroupName,ProductName,CenterX,CenterY,ZOrder,Shape_Length,Shape_Area,Date",
"hasMultidimensions": false,
"pixelSizeX": 0.5,
"pixelSizeY": 0.5,
"meanPixelSize": 0.5,
"datasetFormat": "AMD",
"uncompressedSize": 8874478925172,
"blockWidth": 2048,
"blockHeight": 256,
"compressionType": "None",
"bandNames": [
"Band_1",
"Band_2",
"Band_3"
],
"allowCopy": true,
"allowAnalysis": true,
"itemAccess": false,
"inspectionCapabilities": "",
"minPixelSize": 0,
"maxPixelSize": 0,
"copyrightText": "NASA Disasters Program, Satellogic. For derived products: \u201cIncludes copyrighted material of Satellogic. All rights reserved.\u201d This work utilized data made available through the NASA Commercial Satellite Data Acquisition (CSDA) program.\"",
"serviceDataType": "esriImageServiceDataTypeRGB",
"serviceSourceType": "esriImageServiceSourceTypeMosaicDataset",
"objectIdField": "OBJECTID",
"fields": [
{
"name": "OBJECTID",
"type": "esriFieldTypeOID",
"alias": "OBJECTID",
"domain": null
},
{
"name": "Shape",
"type": "esriFieldTypeGeometry",
"alias": "Shape",
"domain": null
},
{
"name": "Name",
"type": "esriFieldTypeString",
"alias": "Name",
"domain": null,
"length": 200
},
{
"name": "MinPS",
"type": "esriFieldTypeDouble",
"alias": "MinPS",
"domain": null
},
{
"name": "MaxPS",
"type": "esriFieldTypeDouble",
"alias": "MaxPS",
"domain": null
},
{
"name": "LowPS",
"type": "esriFieldTypeDouble",
"alias": "LowPS",
"domain": null
},
{
"name": "HighPS",
"type": "esriFieldTypeDouble",
"alias": "HighPS",
"domain": null
},
{
"name": "Category",
"type": "esriFieldTypeInteger",
"alias": "Category",
"domain": {
"type": "codedValue",
"name": "MosaicCatalogItemCategoryDomain",
"description": "Catalog item categories.",
"codedValues": [
{
"name": "Unknown",
"code": 0
},
{
"name": "Primary",
"code": 1
},
{
"name": "Overview",
"code": 2
},
{
"name": "Unprocessed Overview",
"code": 3
},
{
"name": "Partial Overview",
"code": 4
},
{
"name": "Inactive",
"code": 5
},
{
"name": "Uploaded",
"code": 253
},
{
"name": "Incomplete",
"code": 254
},
{
"name": "Custom",
"code": 255
}
],
"mergePolicy": "esriMPTDefaultValue",
"splitPolicy": "esriSPTDefaultValue"
}
},
{
"name": "Tag",
"type": "esriFieldTypeString",
"alias": "Tag",
"domain": null,
"length": 100
},
{
"name": "GroupName",
"type": "esriFieldTypeString",
"alias": "GroupName",
"domain": null,
"length": 100
},
{
"name": "ProductName",
"type": "esriFieldTypeString",
"alias": "ProductName",
"domain": null,
"length": 100
},
{
"name": "CenterX",
"type": "esriFieldTypeDouble",
"alias": "CenterX",
"domain": null
},
{
"name": "CenterY",
"type": "esriFieldTypeDouble",
"alias": "CenterY",
"domain": null
},
{
"name": "ZOrder",
"type": "esriFieldTypeInteger",
"alias": "ZOrder",
"domain": null
},
{
"name": "Date",
"type": "esriFieldTypeDateOnly",
"alias": "Date",
"domain": null
},
{
"name": "Shape_Length",
"type": "esriFieldTypeDouble",
"alias": "Shape_Length",
"domain": null
},
{
"name": "Shape_Area",
"type": "esriFieldTypeDouble",
"alias": "Shape_Area",
"domain": null
}
],
"capabilities": "Image,Metadata,Catalog",
"defaultMosaicMethod": "Northwest",
"allowedMosaicMethods": "NorthWest,Center,LockRaster,ByAttribute,Nadir,Viewpoint,Seamline,None",
"sortField": "",
"sortValue": null,
"sortAscending": true,
"mosaicOperator": "First",
"maxDownloadSizeLimit": 2048,
"defaultCompressionQuality": 75,
"defaultResamplingMethod": "Bilinear",
"maxImageHeight": 4100,
"maxImageWidth": 15000,
"maxRecordCount": 1000,
"maxDownloadImageCount": 20,
"maxMosaicImageCount": 20,
"allowRasterFunction": true,
"rasterFunctionInfos": [
{
"name": "None",
"description": "",
"help": ""
}
],
"rasterTypeInfos": [
{
"name": "Raster Dataset",
"description": "Supports all ArcGIS Raster Datasets",
"help": ""
}
],
"mensurationCapabilities": "",
"hasHistograms": true,
"hasColormap": false,
"hasRasterAttributeTable": false,
"minScale": 0,
"maxScale": 0,
"exportTilesAllowed": false,
"supportsStatistics": true,
"supportsAdvancedQueries": true,
"editFieldsInfo": null,
"ownershipBasedAccessControlForRasters": null,
"allowComputeTiePoints": false,
"useStandardizedQueries": true,
"advancedQueryCapabilities": {
"useStandardizedQueries": true,
"supportsStatistics": true,
"supportsOrderBy": true,
"supportsDistinct": true,
"supportsPagination": true
},
"spatialReference": {
"wkid": 102100,
"latestWkid": 3857
}
}