{ "currentVersion": 11.5, "serviceDescription": "

Dates of Images:<\/SPAN><\/P>
Post-Event: 6/29/2026, 7/01/2026, 7/02/2026, 7/04/2026, 7/6/2026, 7/9/2026, 7/11/2026, 7/14/2026<\/SPAN><\/P>
Pre-Event: 6/16/2026, 6/19/2026<\/SPAN><\/P>
Date of Next Image:<\/SPAN><\/P>
Unknown<\/SPAN><\/P>
Summary:<\/SPAN><\/P>
The True Color RGB composite provides a product of how the surface would look to the naked eye from space. The RGB is created using the red, green, and blue channels of the respective instrument.<\/SPAN><\/P>
The Color Infrared composite is created using the near-infrared, red, and green channels. The near-infrared gives the ability to see through thin clouds. Healthy vegetation is shown as red, water is in blue.<\/SPAN><\/P>
These pre-fire and post-fire images pair were analyzed for normalized burn ratio (NBR). The input images were generated from the Sentinel2- dataset at 10m resolution.<\/SPAN><\/P>
NBR is defined mathematically as (NIR \u2013 SWIR)/(NIR + SWIR) where NIR is near-infrared and SWIR is short-wave infrared. dNBR is computed by the difference between the pre-fire NBR and the post-fire NBR. More information on dNBR can be found here: https://un-spider.org/advisory-support/recommended-practices/recommended-practice-burn-severity/in-detail/normalized-burn-ratio.<\/SPAN><\/P>
Check fire containment and image dates for further context on image timing.<\/SPAN><\/P>
Federal permitted grazing land maps from the US Forest Service and Department of Interior - Bureau of Land Management (BLM) are shown in the web map. For more information: https://data-usfs.hub.arcgis.com/datasets/usfs::range-unit-allotment-3/about & https://gbp-blm-egis.hub.arcgis.com/datasets/BLM-EGIS::blm-colorado-grazing-allotments/about<\/SPAN><\/P>
Suggested Use:<\/SPAN><\/P>
The True Color RGB provides a product of how the surface would look to the naked eye from space. The True Color RGB is produced using the 3 visible wavelength bands (red, green, and blue) from the respective sensor. Some minor atmospheric corrections have occurred.<\/SPAN><\/P>
A Color Infrared composite depicts healthy vegetation as red, water as blue. Some minor atmospheric corrections have occurred.<\/SPAN><\/P>
NBR is commonly used as a proxy to indicate areas which have charred vegetation. Darker areas (more negative values) in the NBR image more strongly represent the presence of burned vegetation. Since the dNBR considers the condition of the scene before the fire occurred, the resulting value has been used as a proxy for burn severity. Higher dNBR values represent a proxy for greater burn severity. Negative dNBR values may represent a re-greening of or growth of vegetation in between pre and post imagery.<\/SPAN><\/P>
The use of this dNBR product as a quantitative metric of burn severity at the time of posting this dataset should be strongly caveated. This is due to several dNBR limitations:<\/SPAN><\/P>
The spectral band selections used for dNBR calculations, and the implication of changes observed following fire in those wavelengths, primarily pertain to how vegetation spectral signatures change in NIR and SWIR wavelengths following charring. Because of this, dNBR may not accurately describe burned surfaces that are not vegetation (e.g. human built infrastructure).<\/SPAN><\/P>
This dataset has not been validated by independent burn severity assessments.<\/SPAN><\/P>
The degree to which dNBR is accurately determined depends on careful selection of pre and post event imagery. An effort was made to use the highest quality imagery (i.e. cloud free) with representative conditions for each scene; however, it is unknown at the time of this posting how selection of different pre/post image pairs could affect the derived dNBR values.<\/SPAN><\/P>
Satellite/Sensor:<\/SPAN><\/P>
MultiSpectral Instrument (MSI) on European Space Agency's (ESA) Copernicus Sentinel-2A/2B satellites<\/SPAN><\/P>
Resolution:<\/SPAN><\/P>
True Color: 10 meters<\/SPAN><\/P>
Credits:<\/SPAN><\/P>
NASA/MSFC, USGS, ESA Copernicus<\/SPAN><\/P>
Esri REST Endpoint:<\/SPAN><\/P>
See layers below.<\/SPAN><\/P>
WMS Endpoint:<\/SPAN><\/P>
See individual layer pages.<\/SPAN><\/P><\/DIV><\/DIV><\/DIV>", "serviceItemId": "6cd2f8bef5d74719b052aa7886a1ff83", "name": "DISASTERS_202607_FIRE_OR/202618_sentinel2_nbr_2", "description": "

Dates of Images:<\/SPAN><\/P>
Post-Event: 6/29/2026, 7/01/2026, 7/02/2026, 7/04/2026, 7/6/2026, 7/9/2026, 7/11/2026, 7/14/2026<\/SPAN><\/P>
Pre-Event: 6/16/2026, 6/19/2026<\/SPAN><\/P>
Date of Next Image:<\/SPAN><\/P>
Unknown<\/SPAN><\/P>
Summary:<\/SPAN><\/P>
The True Color RGB composite provides a product of how the surface would look to the naked eye from space. The RGB is created using the red, green, and blue channels of the respective instrument.<\/SPAN><\/P>
The Color Infrared composite is created using the near-infrared, red, and green channels. The near-infrared gives the ability to see through thin clouds. Healthy vegetation is shown as red, water is in blue.<\/SPAN><\/P>
These pre-fire and post-fire images pair were analyzed for normalized burn ratio (NBR). The input images were generated from the Sentinel2- dataset at 10m resolution.<\/SPAN><\/P>
NBR is defined mathematically as (NIR \u2013 SWIR)/(NIR + SWIR) where NIR is near-infrared and SWIR is short-wave infrared. dNBR is computed by the difference between the pre-fire NBR and the post-fire NBR. More information on dNBR can be found here: https://un-spider.org/advisory-support/recommended-practices/recommended-practice-burn-severity/in-detail/normalized-burn-ratio.<\/SPAN><\/P>
Check fire containment and image dates for further context on image timing.<\/SPAN><\/P>
Federal permitted grazing land maps from the US Forest Service and Department of Interior - Bureau of Land Management (BLM) are shown in the web map. For more information: https://data-usfs.hub.arcgis.com/datasets/usfs::range-unit-allotment-3/about & https://gbp-blm-egis.hub.arcgis.com/datasets/BLM-EGIS::blm-colorado-grazing-allotments/about<\/SPAN><\/P>
Suggested Use:<\/SPAN><\/P>
The True Color RGB provides a product of how the surface would look to the naked eye from space. The True Color RGB is produced using the 3 visible wavelength bands (red, green, and blue) from the respective sensor. Some minor atmospheric corrections have occurred.<\/SPAN><\/P>
A Color Infrared composite depicts healthy vegetation as red, water as blue. Some minor atmospheric corrections have occurred.<\/SPAN><\/P>
NBR is commonly used as a proxy to indicate areas which have charred vegetation. Darker areas (more negative values) in the NBR image more strongly represent the presence of burned vegetation. Since the dNBR considers the condition of the scene before the fire occurred, the resulting value has been used as a proxy for burn severity. Higher dNBR values represent a proxy for greater burn severity. Negative dNBR values may represent a re-greening of or growth of vegetation in between pre and post imagery.<\/SPAN><\/P>
The use of this dNBR product as a quantitative metric of burn severity at the time of posting this dataset should be strongly caveated. This is due to several dNBR limitations:<\/SPAN><\/P>
The spectral band selections used for dNBR calculations, and the implication of changes observed following fire in those wavelengths, primarily pertain to how vegetation spectral signatures change in NIR and SWIR wavelengths following charring. Because of this, dNBR may not accurately describe burned surfaces that are not vegetation (e.g. human built infrastructure).<\/SPAN><\/P>
This dataset has not been validated by independent burn severity assessments.<\/SPAN><\/P>
The degree to which dNBR is accurately determined depends on careful selection of pre and post event imagery. An effort was made to use the highest quality imagery (i.e. cloud free) with representative conditions for each scene; however, it is unknown at the time of this posting how selection of different pre/post image pairs could affect the derived dNBR values.<\/SPAN><\/P>
Satellite/Sensor:<\/SPAN><\/P>
MultiSpectral Instrument (MSI) on European Space Agency's (ESA) Copernicus Sentinel-2A/2B satellites<\/SPAN><\/P>
Resolution:<\/SPAN><\/P>
True Color: 10 meters<\/SPAN><\/P>
Credits:<\/SPAN><\/P>
NASA/MSFC, USGS, ESA Copernicus<\/SPAN><\/P>
Esri REST Endpoint:<\/SPAN><\/P>
See layers below.<\/SPAN><\/P>
WMS Endpoint:<\/SPAN><\/P>
See individual layer pages.<\/SPAN><\/P><\/DIV><\/DIV><\/DIV>", "extent": { "xmin": -1.36923261983E7, "ymin": 5336434.607900001, "xmax": -1.31214261983E7, "ymax": 5804414.607900001, "spatialReference": { "wkid": 102100, "latestWkid": 3857 } }, "initialExtent": { "xmin": -1.36923261983E7, "ymin": 5336434.607900001, "xmax": -1.31214261983E7, "ymax": 5804414.607900001, "spatialReference": { "wkid": 102100, "latestWkid": 3857 } }, "fullExtent": { "xmin": -1.36923261983E7, "ymin": 5336434.607900001, "xmax": -1.31214261983E7, "ymax": 5804414.607900001, "spatialReference": { "wkid": 102100, "latestWkid": 3857 } }, "sortableFields": "MinPS,MaxPS,LowPS,HighPS,CenterX,CenterY,ZOrder,Shape_Length,Shape_Area", "bandCount": 1, "pixelType": "F32", "minValues": [ -0.6275122761726379 ], "maxValues": [ 999 ], "meanValues": [ 349.1491285130708 ], "stdvValues": [ 475.9210214887261 ], "serviceProperties": "NorthWest<\/MosaicMethod>First<\/MosaicOperator>true<\/SortAscending><\/LockImageID>Name<\/TileOrderField>0<\/TileOrderBase>600.000000<\/AvgImageSpacingX>300.000000<\/AvgImageSpacingY>0.0<\/ViewPointX>0.0<\/ViewPointY>0.0<\/ViewPointDefShiftX>0.0<\/ViewPointDefShiftY>None<\/CompressionMethod>75<\/CompressionQuality>0.010000<\/CompressionTolerance>Bilinear<\/SamplingMethod><\/ImageServiceProperties><\/ImageServer>", "allowedFields": "Name,MinPS,MaxPS,LowPS,HighPS,Tag,GroupName,ProductName,CenterX,CenterY,ZOrder,Shape_Length,Shape_Area,Date", "hasMultidimensions": false, "pixelSizeX": 20, "pixelSizeY": 20, "meanPixelSize": 20, "datasetFormat": "AMD", "uncompressedSize": 2671697820, "blockWidth": 2048, "blockHeight": 256, "compressionType": "None", "bandNames": [ "Band_1" ], "allowCopy": true, "allowAnalysis": true, "itemAccess": false, "inspectionCapabilities": "", "noDataValue": 999, "noDataValues": [ 999 ], "minPixelSize": 0, "maxPixelSize": 0, "copyrightText": "NASA/MSFC, USGS, ESA Copernicus", "serviceDataType": "esriImageServiceDataTypeGeneric", "serviceSourceType": "esriImageServiceSourceTypeMosaicDataset", "objectIdField": "OBJECTID", "fields": [ { "name": "OBJECTID", "type": "esriFieldTypeOID", "alias": "OBJECTID", "domain": null }, { "name": "Shape", "type": "esriFieldTypeGeometry", "alias": "Shape", "domain": null }, { "name": "Name", "type": "esriFieldTypeString", "alias": "Name", "domain": null, "length": 200 }, { "name": "MinPS", "type": "esriFieldTypeDouble", "alias": "MinPS", "domain": null }, { "name": "MaxPS", "type": "esriFieldTypeDouble", "alias": "MaxPS", "domain": null }, { "name": "LowPS", "type": "esriFieldTypeDouble", "alias": "LowPS", "domain": null }, { "name": "HighPS", "type": "esriFieldTypeDouble", "alias": "HighPS", "domain": null }, { "name": "Category", "type": "esriFieldTypeInteger", "alias": "Category", "domain": { "type": "codedValue", "name": "MosaicCatalogItemCategoryDomain", "description": "Catalog item categories.", "codedValues": [ { "name": "Unknown", "code": 0 }, { "name": "Primary", "code": 1 }, { "name": "Overview", "code": 2 }, { "name": "Unprocessed Overview", "code": 3 }, { "name": "Partial Overview", "code": 4 }, { "name": "Inactive", "code": 5 }, { "name": "Uploaded", "code": 253 }, { "name": "Incomplete", "code": 254 }, { "name": "Custom", "code": 255 } ], "mergePolicy": "esriMPTDefaultValue", "splitPolicy": "esriSPTDefaultValue" } }, { "name": "Tag", "type": "esriFieldTypeString", "alias": "Tag", "domain": null, "length": 100 }, { "name": "GroupName", "type": "esriFieldTypeString", "alias": "GroupName", "domain": null, "length": 100 }, { "name": "ProductName", "type": "esriFieldTypeString", "alias": "ProductName", "domain": null, "length": 100 }, { "name": "CenterX", "type": "esriFieldTypeDouble", "alias": "CenterX", "domain": null }, { "name": "CenterY", "type": "esriFieldTypeDouble", "alias": "CenterY", "domain": null }, { "name": "ZOrder", "type": "esriFieldTypeInteger", "alias": "ZOrder", "domain": null }, { "name": "Date", "type": "esriFieldTypeDateOnly", "alias": "Date", "domain": null }, { "name": "Shape_Length", "type": "esriFieldTypeDouble", "alias": "Shape_Length", "domain": null }, { "name": "Shape_Area", "type": "esriFieldTypeDouble", "alias": "Shape_Area", "domain": null } ], "capabilities": "Image,Metadata,Mensuration,Catalog", "defaultMosaicMethod": "Northwest", "allowedMosaicMethods": "NorthWest,Center,LockRaster,ByAttribute,Nadir,Viewpoint,Seamline,None", "sortField": "", "sortValue": null, "sortAscending": true, "mosaicOperator": "First", "maxDownloadSizeLimit": 2048, "defaultCompressionQuality": 75, "defaultResamplingMethod": "Bilinear", "maxImageHeight": 4100, "maxImageWidth": 15000, "maxRecordCount": 1000, "maxDownloadImageCount": 20, "maxMosaicImageCount": 20, "allowRasterFunction": true, "rasterFunctionInfos": [ { "name": "None", "description": "", "help": "" } ], "rasterTypeInfos": [ { "name": "Raster Dataset", "description": "Supports all ArcGIS Raster Datasets", "help": "" } ], "mensurationCapabilities": "Basic", "hasHistograms": true, "hasColormap": false, "hasRasterAttributeTable": false, "minScale": 0, "maxScale": 0, "exportTilesAllowed": false, "supportsStatistics": true, "supportsAdvancedQueries": true, "editFieldsInfo": null, "ownershipBasedAccessControlForRasters": null, "allowComputeTiePoints": false, "useStandardizedQueries": true, "advancedQueryCapabilities": { "useStandardizedQueries": true, "supportsStatistics": true, "supportsOrderBy": true, "supportsDistinct": true, "supportsPagination": true }, "spatialReference": { "wkid": 102100, "latestWkid": 3857 } }