{ "currentVersion": 11.5, "serviceDescription": "

Service Description:<\/SPAN><\/P>
Date of Images:<\/SPAN><\/P>
<\/P>
Post-Event: 7/9/2026<\/SPAN><\/P>
<\/P>
Pre-Event: May 2026<\/SPAN><\/P>
<\/P>
Summary:<\/SPAN><\/P>
<\/P>
These Black Marble Day-Night Band (BRDF-Corrected) images were created by the NASA Black Marble Science team. The images are corrected for atmospheric, terrain, lunar BRDF, and straylight effects, and directly measures light intensity on the ground in units of nanowatts/(steradian centimeter squared). The images are scaled from 0 - 30. The baseline image is from May 2026, generated from all daily atmospheric and lunar-corrected data from that month. There is a layer to display where clouds are present. This comparison between the images is meant as a visual assessment of outage impacts to aid various partners who are working to deliver emergency aids to local communities. Power outage maps like these help disaster response efforts in the short-term as well as long-term monitoring during the crucial stages of disaster recovery.<\/SPAN><\/P>
<\/P>
Suggested Use:<\/SPAN><\/P>
<\/P>
NASA's Black Marble Nighttime Light product suite is a state-of-the-art daily global collection of standard products for monitoring nighttime lights (NTL). Utilizing the Visible Imaging Radiometer Suite (VIIRS) Day/Night Band (DNB) aboard the Suomi-NPP, NOAA-20, and NOAA-21 satellites.<\/SPAN><\/P>
<\/P>
The image is in inferno color scale. Yellow represents presence of more light; dark blue less lights.<\/SPAN><\/P>
<\/P>
Observations may be obscured by total or partial cloud cover. Other factors such as snow reflectance, moon phase, wildfires, and wildfire smoke may distort light radiance and require further analysis when assessing power outages.<\/SPAN><\/P>
<\/P>
Satellite/Sensor:<\/SPAN><\/P>
<\/P>
Visible Infrared Imaging Radiometer Suite (VIIRS) Day/Night Band (DNB) onboard the Suomi National Polar-orbiting Platform (SNPP), NOAA-20, and NOAA-21<\/SPAN><\/P>
<\/P>
Resolution:<\/SPAN><\/P>
<\/P>
15 arc-seconds (~500 meters)<\/SPAN><\/P>
<\/P>
<\/P>
Additional Links:<\/SPAN><\/P>
<\/P>
NASA\u2019s Black Marble Product Suite<\/SPAN><\/P>
<\/P>
Román, M.O. et al. (2019) Satellite-based assessment of electricity restoration efforts in Puerto Rico after Hurricane Maria. PLoS One, 14 (6).<\/SPAN><\/P>
<\/P>
Román, M.O. et al. (2018) NASA\u2019s Black Marble nighttime lights product suite. Remote Sensing of Environment. 210, 113\u2013143.<\/SPAN><\/P>
<\/P>
Service URL:<\/SPAN><\/P>
<\/P>
See REST Endpoint on the right.<\/SPAN><\/P>
<\/P>
WMS Endpoint:<\/SPAN><\/P>
<\/DIV><\/DIV><\/DIV>", "serviceItemId": "f35debc43ae1409aa0a6704a29897b71", "name": "DISASTERS_202607_TYPHOON_BAVI/202613__brdf", "description": "

Service Description:<\/SPAN><\/P>
Date of Images:<\/SPAN><\/P>
<\/P>
Post-Event: 7/9/2026<\/SPAN><\/P>
<\/P>
Pre-Event: May 2026<\/SPAN><\/P>
<\/P>
Summary:<\/SPAN><\/P>
<\/P>
These Black Marble Day-Night Band (BRDF-Corrected) images were created by the NASA Black Marble Science team. The images are corrected for atmospheric, terrain, lunar BRDF, and straylight effects, and directly measures light intensity on the ground in units of nanowatts/(steradian centimeter squared). The images are scaled from 0 - 30. The baseline image is from May 2026, generated from all daily atmospheric and lunar-corrected data from that month. There is a layer to display where clouds are present. This comparison between the images is meant as a visual assessment of outage impacts to aid various partners who are working to deliver emergency aids to local communities. Power outage maps like these help disaster response efforts in the short-term as well as long-term monitoring during the crucial stages of disaster recovery.<\/SPAN><\/P>
<\/P>
Suggested Use:<\/SPAN><\/P>
<\/P>
NASA's Black Marble Nighttime Light product suite is a state-of-the-art daily global collection of standard products for monitoring nighttime lights (NTL). Utilizing the Visible Imaging Radiometer Suite (VIIRS) Day/Night Band (DNB) aboard the Suomi-NPP, NOAA-20, and NOAA-21 satellites.<\/SPAN><\/P>
<\/P>
The image is in inferno color scale. Yellow represents presence of more light; dark blue less lights.<\/SPAN><\/P>
<\/P>
Observations may be obscured by total or partial cloud cover. Other factors such as snow reflectance, moon phase, wildfires, and wildfire smoke may distort light radiance and require further analysis when assessing power outages.<\/SPAN><\/P>
<\/P>
Satellite/Sensor:<\/SPAN><\/P>
<\/P>
Visible Infrared Imaging Radiometer Suite (VIIRS) Day/Night Band (DNB) onboard the Suomi National Polar-orbiting Platform (SNPP), NOAA-20, and NOAA-21<\/SPAN><\/P>
<\/P>
Resolution:<\/SPAN><\/P>
<\/P>
15 arc-seconds (~500 meters)<\/SPAN><\/P>
<\/P>
<\/P>
Additional Links:<\/SPAN><\/P>
<\/P>
NASA\u2019s Black Marble Product Suite<\/SPAN><\/P>
<\/P>
Román, M.O. et al. (2019) Satellite-based assessment of electricity restoration efforts in Puerto Rico after Hurricane Maria. PLoS One, 14 (6).<\/SPAN><\/P>
<\/P>
Román, M.O. et al. (2018) NASA\u2019s Black Marble nighttime lights product suite. Remote Sensing of Environment. 210, 113\u2013143.<\/SPAN><\/P>
<\/P>
Service URL:<\/SPAN><\/P>
<\/P>
See REST Endpoint on the right.<\/SPAN><\/P>
<\/P>
WMS Endpoint:<\/SPAN><\/P>
<\/DIV><\/DIV><\/DIV>", "extent": { "xmin": 1.5584728711099997E7, "ymin": 1118555.0412314264, "xmax": 1.6697923619032733E7, "ymax": 2273030.927000001, "spatialReference": { "wkid": 102100, "latestWkid": 3857 } }, "initialExtent": { "xmin": 1.5584728711099997E7, "ymin": 1118555.0412314264, "xmax": 1.6697923619032733E7, "ymax": 2273030.927000001, "spatialReference": { "wkid": 102100, "latestWkid": 3857 } }, "fullExtent": { "xmin": 1.5584728711099997E7, "ymin": 1118555.0412314264, "xmax": 1.6697923619032733E7, "ymax": 2273030.927000001, "spatialReference": { "wkid": 102100, "latestWkid": 3857 } }, "sortableFields": "MinPS,MaxPS,LowPS,HighPS,CenterX,CenterY,ZOrder,Shape_Length,Shape_Area", "bandCount": 1, "pixelType": "F32", "minValues": [ 0 ], "maxValues": [ 83.05056762695312 ], "meanValues": [ 0.06455484609186511 ], "stdvValues": [ 0.44910648622358657 ], "serviceProperties": "NorthWest<\/MosaicMethod>First<\/MosaicOperator>true<\/SortAscending><\/LockImageID>Name<\/TileOrderField>0<\/TileOrderBase>600.000000<\/AvgImageSpacingX>300.000000<\/AvgImageSpacingY>0.0<\/ViewPointX>0.0<\/ViewPointY>0.0<\/ViewPointDefShiftX>0.0<\/ViewPointDefShiftY>None<\/CompressionMethod>75<\/CompressionQuality>0.010000<\/CompressionTolerance>Bilinear<\/SamplingMethod><\/ImageServiceProperties><\/ImageServer>", "allowedFields": "Name,MinPS,MaxPS,LowPS,HighPS,Tag,GroupName,ProductName,CenterX,CenterY,ZOrder,Shape_Length,Shape_Area,Date", "hasMultidimensions": false, "pixelSizeX": 463.83121163864, "pixelSizeY": 463.8312116386399, "meanPixelSize": 463.83121163863996, "datasetFormat": "AMD", "uncompressedSize": 23894400, "blockWidth": 2048, "blockHeight": 256, "compressionType": "None", "bandNames": [ "Band_1" ], "allowCopy": true, "allowAnalysis": true, "itemAccess": false, "inspectionCapabilities": "", "minPixelSize": 0, "maxPixelSize": 0, "copyrightText": "Credits:\n\nNASA Black Marble Science team\n\nPlease cite the following two references when using this data:\n\nRomán MO, Stokes EC, Shrestha R, Wang Z, Schultz L, Carlo EA, Sun Q, Bell J, Molthan A, Kalb V, Ji C. Satellite-based assessment of electricity restoration efforts in Puerto Rico after Hurricane Maria. PloS one. 2019 Jun 28;14(6):e0218883.\n\nRomán MO, Wang Z, Sun Q, Kalb V, Miller SD, Molthan A, Schultz L, Bell J, Stokes EC, Pandey B, Seto KC. NASA's Black Marble nighttime lights product suite. Remote Sensing of Environment. 2018 Jun 1;210:113-43.\n\nPoint of Contact:\n\nRanjay Shrestha\n\nNASA Goddard Space Flight Center\n\nE-mail: ranjay.m.shrestha@nasa.gov", "serviceDataType": "esriImageServiceDataTypeGeneric", "serviceSourceType": "esriImageServiceSourceTypeMosaicDataset", "objectIdField": "OBJECTID", "fields": [ { "name": "OBJECTID", "type": "esriFieldTypeOID", "alias": "OBJECTID", "domain": null }, { "name": "Shape", "type": "esriFieldTypeGeometry", "alias": "Shape", "domain": null }, { "name": "Name", "type": "esriFieldTypeString", "alias": "Name", "domain": null, "length": 200 }, { "name": "MinPS", "type": "esriFieldTypeDouble", "alias": "MinPS", "domain": null }, { "name": "MaxPS", "type": "esriFieldTypeDouble", "alias": "MaxPS", "domain": null }, { "name": "LowPS", "type": "esriFieldTypeDouble", "alias": "LowPS", "domain": null }, { "name": "HighPS", "type": "esriFieldTypeDouble", "alias": "HighPS", "domain": null }, { "name": "Category", "type": "esriFieldTypeInteger", "alias": "Category", "domain": { "type": "codedValue", "name": "MosaicCatalogItemCategoryDomain", "description": "Catalog item categories.", "codedValues": [ { "name": "Unknown", "code": 0 }, { "name": "Primary", "code": 1 }, { "name": "Overview", "code": 2 }, { "name": "Unprocessed Overview", "code": 3 }, { "name": "Partial Overview", "code": 4 }, { "name": "Inactive", "code": 5 }, { "name": "Uploaded", "code": 253 }, { "name": "Incomplete", "code": 254 }, { "name": "Custom", "code": 255 } ], "mergePolicy": "esriMPTDefaultValue", "splitPolicy": "esriSPTDefaultValue" } }, { "name": "Tag", "type": "esriFieldTypeString", "alias": "Tag", "domain": null, "length": 100 }, { "name": "GroupName", "type": "esriFieldTypeString", "alias": "GroupName", "domain": null, "length": 100 }, { "name": "ProductName", "type": "esriFieldTypeString", "alias": "ProductName", "domain": null, "length": 100 }, { "name": "CenterX", "type": "esriFieldTypeDouble", "alias": "CenterX", "domain": null }, { "name": "CenterY", "type": "esriFieldTypeDouble", "alias": "CenterY", "domain": null }, { "name": "ZOrder", "type": "esriFieldTypeInteger", "alias": "ZOrder", "domain": null }, { "name": "Date", "type": "esriFieldTypeDateOnly", "alias": "Date", "domain": null }, { "name": "Shape_Length", "type": "esriFieldTypeDouble", "alias": "Shape_Length", "domain": null }, { "name": "Shape_Area", "type": "esriFieldTypeDouble", "alias": "Shape_Area", "domain": null } ], "capabilities": "Image,Metadata,Catalog", "defaultMosaicMethod": "Northwest", "allowedMosaicMethods": "NorthWest,Center,LockRaster,ByAttribute,Nadir,Viewpoint,Seamline,None", "sortField": "", "sortValue": null, "sortAscending": true, "mosaicOperator": "First", "maxDownloadSizeLimit": 2048, "defaultCompressionQuality": 75, "defaultResamplingMethod": "Bilinear", "maxImageHeight": 4100, "maxImageWidth": 15000, "maxRecordCount": 1000, "maxDownloadImageCount": 20, "maxMosaicImageCount": 20, "allowRasterFunction": true, "rasterFunctionInfos": [ { "name": "blackmarble_brdf", "description": "black marble rft", "help": "" }, { "name": "None", "description": "", "help": "" } ], "rasterTypeInfos": [ { "name": "Raster Dataset", "description": "Supports all ArcGIS Raster Datasets", "help": "" } ], "mensurationCapabilities": "None", "hasHistograms": true, "hasColormap": false, "hasRasterAttributeTable": false, "minScale": 0, "maxScale": 0, "exportTilesAllowed": false, "supportsStatistics": true, "supportsAdvancedQueries": true, "editFieldsInfo": null, "ownershipBasedAccessControlForRasters": null, "allowComputeTiePoints": false, "useStandardizedQueries": true, "advancedQueryCapabilities": { "useStandardizedQueries": true, "supportsStatistics": true, "supportsOrderBy": true, "supportsDistinct": true, "supportsPagination": true }, "spatialReference": { "wkid": 102100, "latestWkid": 3857 } }