{ "currentVersion": 11.5, "serviceDescription": "

Dates of Images and Input Data:<\/SPAN><\/SPAN><\/P>
8/1/2026<\/SPAN><\/P>
Summary:<\/SPAN><\/SPAN><\/P>
The MODIS/ASTER Airborne Simulator (MASTER) is a scanning spectrometer flown on multi-altitude research aircraft. It collects high-resolution multispectral imagery across the visible, near-infrared, shortwave infrared (SWIR), mid-infrared (MIR), and thermal infrared (TIR) spectrums.<\/SPAN><\/SPAN><\/P>
Because MASTER collects information across a wide electromagnetic spectrum, its data allows for multiple derived products to be produced during a disaster event, such as high-resolution thermal mapping (for active fires/hotspots) or surface reflectance analysis (for burn scars, flooding, or damage).<\/SPAN><\/SPAN><\/P>
The band composites are:<\/SPAN><\/SPAN><\/P>
  • Natural Color<\/SPAN><\/SPAN><\/P><\/LI>
  • SWIR (2.1um \u2013 1.6um \u2013 0.55um)- active fire is yellow, vegetation is bright green, smoke is blue<\/SPAN><\/SPAN><\/P><\/LI>
  • MWSWIR (4.0um \u2013 2.1um \u2013 1.6um)- this is our classic fire presentation, Active fire is nearly white, hot spots yellow dark orange/red, burned areas are lighter orange, and vegetation is magenta<\/SPAN><\/SPAN><\/P><\/LI><\/UL>
    Suggested Use:<\/SPAN><\/SPAN><\/P>
    Imagery can be used for high-resolution post-event environmental assessment, thermal hotspot detection, and mapping of surface conditions to support scaling studies.<\/SPAN><\/SPAN><\/P>
    Product Description:<\/SPAN><\/SPAN><\/P>
    Standard data products are provided as geotiffs. True Color and False Color composites are created from the wide spectral range, as well as isolate specific thermal emissions to map disaster impacts dynamically.<\/SPAN><\/P>
    Satellite/Sensor/Resolution:<\/SPAN><\/SPAN><\/P>
    Platform: <\/SPAN>Airborne<\/SPAN><\/P>
    Sensor: <\/SPAN>MODIS/ASTER Airborne Simulator (MASTER) (Modified Daedalus Wildfire scanning spectrometer)<\/SPAN><\/P>
    Spatial Resolution: <\/SPAN>5 to 50 meters dependent on aircraft speed and flight altitude<\/SPAN><\/P>
    Temporal Resolution: <\/SPAN>Dependent on approved flight schedules<\/SPAN><\/P>
    Caveats and Limitations:<\/SPAN><\/SPAN><\/P>
    These results are intended to support rapid emergency response. All information is provisional for use under emergency response guidelines. These data are provided with absolutely no warranty of any kind. Use at your own risk.<\/SPAN><\/SPAN><\/P>
    Additionally, certain MASTER spectral channels are strongly affected by atmospheric absorption (e.g., water vapor bands). Data collection is not continuous and requires formal scheduling and approval via the NASA Airborne Science Program Flight Request System.<\/SPAN><\/SPAN><\/P>
    Esri REST Endpoint:<\/SPAN><\/SPAN><\/P>
    See URL to the right.<\/SPAN><\/SPAN><\/P>
    WMS Endpoint:<\/SPAN><\/P>
    Credits:<\/SPAN><\/P>
    Instrument maintenance and operations are managed by the Earth Planetary Instrumentation and Calibration (EPIC) Lab (NASA Ames Research Center) in conjunction with the NASA Jet Propulsion Laboratory (JPL). Principal Investigator: Dr. Simon Hook (NASA JPL).<\/SPAN><\/P><\/DIV><\/DIV><\/DIV>", "serviceItemId": "cd99bc186bb74174afd0e5048267bfb0", "name": "DISASTERS_202608_FIRE_WA/202619_master", "description": "

    Dates of Images and Input Data:<\/SPAN><\/SPAN><\/P>
    8/1/2026<\/SPAN><\/P>
    Summary:<\/SPAN><\/SPAN><\/P>
    The MODIS/ASTER Airborne Simulator (MASTER) is a scanning spectrometer flown on multi-altitude research aircraft. It collects high-resolution multispectral imagery across the visible, near-infrared, shortwave infrared (SWIR), mid-infrared (MIR), and thermal infrared (TIR) spectrums.<\/SPAN><\/SPAN><\/P>
    Because MASTER collects information across a wide electromagnetic spectrum, its data allows for multiple derived products to be produced during a disaster event, such as high-resolution thermal mapping (for active fires/hotspots) or surface reflectance analysis (for burn scars, flooding, or damage).<\/SPAN><\/SPAN><\/P>
    The band composites are:<\/SPAN><\/SPAN><\/P>
    • Natural Color<\/SPAN><\/SPAN><\/P><\/LI>
    • SWIR (2.1um \u2013 1.6um \u2013 0.55um)- active fire is yellow, vegetation is bright green, smoke is blue<\/SPAN><\/SPAN><\/P><\/LI>
    • MWSWIR (4.0um \u2013 2.1um \u2013 1.6um)- this is our classic fire presentation, Active fire is nearly white, hot spots yellow dark orange/red, burned areas are lighter orange, and vegetation is magenta<\/SPAN><\/SPAN><\/P><\/LI><\/UL>
      Suggested Use:<\/SPAN><\/SPAN><\/P>
      Imagery can be used for high-resolution post-event environmental assessment, thermal hotspot detection, and mapping of surface conditions to support scaling studies.<\/SPAN><\/SPAN><\/P>
      Product Description:<\/SPAN><\/SPAN><\/P>
      Standard data products are provided as geotiffs. True Color and False Color composites are created from the wide spectral range, as well as isolate specific thermal emissions to map disaster impacts dynamically.<\/SPAN><\/P>
      Satellite/Sensor/Resolution:<\/SPAN><\/SPAN><\/P>
      Platform: <\/SPAN>Airborne<\/SPAN><\/P>
      Sensor: <\/SPAN>MODIS/ASTER Airborne Simulator (MASTER) (Modified Daedalus Wildfire scanning spectrometer)<\/SPAN><\/P>
      Spatial Resolution: <\/SPAN>5 to 50 meters dependent on aircraft speed and flight altitude<\/SPAN><\/P>
      Temporal Resolution: <\/SPAN>Dependent on approved flight schedules<\/SPAN><\/P>
      Caveats and Limitations:<\/SPAN><\/SPAN><\/P>
      These results are intended to support rapid emergency response. All information is provisional for use under emergency response guidelines. These data are provided with absolutely no warranty of any kind. Use at your own risk.<\/SPAN><\/SPAN><\/P>
      Additionally, certain MASTER spectral channels are strongly affected by atmospheric absorption (e.g., water vapor bands). Data collection is not continuous and requires formal scheduling and approval via the NASA Airborne Science Program Flight Request System.<\/SPAN><\/SPAN><\/P>
      Esri REST Endpoint:<\/SPAN><\/SPAN><\/P>
      See URL to the right.<\/SPAN><\/SPAN><\/P>
      WMS Endpoint:<\/SPAN><\/P>
      Credits:<\/SPAN><\/P>
      Instrument maintenance and operations are managed by the Earth Planetary Instrumentation and Calibration (EPIC) Lab (NASA Ames Research Center) in conjunction with the NASA Jet Propulsion Laboratory (JPL). Principal Investigator: Dr. Simon Hook (NASA JPL).<\/SPAN><\/P><\/DIV><\/DIV><\/DIV>", "extent": { "xmin": -1.3180268171500001E7, "ymin": 6113190.57, "xmax": -1.3149215171500001E7, "ymax": 6159258.57, "spatialReference": { "wkid": 102100, "latestWkid": 3857 } }, "initialExtent": { "xmin": -1.3180268171500001E7, "ymin": 6113190.57, "xmax": -1.3149215171500001E7, "ymax": 6159258.57, "spatialReference": { "wkid": 102100, "latestWkid": 3857 } }, "fullExtent": { "xmin": -1.3180268171500001E7, "ymin": 6113190.57, "xmax": -1.3149215171500001E7, "ymax": 6159258.57, "spatialReference": { "wkid": 102100, "latestWkid": 3857 } }, "sortableFields": "MinPS,MaxPS,LowPS,HighPS,CenterX,CenterY,ZOrder,Shape_Length,Shape_Area,Time", "bandCount": 3, "pixelType": "U8", "minValues": [ 0, 0, 0 ], "maxValues": [ 255, 255, 255 ], "meanValues": [ 86.5984707799572, 103.6024154223206, 101.86385141110003 ], "stdvValues": [ 89.015263223973, 65.14531122837117, 58.225058802480895 ], "serviceProperties": "NorthWest<\/MosaicMethod>First<\/MosaicOperator>true<\/SortAscending><\/LockImageID>Name<\/TileOrderField>0<\/TileOrderBase>600.000000<\/AvgImageSpacingX>300.000000<\/AvgImageSpacingY>0.0<\/ViewPointX>0.0<\/ViewPointY>0.0<\/ViewPointDefShiftX>0.0<\/ViewPointDefShiftY>None<\/CompressionMethod>75<\/CompressionQuality>0.010000<\/CompressionTolerance>Bilinear<\/SamplingMethod><\/ImageServiceProperties><\/ImageServer>", "allowedFields": "Name,MinPS,MaxPS,LowPS,HighPS,Tag,GroupName,ProductName,CenterX,CenterY,ZOrder,Shape_Length,Shape_Area,Date,Time", "hasMultidimensions": false, "timeInfo": { "startTimeField": "Time", "endTimeField": "Time", "timeExtent": [ 1785602880000, 1785607560000 ], "timeReference": null }, "pixelSizeX": 33, "pixelSizeY": 33, "meanPixelSize": 33, "datasetFormat": "AMD", "uncompressedSize": 3940908, "blockWidth": 2048, "blockHeight": 256, "compressionType": "None", "bandNames": [ "Band_1", "Band_2", "Band_3" ], "allowCopy": true, "allowAnalysis": true, "itemAccess": false, "inspectionCapabilities": "", "minPixelSize": 0, "maxPixelSize": 0, "copyrightText": "Instrument maintenance and operations are managed by the Earth Planetary Instrumentation and Calibration (EPIC) Lab (NASA Ames Research Center) in conjunction with the NASA Jet Propulsion Laboratory (JPL). Principal Investigator: Dr. Simon Hook (NASA JPL).", "serviceDataType": "esriImageServiceDataTypeRGB", "serviceSourceType": "esriImageServiceSourceTypeMosaicDataset", "objectIdField": "OBJECTID", "fields": [ { "name": "OBJECTID", "type": "esriFieldTypeOID", "alias": "OBJECTID", "domain": null }, { "name": "Shape", "type": "esriFieldTypeGeometry", "alias": "Shape", "domain": null }, { "name": "Name", "type": "esriFieldTypeString", "alias": "Name", "domain": null, "length": 200 }, { "name": "MinPS", "type": "esriFieldTypeDouble", "alias": "MinPS", "domain": null }, { "name": "MaxPS", "type": "esriFieldTypeDouble", "alias": "MaxPS", "domain": null }, { "name": "LowPS", "type": "esriFieldTypeDouble", "alias": "LowPS", "domain": null }, { "name": "HighPS", "type": "esriFieldTypeDouble", "alias": "HighPS", "domain": null }, { "name": "Category", "type": "esriFieldTypeInteger", "alias": "Category", "domain": { "type": "codedValue", "name": "MosaicCatalogItemCategoryDomain", "description": "Catalog item categories.", "codedValues": [ { "name": "Unknown", "code": 0 }, { "name": "Primary", "code": 1 }, { "name": "Overview", "code": 2 }, { "name": "Unprocessed Overview", "code": 3 }, { "name": "Partial Overview", "code": 4 }, { "name": "Inactive", "code": 5 }, { "name": "Uploaded", "code": 253 }, { "name": "Incomplete", "code": 254 }, { "name": "Custom", "code": 255 } ], "mergePolicy": "esriMPTDefaultValue", "splitPolicy": "esriSPTDefaultValue" } }, { "name": "Tag", "type": "esriFieldTypeString", "alias": "Tag", "domain": null, "length": 100 }, { "name": "GroupName", "type": "esriFieldTypeString", "alias": "GroupName", "domain": null, "length": 100 }, { "name": "ProductName", "type": "esriFieldTypeString", "alias": "ProductName", "domain": null, "length": 100 }, { "name": "CenterX", "type": "esriFieldTypeDouble", "alias": "CenterX", "domain": null }, { "name": "CenterY", "type": "esriFieldTypeDouble", "alias": "CenterY", "domain": null }, { "name": "ZOrder", "type": "esriFieldTypeInteger", "alias": "ZOrder", "domain": null }, { "name": "Date", "type": "esriFieldTypeDateOnly", "alias": "Date", "domain": null }, { "name": "Time", "type": "esriFieldTypeDate", "alias": "Time", "domain": null, "length": 8 }, { "name": "Shape_Length", "type": "esriFieldTypeDouble", "alias": "Shape_Length", "domain": null }, { "name": "Shape_Area", "type": "esriFieldTypeDouble", "alias": "Shape_Area", "domain": null } ], "capabilities": "Image,Metadata,Catalog", "defaultMosaicMethod": "Northwest", "allowedMosaicMethods": "NorthWest,Center,LockRaster,ByAttribute,Nadir,Viewpoint,Seamline,None", "sortField": "", "sortValue": null, "sortAscending": true, "mosaicOperator": "First", "maxDownloadSizeLimit": 2048, "defaultCompressionQuality": 75, "defaultResamplingMethod": "Bilinear", "maxImageHeight": 4100, "maxImageWidth": 15000, "maxRecordCount": 1000, "maxDownloadImageCount": 20, "maxMosaicImageCount": 20, "allowRasterFunction": true, "rasterFunctionInfos": [ { "name": "None", "description": "", "help": "" } ], "rasterTypeInfos": [ { "name": "Raster Dataset", "description": "Supports all ArcGIS Raster Datasets", "help": "" } ], "mensurationCapabilities": "None", "hasHistograms": true, "hasColormap": false, "hasRasterAttributeTable": false, "minScale": 0, "maxScale": 0, "exportTilesAllowed": false, "supportsStatistics": true, "supportsAdvancedQueries": true, "editFieldsInfo": null, "ownershipBasedAccessControlForRasters": null, "allowComputeTiePoints": false, "useStandardizedQueries": true, "advancedQueryCapabilities": { "useStandardizedQueries": true, "supportsStatistics": true, "supportsOrderBy": true, "supportsDistinct": true, "supportsPagination": true }, "spatialReference": { "wkid": 102100, "latestWkid": 3857 } }