{ "currentVersion": 11.5, "serviceDescription": "

Date of Image(s):<\/SPAN><\/P>
Pre-event: 9/5/24<\/SPAN><\/P>
Post-event: 1/16/25<\/SPAN><\/P>
<\/P>
Summary:<\/SPAN><\/P>
The normalized burn ratio difference (dNBR) are generated from the NASA AVIRIS-3 (Airborne Visible/Infrared Imaging Spectrometer -3). They are generated from differencing images from September 5, 2024 (pre-event) and January 16, 2025 (post-event) over Palisades and Eaton. NBR is defined mathematically as (NIR \u2013 SWIR)/(NIR + SWIR) where NIR is near-infrared and SWIR is short-wave infrared. dNBR is computed by the difference between the pre-fire NBR and the post-fire NBR. More information on dNBR can be found here: https://un-spider.org/advisory-support/recommended-practices/recommended-practice-burn-severity/in-detail/normalized-burn-ratio.<\/SPAN><\/P>
Suggested Usage:<\/SPAN><\/P>
NBR is commonly used as a proxy to indicate areas which have charred vegetation. Darker areas (more negative values) in the NBR image more strongly represent the presence of burned vegetation. Since the dNBR considers the condition of the scene before the fire occurred, the resulting value has been used as a proxy for burn severity. Higher dNBR values represent a proxy for greater burn severity. Negative dNBR values may represent a re-greening of or growth of vegetation in between pre and post imagery.<\/SPAN><\/P>
The use of this dNBR product as a quantitative metric of burn severity at the time of posting this dataset should be strongly caveated. This is due to several dNBR limitations:<\/SPAN><\/P>
  • The spectral band selections used for dNBR calculations, and the implication of changes observed following fire in those wavelengths, primarily pertain to how vegetation spectral signatures change in NIR and SWIR wavelengths following charring. Because of this, dNBR may not accurately describe burned surfaces that are not vegetation (e.g. human built infrastructure).<\/SPAN><\/P><\/LI>
  • This dataset has not been validated by independent burn severity assessments.<\/SPAN><\/P><\/LI>
  • The degree to which dNBR is accurately determined depends on careful selection of pre and post event imagery. An effort was made to use the highest quality imagery (i.e. cloud free) with representative conditions for each scene; however, it is unknown at the time of this posting how selection of different pre/post image pairs could affect the derived dNBR values.<\/SPAN><\/P><\/LI><\/UL>
    Sensor:<\/SPAN><\/P>
    Airborne Visible/Infrared Imaging Spectrometer 3rd-Generation (AVIRIS-3)<\/SPAN><\/P>
    The AVIRIS-3 wavelengths are 866nm and 2198nm.<\/SPAN><\/P>
    <\/P>
    Credits:<\/SPAN><\/P>
    Rob Green (JPL), Phil Brodrick (JPL), David Thompson (JPL), John Chapman (JPL), Michael Eastwood (JPL), and Adam Chlus (JPL).<\/SPAN><\/P><\/DIV><\/DIV><\/DIV>", "serviceItemId": "e85be206188e47c3bf7116778895e9da", "name": "DISASTERS_CA_WILDFIRES_202501/AVIRIS_DNBR", "description": "

    Date of Image(s):<\/SPAN><\/P>
    Pre-event: 9/5/24<\/SPAN><\/P>
    Post-event: 1/16/25<\/SPAN><\/P>
    <\/P>
    Summary:<\/SPAN><\/P>
    The normalized burn ratio difference (dNBR) are generated from the NASA AVIRIS-3 (Airborne Visible/Infrared Imaging Spectrometer -3). They are generated from differencing images from September 5, 2024 (pre-event) and January 16, 2025 (post-event) over Palisades and Eaton. NBR is defined mathematically as (NIR \u2013 SWIR)/(NIR + SWIR) where NIR is near-infrared and SWIR is short-wave infrared. dNBR is computed by the difference between the pre-fire NBR and the post-fire NBR. More information on dNBR can be found here: https://un-spider.org/advisory-support/recommended-practices/recommended-practice-burn-severity/in-detail/normalized-burn-ratio.<\/SPAN><\/P>
    Suggested Usage:<\/SPAN><\/P>
    NBR is commonly used as a proxy to indicate areas which have charred vegetation. Darker areas (more negative values) in the NBR image more strongly represent the presence of burned vegetation. Since the dNBR considers the condition of the scene before the fire occurred, the resulting value has been used as a proxy for burn severity. Higher dNBR values represent a proxy for greater burn severity. Negative dNBR values may represent a re-greening of or growth of vegetation in between pre and post imagery.<\/SPAN><\/P>
    The use of this dNBR product as a quantitative metric of burn severity at the time of posting this dataset should be strongly caveated. This is due to several dNBR limitations:<\/SPAN><\/P>
    • The spectral band selections used for dNBR calculations, and the implication of changes observed following fire in those wavelengths, primarily pertain to how vegetation spectral signatures change in NIR and SWIR wavelengths following charring. Because of this, dNBR may not accurately describe burned surfaces that are not vegetation (e.g. human built infrastructure).<\/SPAN><\/P><\/LI>
    • This dataset has not been validated by independent burn severity assessments.<\/SPAN><\/P><\/LI>
    • The degree to which dNBR is accurately determined depends on careful selection of pre and post event imagery. An effort was made to use the highest quality imagery (i.e. cloud free) with representative conditions for each scene; however, it is unknown at the time of this posting how selection of different pre/post image pairs could affect the derived dNBR values.<\/SPAN><\/P><\/LI><\/UL>
      Sensor:<\/SPAN><\/P>
      Airborne Visible/Infrared Imaging Spectrometer 3rd-Generation (AVIRIS-3)<\/SPAN><\/P>
      The AVIRIS-3 wavelengths are 866nm and 2198nm.<\/SPAN><\/P>
      <\/P>
      Credits:<\/SPAN><\/P>
      Rob Green (JPL), Phil Brodrick (JPL), David Thompson (JPL), John Chapman (JPL), Michael Eastwood (JPL), and Adam Chlus (JPL).<\/SPAN><\/P><\/DIV><\/DIV><\/DIV>", "extent": { "xmin": -118.54231184999998, "ymin": 34.029624653346545, "xmax": -118.01284212659408, "ymax": 34.231576709000024, "spatialReference": { "wkid": 4326, "latestWkid": 4326 } }, "initialExtent": { "xmin": -118.54231184999998, "ymin": 34.029624653346545, "xmax": -118.01284212659408, "ymax": 34.231576709000024, "spatialReference": { "wkid": 4326, "latestWkid": 4326 } }, "fullExtent": { "xmin": -118.54231184999998, "ymin": 34.029624653346545, "xmax": -118.01284212659408, "ymax": 34.231576709000024, "spatialReference": { "wkid": 4326, "latestWkid": 4326 } }, "sortableFields": "MinPS,MaxPS,LowPS,HighPS,CenterX,CenterY,ZOrder,Shape_Length,Shape_Area", "bandCount": 1, "pixelType": "F32", "minValues": [ -0.8477316498756409 ], "maxValues": [ 1.326723337173462 ], "meanValues": [ 0.42827711099421656 ], "stdvValues": [ 0.2225196228576271 ], "serviceProperties": "NorthWest<\/MosaicMethod>First<\/MosaicOperator>true<\/SortAscending><\/LockImageID>Name<\/TileOrderField>0<\/TileOrderBase>600.000000<\/AvgImageSpacingX>300.000000<\/AvgImageSpacingY>0.0<\/ViewPointX>0.0<\/ViewPointY>0.0<\/ViewPointDefShiftX>0.0<\/ViewPointDefShiftY>None<\/CompressionMethod>75<\/CompressionQuality>0.010000<\/CompressionTolerance>Bilinear<\/SamplingMethod><\/ImageServiceProperties><\/ImageServer>", "allowedFields": "Name,MinPS,MaxPS,LowPS,HighPS,Tag,GroupName,ProductName,CenterX,CenterY,ZOrder,Shape_Length,Shape_Area,Date", "hasMultidimensions": false, "pixelSizeX": 2.7847773807705035E-5, "pixelSizeY": 2.784777380770527E-5, "meanPixelSize": 3.0999999999999988, "datasetFormat": "AMD", "uncompressedSize": 551529104, "blockWidth": 2048, "blockHeight": 256, "compressionType": "None", "bandNames": [ "Band_1" ], "allowCopy": true, "allowAnalysis": true, "itemAccess": false, "inspectionCapabilities": "", "minPixelSize": 0, "maxPixelSize": 0, "copyrightText": "Rob Green (JPL), Phil Brodrick (JPL), David Thompson (JPL), John Chapman (JPL), Adam Chlus (JPL), Michael Eastwood (JPL)", "serviceDataType": "esriImageServiceDataTypeGeneric", "serviceSourceType": "esriImageServiceSourceTypeMosaicDataset", "objectIdField": "OBJECTID", "fields": [ { "name": "OBJECTID", "type": "esriFieldTypeOID", "alias": "OBJECTID", "domain": null }, { "name": "Shape", "type": "esriFieldTypeGeometry", "alias": "Shape", "domain": null }, { "name": "Name", "type": "esriFieldTypeString", "alias": "Name", "domain": null, "length": 200 }, { "name": "MinPS", "type": "esriFieldTypeDouble", "alias": "MinPS", "domain": null }, { "name": "MaxPS", "type": "esriFieldTypeDouble", "alias": "MaxPS", "domain": null }, { "name": "LowPS", "type": "esriFieldTypeDouble", "alias": "LowPS", "domain": null }, { "name": "HighPS", "type": "esriFieldTypeDouble", "alias": "HighPS", "domain": null }, { "name": "Category", "type": "esriFieldTypeInteger", "alias": "Category", "domain": { "type": "codedValue", "name": "MosaicCatalogItemCategoryDomain", "description": "Catalog item categories.", "codedValues": [ { "name": "Unknown", "code": 0 }, { "name": "Primary", "code": 1 }, { "name": "Overview", "code": 2 }, { "name": "Unprocessed Overview", "code": 3 }, { "name": "Partial Overview", "code": 4 }, { "name": "Inactive", "code": 5 }, { "name": "Uploaded", "code": 253 }, { "name": "Incomplete", "code": 254 }, { "name": "Custom", "code": 255 } ], "mergePolicy": "esriMPTDefaultValue", "splitPolicy": "esriSPTDefaultValue" } }, { "name": "Tag", "type": "esriFieldTypeString", "alias": "Tag", "domain": null, "length": 100 }, { "name": "GroupName", "type": "esriFieldTypeString", "alias": "GroupName", "domain": null, "length": 100 }, { "name": "ProductName", "type": "esriFieldTypeString", "alias": "ProductName", "domain": null, "length": 100 }, { "name": "CenterX", "type": "esriFieldTypeDouble", "alias": "CenterX", "domain": null }, { "name": "CenterY", "type": "esriFieldTypeDouble", "alias": "CenterY", "domain": null }, { "name": "ZOrder", "type": "esriFieldTypeInteger", "alias": "ZOrder", "domain": null }, { "name": "Date", "type": "esriFieldTypeDateOnly", "alias": "Date", "domain": null }, { "name": "Shape_Length", "type": "esriFieldTypeDouble", "alias": "Shape_Length", "domain": null }, { "name": "Shape_Area", "type": "esriFieldTypeDouble", "alias": "Shape_Area", "domain": null } ], "capabilities": "Image,Metadata,Catalog", "defaultMosaicMethod": "Northwest", "allowedMosaicMethods": "NorthWest,Center,LockRaster,ByAttribute,Nadir,Viewpoint,Seamline,None", "sortField": "", "sortValue": null, "sortAscending": true, "mosaicOperator": "First", "maxDownloadSizeLimit": 2048, "defaultCompressionQuality": 75, "defaultResamplingMethod": "Bilinear", "maxImageHeight": 4100, "maxImageWidth": 15000, "maxRecordCount": 1000, "maxDownloadImageCount": 20, "maxMosaicImageCount": 20, "allowRasterFunction": true, "rasterFunctionInfos": [ { "name": "None", "description": "", "help": "" } ], "rasterTypeInfos": [ { "name": "Raster Dataset", "description": "Supports all ArcGIS Raster Datasets", "help": "" } ], "mensurationCapabilities": "None", "hasHistograms": true, "hasColormap": false, "hasRasterAttributeTable": false, "minScale": 0, "maxScale": 0, "exportTilesAllowed": false, "supportsStatistics": true, "supportsAdvancedQueries": true, "editFieldsInfo": null, "ownershipBasedAccessControlForRasters": null, "allowComputeTiePoints": false, "useStandardizedQueries": true, "advancedQueryCapabilities": { "useStandardizedQueries": true, "supportsStatistics": true, "supportsOrderBy": true, "supportsDistinct": true, "supportsPagination": true }, "spatialReference": { "wkid": 4326, "latestWkid": 4326 } }