{ "currentVersion": 11.5, "serviceDescription": "

Researchers working with the Advanced Rapid Imaging and Analysis (ARIA) and Observational Products for End-Users from Remote Sensing Analysis (OPERA) teams at NASA's Jet Propulsion Laboratory, Pasadena, California, created the OPERA Surface Disturbance Alert from Sentinel-1 (DIST-S1-ALERT) prototype product suite to create maps of surface disturbance due to ongoing wildfires in Los Angeles County in January 2025. <\/span><\/p>
The OPERA DIST-S1 prototype results posted here are preliminary results, primarily intended to aid the field response and people who wanted to have a rough first look area impacted by wildfire. The ARIA-share website has always focused on posting preliminary results as fast as possible for urgent response. All information is provisional for use under emergency response guidelines. These data are provided with absolutely no warranty of any kind. Use at your own risk.<\/span><\/p>
Suggested Use:<\/span><\/p>
The DIST-S1 product shows disturbance of each pixel with a corresponding level of confidence:<\/span><\/p>
0: No disturbance<\/span><\/p>
1: Moderate Confidence Disturbance (more than 2.5 standard deviations from mean estimated from imagery prior to event)<\/span><\/p>
2: High Confidence Disturbance (more than 4.5 standard deviations from mean estimated from imagery prior to event)<\/span><\/p>
Date of most recent image used:<\/span><\/p>
Ascending track 64: 2025-01-09T01:50:51 (UTC) or 2025-01-08T17:50:51 (PST).<\/span><\/p>
Descending track 71: 2025-01-09T13:53:03 (UTC) or 2025-01-09 05:53:03 (PST)<\/span><\/p>
Dates of other used images to define pre-fire baseline:<\/span><\/p>
2024-09-11, 2024-09-23, 2024-10-05, 2024-10-17, 2024-10-29, 2024-11-10, 2024-11-22, 2024-12-04, 2024-12-16, 2024-12-28<\/span><\/p>
Processing Details:<\/span><\/p>
The OPERA DIST-S1-ALERT prototype product provides a picture of surface disturbance (e.g., vegetation loss, structure change, damage) outside a historical norm using Sentinel-1A images. The products are distributed as GeoTIFFs. Pixels capturing disturbances are further differentiated as moderate confidence disturbance (pixel value = 1) and high confidence disturbance (pixel value = 2). These labels represent pixels that deviate more than 2.5 and 4.5 standard deviations from the mean, respectively, estimated from the 10 SAR acquisitions collected prior to the event. Statistics are estimated using a deep-learning model with spatiotemporal encoding (via the vision transformer).<\/span><\/p>
Files: <\/span><\/p>
disturbance_track64_2025-01-09_LA.tif (geotiff) shows surface disturbance as of January 9, 2025 2025-01-09T01:50:51 (UTC) or 2025-01-08T17:50:51 (PST). Note there are artifacts in this file that result from issue with Sentinel-1 burst overlap areas. Further investigation is needed in these areas.<\/span><\/p>
disturbance_track71_2025-01-09_LA.tif (geotiff) shows surface disturbance as of January 9, 2025 2025-01-09T13:53:03 (UTC) or 2025-01-09 05:53:03 (PST)<\/span><\/p>
Released January 13, 2025.<\/span><\/p>
---------------------------------<\/span><\/p>
Data Availability:<\/span><\/p>
The OPERA DIST-S1 products produced by ARIA/OPERA - JPL, contain modified Copernicus data (2025). The products are available to download at https://aria-share.jpl.nasa.gov/20250113-GreaterLosAngeles_Fires/<\/span><\/p>
Product POCs:<\/span><\/p>
Alexander L. Handwerger (alexander.handwerger@jpl.nasa.gov)<\/span><\/p>
Charlie Marshak (charlie.z.marshak@jpl.nasa.gov)<\/span><\/p>
Harris Hardiman-Mostow (hhm@math.ucla.edu)<\/span><\/p>
Steven Chan (steventsz.k.chan@jpl.nasa.gov)<\/span><\/p>
David Bekaert (david.bekaert@jpl.nasa.gov)<\/span><\/p>
References/Acknowledgement:<\/span><\/p>
https://aria.jpl.nasa.gov/ (ARIA project)<\/span><\/p>
https://www.jpl.nasa.gov/go/opera/ (OPERA Project)<\/span><\/p>
This prototype product was developed by Harris Hardiman-Mostow (UCLA) under the guidance of Charlie Marshak and Al Handwerger. Further product development has been led by the JPL OPERA DIST-S1 team (Charlie Marshak, Talib Oliver Cabrera, Jungkyo Jung, Richard West)<\/span><\/p>
Satellite/Sensor:<\/span><\/p>
Sentinel-1A<\/span><\/p>
Resolution:<\/span><\/p>
30 meters<\/span><\/p>
Disclaimer:<\/span><\/p>
The California Institute of Technology (''Caltech'') makes these data available to the public ''as is'' for informational purposes only. The methods used and data collected have not been reviewed, cleared, or validated. Caltech, including its operating division the Jet Propulsion Laboratory, its employees, and agents make no representation or warranty, express or implied, as to the merchantability, non-infringement, or fitness for a particular purpose.<\/span><\/p><\/div><\/div><\/div>", "serviceItemId": "0543f3b31a0e41f59be0d5cbc73d98f5", "name": "DISASTERS_CA_WILDFIRES_202501/OPERA_DIST_S1", "description": "

Researchers working with the Advanced Rapid Imaging and Analysis (ARIA) and Observational Products for End-Users from Remote Sensing Analysis (OPERA) teams at NASA's Jet Propulsion Laboratory, Pasadena, California, created the OPERA Surface Disturbance Alert from Sentinel-1 (DIST-S1-ALERT) prototype product suite to create maps of surface disturbance due to ongoing wildfires in Los Angeles County in January 2025. <\/span><\/p>
The OPERA DIST-S1 prototype results posted here are preliminary results, primarily intended to aid the field response and people who wanted to have a rough first look area impacted by wildfire. The ARIA-share website has always focused on posting preliminary results as fast as possible for urgent response. All information is provisional for use under emergency response guidelines. These data are provided with absolutely no warranty of any kind. Use at your own risk.<\/span><\/p>
Suggested Use:<\/span><\/p>
The DIST-S1 product shows disturbance of each pixel with a corresponding level of confidence:<\/span><\/p>
0: No disturbance<\/span><\/p>
1: Moderate Confidence Disturbance (more than 2.5 standard deviations from mean estimated from imagery prior to event)<\/span><\/p>
2: High Confidence Disturbance (more than 4.5 standard deviations from mean estimated from imagery prior to event)<\/span><\/p>
Date of most recent image used:<\/span><\/p>
Ascending track 64: 2025-01-09T01:50:51 (UTC) or 2025-01-08T17:50:51 (PST).<\/span><\/p>
Descending track 71: 2025-01-09T13:53:03 (UTC) or 2025-01-09 05:53:03 (PST)<\/span><\/p>
Dates of other used images to define pre-fire baseline:<\/span><\/p>
2024-09-11, 2024-09-23, 2024-10-05, 2024-10-17, 2024-10-29, 2024-11-10, 2024-11-22, 2024-12-04, 2024-12-16, 2024-12-28<\/span><\/p>
Processing Details:<\/span><\/p>
The OPERA DIST-S1-ALERT prototype product provides a picture of surface disturbance (e.g., vegetation loss, structure change, damage) outside a historical norm using Sentinel-1A images. The products are distributed as GeoTIFFs. Pixels capturing disturbances are further differentiated as moderate confidence disturbance (pixel value = 1) and high confidence disturbance (pixel value = 2). These labels represent pixels that deviate more than 2.5 and 4.5 standard deviations from the mean, respectively, estimated from the 10 SAR acquisitions collected prior to the event. Statistics are estimated using a deep-learning model with spatiotemporal encoding (via the vision transformer).<\/span><\/p>
Files: <\/span><\/p>
disturbance_track64_2025-01-09_LA.tif (geotiff) shows surface disturbance as of January 9, 2025 2025-01-09T01:50:51 (UTC) or 2025-01-08T17:50:51 (PST). Note there are artifacts in this file that result from issue with Sentinel-1 burst overlap areas. Further investigation is needed in these areas.<\/span><\/p>
disturbance_track71_2025-01-09_LA.tif (geotiff) shows surface disturbance as of January 9, 2025 2025-01-09T13:53:03 (UTC) or 2025-01-09 05:53:03 (PST)<\/span><\/p>
Released January 13, 2025.<\/span><\/p>
---------------------------------<\/span><\/p>
Data Availability:<\/span><\/p>
The OPERA DIST-S1 products produced by ARIA/OPERA - JPL, contain modified Copernicus data (2025). The products are available to download at https://aria-share.jpl.nasa.gov/20250113-GreaterLosAngeles_Fires/<\/span><\/p>
Product POCs:<\/span><\/p>
Alexander L. Handwerger (alexander.handwerger@jpl.nasa.gov)<\/span><\/p>
Charlie Marshak (charlie.z.marshak@jpl.nasa.gov)<\/span><\/p>
Harris Hardiman-Mostow (hhm@math.ucla.edu)<\/span><\/p>
Steven Chan (steventsz.k.chan@jpl.nasa.gov)<\/span><\/p>
David Bekaert (david.bekaert@jpl.nasa.gov)<\/span><\/p>
References/Acknowledgement:<\/span><\/p>
https://aria.jpl.nasa.gov/ (ARIA project)<\/span><\/p>
https://www.jpl.nasa.gov/go/opera/ (OPERA Project)<\/span><\/p>
This prototype product was developed by Harris Hardiman-Mostow (UCLA) under the guidance of Charlie Marshak and Al Handwerger. Further product development has been led by the JPL OPERA DIST-S1 team (Charlie Marshak, Talib Oliver Cabrera, Jungkyo Jung, Richard West)<\/span><\/p>
Satellite/Sensor:<\/span><\/p>
Sentinel-1A<\/span><\/p>
Resolution:<\/span><\/p>
30 meters<\/span><\/p>
Disclaimer:<\/span><\/p>
The California Institute of Technology (''Caltech'') makes these data available to the public ''as is'' for informational purposes only. The methods used and data collected have not been reviewed, cleared, or validated. Caltech, including its operating division the Jet Propulsion Laboratory, its employees, and agents make no representation or warranty, express or implied, as to the merchantability, non-infringement, or fitness for a particular purpose.<\/span><\/p><\/div><\/div><\/div>", "extent": { "xmin": -118.76097143199996, "ymin": 33.97168332443089, "xmax": -117.9961457991006, "ymax": 34.359216538000055, "spatialReference": { "wkid": 4326, "latestWkid": 4326 } }, "initialExtent": { "xmin": -118.76097143199996, "ymin": 33.97168332443089, "xmax": -117.9961457991006, "ymax": 34.359216538000055, "spatialReference": { "wkid": 4326, "latestWkid": 4326 } }, "fullExtent": { "xmin": -118.76097143199996, "ymin": 33.97168332443089, "xmax": -117.9961457991006, "ymax": 34.359216538000055, "spatialReference": { "wkid": 4326, "latestWkid": 4326 } }, "sortableFields": "MinPS,MaxPS,LowPS,HighPS,Date", "bandCount": 3, "pixelType": "U8", "minValues": [], "maxValues": [], "meanValues": [], "stdvValues": [], "serviceProperties": "NorthWest<\/MosaicMethod>First<\/MosaicOperator>true<\/SortAscending><\/LockImageID>Name<\/TileOrderField>0<\/TileOrderBase>600.000000<\/AvgImageSpacingX>300.000000<\/AvgImageSpacingY>0.0<\/ViewPointX>0.0<\/ViewPointY>0.0<\/ViewPointDefShiftX>0.0<\/ViewPointDefShiftY>None<\/CompressionMethod>75<\/CompressionQuality>0.010000<\/CompressionTolerance>Bilinear<\/SamplingMethod><\/ImageServiceProperties><\/ImageServer>", "allowedFields": "Name,MinPS,MaxPS,LowPS,HighPS,Tag,GroupName,ProductName,Date", "hasMultidimensions": false, "pixelSizeX": 2.6949458523585615E-4, "pixelSizeY": 2.6949458523585783E-4, "meanPixelSize": 30.000000000000057, "datasetFormat": "AMD", "uncompressedSize": 12238818, "blockWidth": 2048, "blockHeight": 256, "compressionType": "None", "bandNames": [ "Band_1", "Band_2", "Band_3" ], "allowCopy": true, "allowAnalysis": true, "itemAccess": false, "inspectionCapabilities": "", "minPixelSize": 0, "maxPixelSize": 0, "copyrightText": "This prototype product was developed by Harris Hardiman-Mostow (UCLA) under the guidance of Charlie Marshak and Al Handwerger. Further product development has been led by the JPL OPERA DIST-S1 team (Charlie Marshak, Talib Oliver Cabrera, Jungkyo Jung, Richard West)", "serviceDataType": "esriImageServiceDataTypeRGB", "serviceSourceType": "esriImageServiceSourceTypeMosaicDataset", "objectIdField": "OBJECTID", "fields": [ { "name": "OBJECTID", "type": "esriFieldTypeOID", "alias": "OBJECTID", "domain": null }, { "name": "Shape", "type": "esriFieldTypeGeometry", "alias": "Shape", "domain": null }, { "name": "Name", "type": "esriFieldTypeString", "alias": "Name", "domain": null, "length": 200 }, { "name": "MinPS", "type": "esriFieldTypeDouble", "alias": "MinPS", "domain": null }, { "name": "MaxPS", "type": "esriFieldTypeDouble", "alias": "MaxPS", "domain": null }, { "name": "LowPS", "type": "esriFieldTypeDouble", "alias": "LowPS", "domain": null }, { "name": "HighPS", "type": "esriFieldTypeDouble", "alias": "HighPS", "domain": null }, { "name": "Category", "type": "esriFieldTypeInteger", "alias": "Category", "domain": { "type": "codedValue", "name": "MosaicCatalogItemCategoryDomain", "description": "Catalog item categories.", "codedValues": [ { "name": "Unknown", "code": 0 }, { "name": "Primary", "code": 1 }, { "name": "Overview", "code": 2 }, { "name": "Unprocessed Overview", "code": 3 }, { "name": "Partial Overview", "code": 4 }, { "name": "Inactive", "code": 5 }, { "name": "Uploaded", "code": 253 }, { "name": "Incomplete", "code": 254 }, { "name": "Custom", "code": 255 } ], "mergePolicy": "esriMPTDefaultValue", "splitPolicy": "esriSPTDefaultValue" } }, { "name": "Tag", "type": "esriFieldTypeString", "alias": "Tag", "domain": null, "length": 100 }, { "name": "GroupName", "type": "esriFieldTypeString", "alias": "GroupName", "domain": null, "length": 100 }, { "name": "ProductName", "type": "esriFieldTypeString", "alias": "ProductName", "domain": null, "length": 100 }, { "name": "Date", "type": "esriFieldTypeDate", "alias": "Date", "domain": null, "length": 8 } ], "capabilities": "Image,Metadata,Mensuration,Catalog", "defaultMosaicMethod": "Northwest", "allowedMosaicMethods": "NorthWest,Center,LockRaster,ByAttribute,Nadir,Viewpoint,Seamline,None", "sortField": "", "sortValue": null, "sortAscending": true, "mosaicOperator": "First", "maxDownloadSizeLimit": 2048, "defaultCompressionQuality": 75, "defaultResamplingMethod": "Bilinear", "maxImageHeight": 4100, "maxImageWidth": 15000, "maxRecordCount": 1000, "maxDownloadImageCount": 20, "maxMosaicImageCount": 20, "allowRasterFunction": true, "rasterFunctionInfos": [ { "name": "None", "description": "", "help": "" } ], "rasterTypeInfos": [ { "name": "Raster Dataset", "description": "Supports all ArcGIS Raster Datasets", "help": "" } ], "mensurationCapabilities": "Basic", "hasHistograms": false, "hasColormap": false, "hasRasterAttributeTable": false, "minScale": 0, "maxScale": 0, "exportTilesAllowed": false, "supportsStatistics": true, "supportsAdvancedQueries": true, "editFieldsInfo": null, "ownershipBasedAccessControlForRasters": null, "allowComputeTiePoints": false, "useStandardizedQueries": true, "advancedQueryCapabilities": { "useStandardizedQueries": true, "supportsStatistics": true, "supportsOrderBy": true, "supportsDistinct": true, "supportsPagination": true }, "spatialReference": { "wkid": 4326, "latestWkid": 4326 } }