Dates of Images:<\/SPAN><\/P>4/28/2024, 4/29/2024, 4/30/2024, 5/1/2024, 5/2/2024, 5/5/2024, 5/6/2024<\/SPAN><\/P>Summary:<\/SPAN><\/P>LHASA was created at Goddard Space Flight Center to identify the potential for rainfall-triggered landslides in real time. LHASA version 2 adopts machine learning to estimate the probability of landslide occurrence at a 30-arcsecond (~1 km) daily resolution. In addition, it estimates the potential exposure of human population and roads to landslide hazard and maps the basins likely to experience post-fire debris flows.<\/SPAN><\/P>Suggested Use:<\/SPAN><\/P>The global landslide nowcast shows where landslide hazard is highest on a given date. <\/SPAN><\/P>Resolution:<\/SPAN><\/P>~1km<\/SPAN><\/P>Credits:<\/SPAN><\/P>Please cite: Stanley T. A., J. R. Sutton, R. S. Vershel, P. M. Amatya. 2025. \"Better Satellite Precipitation Algorithms Slightly Improved Landslide Hazard Assessment.\" Journal of Applied Meteorology and Climatology 64 (10): 1379-1394 10.1175/jamc-d-25-0021.1<\/SPAN><\/SPAN><\/P>Esri REST Endpoint:<\/SPAN><\/P>See URL on the right side of the page.<\/SPAN><\/P><\/DIV><\/DIV><\/DIV>",
"serviceItemId": "2733dd693e2742cbaba6891b1d98cf95",
"name": "DISASTERS_EX2602_202405_FLOOD_BRAZIL/EX2602_lhasa",
"description": "Dates of Images:<\/SPAN><\/P>4/28/2024, 4/29/2024, 4/30/2024, 5/1/2024, 5/2/2024, 5/5/2024, 5/6/2024<\/SPAN><\/P>Summary:<\/SPAN><\/P>LHASA was created at Goddard Space Flight Center to identify the potential for rainfall-triggered landslides in real time. LHASA version 2 adopts machine learning to estimate the probability of landslide occurrence at a 30-arcsecond (~1 km) daily resolution. In addition, it estimates the potential exposure of human population and roads to landslide hazard and maps the basins likely to experience post-fire debris flows.<\/SPAN><\/P>Suggested Use:<\/SPAN><\/P>The global landslide nowcast shows where landslide hazard is highest on a given date. <\/SPAN><\/P>Resolution:<\/SPAN><\/P>~1km<\/SPAN><\/P>Credits:<\/SPAN><\/P>Please cite: Stanley T. A., J. R. Sutton, R. S. Vershel, P. M. Amatya. 2025. \"Better Satellite Precipitation Algorithms Slightly Improved Landslide Hazard Assessment.\" Journal of Applied Meteorology and Climatology 64 (10): 1379-1394 10.1175/jamc-d-25-0021.1<\/SPAN><\/SPAN><\/P>Esri REST Endpoint:<\/SPAN><\/P>See URL on the right side of the page.<\/SPAN><\/P><\/DIV><\/DIV><\/DIV>",
"extent": {
"xmin": -2.00375070672E7,
"ymin": -8399976.563275766,
"xmax": 1.275589231401682,
"ymax": 6.679499998688698,
"spatialReference": {
"wkid": 102100,
"latestWkid": 3857
}
},
"initialExtent": {
"xmin": -2.00375070672E7,
"ymin": -8399976.563275766,
"xmax": 1.275589231401682,
"ymax": 6.679499998688698,
"spatialReference": {
"wkid": 102100,
"latestWkid": 3857
}
},
"fullExtent": {
"xmin": -2.00375070672E7,
"ymin": -8399976.563275766,
"xmax": 1.275589231401682,
"ymax": 6.679499998688698,
"spatialReference": {
"wkid": 102100,
"latestWkid": 3857
}
},
"sortableFields": "MinPS,MaxPS,LowPS,HighPS,CenterX,CenterY,ZOrder,Shape_Length,Shape_Area",
"bandCount": 1,
"pixelType": "F64",
"minValues": [
4.0813027948172534E-5
],
"maxValues": [
0.6805262671164983
],
"meanValues": [
0.006893263878042377
],
"stdvValues": [
0.021241391462464128
],
"serviceProperties": "NorthWest<\/MosaicMethod>First<\/MosaicOperator>true<\/SortAscending><\/LockImageID>Name<\/TileOrderField>0<\/TileOrderBase>600.000000<\/AvgImageSpacingX>300.000000<\/AvgImageSpacingY>0.0<\/ViewPointX>0.0<\/ViewPointY>0.0<\/ViewPointDefShiftX>0.0<\/ViewPointDefShiftY>None<\/CompressionMethod>75<\/CompressionQuality>0.010000<\/CompressionTolerance>Bilinear<\/SamplingMethod><\/ImageServiceProperties><\/ImageServer>",
"allowedFields": "Name,MinPS,MaxPS,LowPS,HighPS,Tag,GroupName,ProductName,CenterX,CenterY,ZOrder,Shape_Length,Shape_Area,Date",
"hasMultidimensions": false,
"pixelSizeX": 927.6624232772793,
"pixelSizeY": 927.6624232772793,
"meanPixelSize": 927.6624232772793,
"datasetFormat": "AMD",
"uncompressedSize": 1564704000,
"blockWidth": 2048,
"blockHeight": 256,
"compressionType": "None",
"bandNames": [
"Band_1"
],
"allowCopy": true,
"allowAnalysis": true,
"itemAccess": false,
"inspectionCapabilities": "",
"minPixelSize": 0,
"maxPixelSize": 0,
"copyrightText": "USGS/GSFC (2025), Stanley T. A., J. R. Sutton, R. S. Vershel, P. M. Amatya",
"serviceDataType": "esriImageServiceDataTypeGeneric",
"serviceSourceType": "esriImageServiceSourceTypeMosaicDataset",
"objectIdField": "OBJECTID",
"fields": [
{
"name": "OBJECTID",
"type": "esriFieldTypeOID",
"alias": "OBJECTID",
"domain": null
},
{
"name": "Shape",
"type": "esriFieldTypeGeometry",
"alias": "Shape",
"domain": null
},
{
"name": "Name",
"type": "esriFieldTypeString",
"alias": "Name",
"domain": null,
"length": 200
},
{
"name": "MinPS",
"type": "esriFieldTypeDouble",
"alias": "MinPS",
"domain": null
},
{
"name": "MaxPS",
"type": "esriFieldTypeDouble",
"alias": "MaxPS",
"domain": null
},
{
"name": "LowPS",
"type": "esriFieldTypeDouble",
"alias": "LowPS",
"domain": null
},
{
"name": "HighPS",
"type": "esriFieldTypeDouble",
"alias": "HighPS",
"domain": null
},
{
"name": "Category",
"type": "esriFieldTypeInteger",
"alias": "Category",
"domain": {
"type": "codedValue",
"name": "MosaicCatalogItemCategoryDomain",
"description": "Catalog item categories.",
"codedValues": [
{
"name": "Unknown",
"code": 0
},
{
"name": "Primary",
"code": 1
},
{
"name": "Overview",
"code": 2
},
{
"name": "Unprocessed Overview",
"code": 3
},
{
"name": "Partial Overview",
"code": 4
},
{
"name": "Inactive",
"code": 5
},
{
"name": "Uploaded",
"code": 253
},
{
"name": "Incomplete",
"code": 254
},
{
"name": "Custom",
"code": 255
}
],
"mergePolicy": "esriMPTDefaultValue",
"splitPolicy": "esriSPTDefaultValue"
}
},
{
"name": "Tag",
"type": "esriFieldTypeString",
"alias": "Tag",
"domain": null,
"length": 100
},
{
"name": "GroupName",
"type": "esriFieldTypeString",
"alias": "GroupName",
"domain": null,
"length": 100
},
{
"name": "ProductName",
"type": "esriFieldTypeString",
"alias": "ProductName",
"domain": null,
"length": 100
},
{
"name": "CenterX",
"type": "esriFieldTypeDouble",
"alias": "CenterX",
"domain": null
},
{
"name": "CenterY",
"type": "esriFieldTypeDouble",
"alias": "CenterY",
"domain": null
},
{
"name": "ZOrder",
"type": "esriFieldTypeInteger",
"alias": "ZOrder",
"domain": null
},
{
"name": "Date",
"type": "esriFieldTypeDateOnly",
"alias": "Date",
"domain": null
},
{
"name": "Shape_Length",
"type": "esriFieldTypeDouble",
"alias": "Shape_Length",
"domain": null
},
{
"name": "Shape_Area",
"type": "esriFieldTypeDouble",
"alias": "Shape_Area",
"domain": null
}
],
"capabilities": "Image,Metadata,Catalog",
"defaultMosaicMethod": "Northwest",
"allowedMosaicMethods": "NorthWest,Center,LockRaster,ByAttribute,Nadir,Viewpoint,Seamline,None",
"sortField": "",
"sortValue": null,
"sortAscending": true,
"mosaicOperator": "First",
"maxDownloadSizeLimit": 2048,
"defaultCompressionQuality": 75,
"defaultResamplingMethod": "Bilinear",
"maxImageHeight": 4100,
"maxImageWidth": 15000,
"maxRecordCount": 1000,
"maxDownloadImageCount": 20,
"maxMosaicImageCount": 20,
"allowRasterFunction": true,
"rasterFunctionInfos": [
{
"name": "LHASA_RFT_fromMosaic",
"description": "LHASA_RFT_fromMosaic",
"help": ""
},
{
"name": "None",
"description": "Make a Raster or Raster Dataset into a Function Raster Dataset.",
"help": ""
}
],
"rasterTypeInfos": [
{
"name": "Raster Dataset",
"description": "Supports all ArcGIS Raster Datasets",
"help": ""
}
],
"mensurationCapabilities": "None",
"hasHistograms": true,
"hasColormap": false,
"hasRasterAttributeTable": false,
"minScale": 0,
"maxScale": 0,
"exportTilesAllowed": false,
"supportsStatistics": true,
"supportsAdvancedQueries": true,
"editFieldsInfo": null,
"ownershipBasedAccessControlForRasters": null,
"allowComputeTiePoints": false,
"useStandardizedQueries": true,
"advancedQueryCapabilities": {
"useStandardizedQueries": true,
"supportsStatistics": true,
"supportsOrderBy": true,
"supportsDistinct": true,
"supportsPagination": true
},
"spatialReference": {
"wkid": 102100,
"latestWkid": 3857
}
}