Dates of Images:<\/SPAN><\/P>Post-Event: 5/8/2024; 5/15/2024<\/SPAN><\/P>Pre-Event: 4/6/2024; 4/21/2024<\/SPAN><\/P>Summary:<\/SPAN><\/P>mNDWI: The Modified Normalized Difference Water Index (mNDWI) provides a different view of the Earth's surface combining different bands to make water bodies more obvious. This index can be used to identify flooded areas as well as heavily saturated areas.<\/SPAN><\/P>Suggested Use:<\/SPAN><\/P>mNDWI: Areas of existing water, such as a rivers or lakes appear in the darkest green with high values near 1, while dry land appears in the darkest brown with low values near -1. This product can be used to identify potentially flooded areas that can be seen in varying shades of green and light brown depending on the amount of moisture picked up by the satellite. Note: Areas of cloud cover will show up in varying shades of green/blue similar to water.<\/SPAN><\/P>Satellite/Sensor:<\/SPAN><\/P>Landsat 9 Operational Land Imager (OLI)<\/SPAN><\/P>Resolution:<\/SPAN><\/P>30 meters<\/SPAN><\/P>Credits:<\/SPAN><\/P>NASA/MSFC, USGS<\/SPAN><\/P>Esri REST Endpoint:<\/SPAN><\/P>See URL section on right side of page<\/SPAN><\/P>WMS Endpoint:<\/SPAN><\/P>https://gis.earthdata.nasa.gov/gis05/services/DISASTERS_EX2601_201809_HURRICANE_FLORENCE/ex2601_landsat_ndvi/ImageServer/WMSServer<\/SPAN><\/P><\/DIV><\/DIV><\/DIV>",
"serviceItemId": "40fbb6671d8e40b7bb2f9de18def64a8",
"name": "DISASTERS_EX2602_202405_FLOOD_BRAZIL/ex2602_landsat_mndwi",
"description": "Dates of Images:<\/SPAN><\/P>Post-Event: 5/8/2024; 5/15/2024<\/SPAN><\/P>Pre-Event: 4/6/2024; 4/21/2024<\/SPAN><\/P>Summary:<\/SPAN><\/P>mNDWI: The Modified Normalized Difference Water Index (mNDWI) provides a different view of the Earth's surface combining different bands to make water bodies more obvious. This index can be used to identify flooded areas as well as heavily saturated areas.<\/SPAN><\/P>Suggested Use:<\/SPAN><\/P>mNDWI: Areas of existing water, such as a rivers or lakes appear in the darkest green with high values near 1, while dry land appears in the darkest brown with low values near -1. This product can be used to identify potentially flooded areas that can be seen in varying shades of green and light brown depending on the amount of moisture picked up by the satellite. Note: Areas of cloud cover will show up in varying shades of green/blue similar to water.<\/SPAN><\/P>Satellite/Sensor:<\/SPAN><\/P>Landsat 9 Operational Land Imager (OLI)<\/SPAN><\/P>Resolution:<\/SPAN><\/P>30 meters<\/SPAN><\/P>Credits:<\/SPAN><\/P>NASA/MSFC, USGS<\/SPAN><\/P>Esri REST Endpoint:<\/SPAN><\/P>See URL section on right side of page<\/SPAN><\/P>WMS Endpoint:<\/SPAN><\/P>https://gis.earthdata.nasa.gov/gis05/services/DISASTERS_EX2601_201809_HURRICANE_FLORENCE/ex2601_landsat_ndvi/ImageServer/WMSServer<\/SPAN><\/P><\/DIV><\/DIV><\/DIV>",
"extent": {
"xmin": -6028835.6083,
"ymin": -3680065.590844015,
"xmax": -5586180.27519085,
"ymax": -3406565.5168000013,
"spatialReference": {
"wkid": 102100,
"latestWkid": 3857
}
},
"initialExtent": {
"xmin": -6028835.6083,
"ymin": -3680065.590844015,
"xmax": -5586180.27519085,
"ymax": -3406565.5168000013,
"spatialReference": {
"wkid": 102100,
"latestWkid": 3857
}
},
"fullExtent": {
"xmin": -6028835.6083,
"ymin": -3680065.590844015,
"xmax": -5586180.27519085,
"ymax": -3406565.5168000013,
"spatialReference": {
"wkid": 102100,
"latestWkid": 3857
}
},
"sortableFields": "MinPS,MaxPS,LowPS,HighPS,CenterX,CenterY,ZOrder,Shape_Length,Shape_Area",
"bandCount": 1,
"pixelType": "F32",
"minValues": [
-0.910793662071228
],
"maxValues": [
0.9842867851257324
],
"meanValues": [
-0.3836277271270342
],
"stdvValues": [
0.4241095184687738
],
"serviceProperties": "NorthWest<\/MosaicMethod>First<\/MosaicOperator>true<\/SortAscending><\/LockImageID>Name<\/TileOrderField>0<\/TileOrderBase>600.000000<\/AvgImageSpacingX>300.000000<\/AvgImageSpacingY>0.0<\/ViewPointX>0.0<\/ViewPointY>0.0<\/ViewPointDefShiftX>0.0<\/ViewPointDefShiftY>None<\/CompressionMethod>75<\/CompressionQuality>0.010000<\/CompressionTolerance>Bilinear<\/SamplingMethod><\/ImageServiceProperties><\/ImageServer>",
"allowedFields": "Name,MinPS,MaxPS,LowPS,HighPS,Tag,GroupName,ProductName,CenterX,CenterY,ZOrder,Shape_Length,Shape_Area,Date",
"hasMultidimensions": false,
"pixelSizeX": 32.40522204312962,
"pixelSizeY": 32.405222043129605,
"meanPixelSize": 32.40522204312961,
"datasetFormat": "AMD",
"uncompressedSize": 461161600,
"blockWidth": 2048,
"blockHeight": 256,
"compressionType": "None",
"bandNames": [
"Band_1"
],
"allowCopy": true,
"allowAnalysis": true,
"itemAccess": false,
"inspectionCapabilities": "",
"minPixelSize": 0,
"maxPixelSize": 0,
"copyrightText": "NASA/MSFC, USGS",
"serviceDataType": "esriImageServiceDataTypeGeneric",
"serviceSourceType": "esriImageServiceSourceTypeMosaicDataset",
"objectIdField": "OBJECTID",
"fields": [
{
"name": "OBJECTID",
"type": "esriFieldTypeOID",
"alias": "OBJECTID",
"domain": null
},
{
"name": "Shape",
"type": "esriFieldTypeGeometry",
"alias": "Shape",
"domain": null
},
{
"name": "Name",
"type": "esriFieldTypeString",
"alias": "Name",
"domain": null,
"length": 200
},
{
"name": "MinPS",
"type": "esriFieldTypeDouble",
"alias": "MinPS",
"domain": null
},
{
"name": "MaxPS",
"type": "esriFieldTypeDouble",
"alias": "MaxPS",
"domain": null
},
{
"name": "LowPS",
"type": "esriFieldTypeDouble",
"alias": "LowPS",
"domain": null
},
{
"name": "HighPS",
"type": "esriFieldTypeDouble",
"alias": "HighPS",
"domain": null
},
{
"name": "Category",
"type": "esriFieldTypeInteger",
"alias": "Category",
"domain": {
"type": "codedValue",
"name": "MosaicCatalogItemCategoryDomain",
"description": "Catalog item categories.",
"codedValues": [
{
"name": "Unknown",
"code": 0
},
{
"name": "Primary",
"code": 1
},
{
"name": "Overview",
"code": 2
},
{
"name": "Unprocessed Overview",
"code": 3
},
{
"name": "Partial Overview",
"code": 4
},
{
"name": "Inactive",
"code": 5
},
{
"name": "Uploaded",
"code": 253
},
{
"name": "Incomplete",
"code": 254
},
{
"name": "Custom",
"code": 255
}
],
"mergePolicy": "esriMPTDefaultValue",
"splitPolicy": "esriSPTDefaultValue"
}
},
{
"name": "Tag",
"type": "esriFieldTypeString",
"alias": "Tag",
"domain": null,
"length": 100
},
{
"name": "GroupName",
"type": "esriFieldTypeString",
"alias": "GroupName",
"domain": null,
"length": 100
},
{
"name": "ProductName",
"type": "esriFieldTypeString",
"alias": "ProductName",
"domain": null,
"length": 100
},
{
"name": "CenterX",
"type": "esriFieldTypeDouble",
"alias": "CenterX",
"domain": null
},
{
"name": "CenterY",
"type": "esriFieldTypeDouble",
"alias": "CenterY",
"domain": null
},
{
"name": "ZOrder",
"type": "esriFieldTypeInteger",
"alias": "ZOrder",
"domain": null
},
{
"name": "Date",
"type": "esriFieldTypeDateOnly",
"alias": "Date",
"domain": null
},
{
"name": "Shape_Length",
"type": "esriFieldTypeDouble",
"alias": "Shape_Length",
"domain": null
},
{
"name": "Shape_Area",
"type": "esriFieldTypeDouble",
"alias": "Shape_Area",
"domain": null
}
],
"capabilities": "Image,Metadata,Catalog",
"defaultMosaicMethod": "Northwest",
"allowedMosaicMethods": "NorthWest,Center,LockRaster,ByAttribute,Nadir,Viewpoint,Seamline,None",
"sortField": "",
"sortValue": null,
"sortAscending": true,
"mosaicOperator": "First",
"maxDownloadSizeLimit": 2048,
"defaultCompressionQuality": 75,
"defaultResamplingMethod": "Bilinear",
"maxImageHeight": 4100,
"maxImageWidth": 15000,
"maxRecordCount": 1000,
"maxDownloadImageCount": 20,
"maxMosaicImageCount": 20,
"allowRasterFunction": true,
"rasterFunctionInfos": [
{
"name": "mndwi_sentinel2",
"description": "blue 1 brown -1",
"help": ""
},
{
"name": "None",
"description": "Make a Raster or Raster Dataset into a Function Raster Dataset.",
"help": ""
}
],
"rasterTypeInfos": [
{
"name": "Raster Dataset",
"description": "Supports all ArcGIS Raster Datasets",
"help": ""
}
],
"mensurationCapabilities": "None",
"hasHistograms": true,
"hasColormap": false,
"hasRasterAttributeTable": false,
"minScale": 0,
"maxScale": 0,
"exportTilesAllowed": false,
"supportsStatistics": true,
"supportsAdvancedQueries": true,
"editFieldsInfo": null,
"ownershipBasedAccessControlForRasters": null,
"allowComputeTiePoints": false,
"useStandardizedQueries": true,
"advancedQueryCapabilities": {
"useStandardizedQueries": true,
"supportsStatistics": true,
"supportsOrderBy": true,
"supportsDistinct": true,
"supportsPagination": true
},
"spatialReference": {
"wkid": 102100,
"latestWkid": 3857
}
}