Dates of Images:<\/SPAN><\/P>Post-Event: 5/6/2018; 5/15/2024<\/SPAN><\/P>Pre-Event: 4/8/2018; 4/21/2024<\/SPAN><\/P>Date of Next Image:<\/SPAN><\/P>Unknown<\/SPAN><\/P>Summary:<\/SPAN><\/P>NDVI: The dynamically generated Normalized Difference Vegetation Index (NDVI) layer is an index for quantifying green vegetation. It reflects the state of vegetation health based on how vegetation reflects light at certain wavelengths.<\/SPAN><\/P>Suggested Use:<\/SPAN><\/P>NDVI: Dark green colors are areas with a lot of green leaf growth which indicates the presence of chlorophyll. Chlorophyll reflects more infrared light and less visible light. Areas with some green leaf growth are in light greens, and areas with little to no vegetation growth are even lighter greens.<\/SPAN><\/P>Satellite/Sensor:<\/SPAN><\/P>Landsat 9 Operational Land Imager (OLI)<\/SPAN><\/P>Resolution:<\/SPAN><\/P>30 meters<\/SPAN><\/P>Credits:<\/SPAN><\/P>NASA/MSFC, USGS<\/SPAN><\/P>Esri REST Endpoint:<\/SPAN><\/P>See URL section on right side of page<\/SPAN><\/P>WMS Endpoint:<\/SPAN><\/P>https://gis.earthdata.nasa.gov/gis05/services/DISASTERS_EX2601_201809_HURRICANE_FLORENCE/ex2601_landsat_ndwi/ImageServer/WMSServer<\/SPAN><\/P><\/DIV><\/DIV><\/DIV>",
"serviceItemId": "979e6fbf41b943968eb69a5cc8733ac2",
"name": "DISASTERS_EX2602_202405_FLOOD_BRAZIL/ex2602_landsat_ndvi",
"description": "Dates of Images:<\/SPAN><\/P>Post-Event: 5/6/2018; 5/15/2024<\/SPAN><\/P>Pre-Event: 4/8/2018; 4/21/2024<\/SPAN><\/P>Date of Next Image:<\/SPAN><\/P>Unknown<\/SPAN><\/P>Summary:<\/SPAN><\/P>NDVI: The dynamically generated Normalized Difference Vegetation Index (NDVI) layer is an index for quantifying green vegetation. It reflects the state of vegetation health based on how vegetation reflects light at certain wavelengths.<\/SPAN><\/P>Suggested Use:<\/SPAN><\/P>NDVI: Dark green colors are areas with a lot of green leaf growth which indicates the presence of chlorophyll. Chlorophyll reflects more infrared light and less visible light. Areas with some green leaf growth are in light greens, and areas with little to no vegetation growth are even lighter greens.<\/SPAN><\/P>Satellite/Sensor:<\/SPAN><\/P>Landsat 9 Operational Land Imager (OLI)<\/SPAN><\/P>Resolution:<\/SPAN><\/P>30 meters<\/SPAN><\/P>Credits:<\/SPAN><\/P>NASA/MSFC, USGS<\/SPAN><\/P>Esri REST Endpoint:<\/SPAN><\/P>See URL section on right side of page<\/SPAN><\/P>WMS Endpoint:<\/SPAN><\/P>https://gis.earthdata.nasa.gov/gis05/services/DISASTERS_EX2601_201809_HURRICANE_FLORENCE/ex2601_landsat_ndwi/ImageServer/WMSServer<\/SPAN><\/P><\/DIV><\/DIV><\/DIV>",
"extent": {
"xmin": -6028835.6083,
"ymin": -3680065.590844015,
"xmax": -5586180.27519085,
"ymax": -3406565.5168000013,
"spatialReference": {
"wkid": 102100,
"latestWkid": 3857
}
},
"initialExtent": {
"xmin": -6028835.6083,
"ymin": -3680065.590844015,
"xmax": -5586180.27519085,
"ymax": -3406565.5168000013,
"spatialReference": {
"wkid": 102100,
"latestWkid": 3857
}
},
"fullExtent": {
"xmin": -6028835.6083,
"ymin": -3680065.590844015,
"xmax": -5586180.27519085,
"ymax": -3406565.5168000013,
"spatialReference": {
"wkid": 102100,
"latestWkid": 3857
}
},
"sortableFields": "MinPS,MaxPS,LowPS,HighPS,CenterX,CenterY,ZOrder,Shape_Length,Shape_Area",
"bandCount": 1,
"pixelType": "F32",
"minValues": [
-0.9786460995674133
],
"maxValues": [
0.9738550782203674
],
"meanValues": [
0.557876179992013
],
"stdvValues": [
0.3786219971309836
],
"serviceProperties": "NorthWest<\/MosaicMethod>First<\/MosaicOperator>true<\/SortAscending><\/LockImageID>Name<\/TileOrderField>0<\/TileOrderBase>600.000000<\/AvgImageSpacingX>300.000000<\/AvgImageSpacingY>0.0<\/ViewPointX>0.0<\/ViewPointY>0.0<\/ViewPointDefShiftX>0.0<\/ViewPointDefShiftY>None<\/CompressionMethod>75<\/CompressionQuality>0.010000<\/CompressionTolerance>Bilinear<\/SamplingMethod><\/ImageServiceProperties><\/ImageServer>",
"allowedFields": "Name,MinPS,MaxPS,LowPS,HighPS,Tag,GroupName,ProductName,CenterX,CenterY,ZOrder,Shape_Length,Shape_Area,Date",
"hasMultidimensions": false,
"pixelSizeX": 32.40522204312962,
"pixelSizeY": 32.405222043129605,
"meanPixelSize": 32.40522204312961,
"datasetFormat": "AMD",
"uncompressedSize": 461161600,
"blockWidth": 2048,
"blockHeight": 256,
"compressionType": "None",
"bandNames": [
"Band_1"
],
"allowCopy": true,
"allowAnalysis": true,
"itemAccess": false,
"inspectionCapabilities": "",
"minPixelSize": 0,
"maxPixelSize": 0,
"copyrightText": "NASA/MSFC, USGS",
"serviceDataType": "esriImageServiceDataTypeGeneric",
"serviceSourceType": "esriImageServiceSourceTypeMosaicDataset",
"objectIdField": "OBJECTID",
"fields": [
{
"name": "OBJECTID",
"type": "esriFieldTypeOID",
"alias": "OBJECTID",
"domain": null
},
{
"name": "Shape",
"type": "esriFieldTypeGeometry",
"alias": "Shape",
"domain": null
},
{
"name": "Name",
"type": "esriFieldTypeString",
"alias": "Name",
"domain": null,
"length": 200
},
{
"name": "MinPS",
"type": "esriFieldTypeDouble",
"alias": "MinPS",
"domain": null
},
{
"name": "MaxPS",
"type": "esriFieldTypeDouble",
"alias": "MaxPS",
"domain": null
},
{
"name": "LowPS",
"type": "esriFieldTypeDouble",
"alias": "LowPS",
"domain": null
},
{
"name": "HighPS",
"type": "esriFieldTypeDouble",
"alias": "HighPS",
"domain": null
},
{
"name": "Category",
"type": "esriFieldTypeInteger",
"alias": "Category",
"domain": {
"type": "codedValue",
"name": "MosaicCatalogItemCategoryDomain",
"description": "Catalog item categories.",
"codedValues": [
{
"name": "Unknown",
"code": 0
},
{
"name": "Primary",
"code": 1
},
{
"name": "Overview",
"code": 2
},
{
"name": "Unprocessed Overview",
"code": 3
},
{
"name": "Partial Overview",
"code": 4
},
{
"name": "Inactive",
"code": 5
},
{
"name": "Uploaded",
"code": 253
},
{
"name": "Incomplete",
"code": 254
},
{
"name": "Custom",
"code": 255
}
],
"mergePolicy": "esriMPTDefaultValue",
"splitPolicy": "esriSPTDefaultValue"
}
},
{
"name": "Tag",
"type": "esriFieldTypeString",
"alias": "Tag",
"domain": null,
"length": 100
},
{
"name": "GroupName",
"type": "esriFieldTypeString",
"alias": "GroupName",
"domain": null,
"length": 100
},
{
"name": "ProductName",
"type": "esriFieldTypeString",
"alias": "ProductName",
"domain": null,
"length": 100
},
{
"name": "CenterX",
"type": "esriFieldTypeDouble",
"alias": "CenterX",
"domain": null
},
{
"name": "CenterY",
"type": "esriFieldTypeDouble",
"alias": "CenterY",
"domain": null
},
{
"name": "ZOrder",
"type": "esriFieldTypeInteger",
"alias": "ZOrder",
"domain": null
},
{
"name": "Date",
"type": "esriFieldTypeDateOnly",
"alias": "Date",
"domain": null
},
{
"name": "Shape_Length",
"type": "esriFieldTypeDouble",
"alias": "Shape_Length",
"domain": null
},
{
"name": "Shape_Area",
"type": "esriFieldTypeDouble",
"alias": "Shape_Area",
"domain": null
}
],
"capabilities": "Image,Metadata,Catalog",
"defaultMosaicMethod": "Northwest",
"allowedMosaicMethods": "NorthWest,Center,LockRaster,ByAttribute,Nadir,Viewpoint,Seamline,None",
"sortField": "",
"sortValue": null,
"sortAscending": true,
"mosaicOperator": "First",
"maxDownloadSizeLimit": 2048,
"defaultCompressionQuality": 75,
"defaultResamplingMethod": "Bilinear",
"maxImageHeight": 4100,
"maxImageWidth": 15000,
"maxRecordCount": 1000,
"maxDownloadImageCount": 20,
"maxMosaicImageCount": 20,
"allowRasterFunction": true,
"rasterFunctionInfos": [
{
"name": "ndvi_sinlaku",
"description": "1 green 0 white",
"help": ""
},
{
"name": "None",
"description": "Make a Raster or Raster Dataset into a Function Raster Dataset.",
"help": ""
}
],
"rasterTypeInfos": [
{
"name": "Raster Dataset",
"description": "Supports all ArcGIS Raster Datasets",
"help": ""
}
],
"mensurationCapabilities": "None",
"hasHistograms": true,
"hasColormap": false,
"hasRasterAttributeTable": false,
"minScale": 0,
"maxScale": 0,
"exportTilesAllowed": false,
"supportsStatistics": true,
"supportsAdvancedQueries": true,
"editFieldsInfo": null,
"ownershipBasedAccessControlForRasters": null,
"allowComputeTiePoints": false,
"useStandardizedQueries": true,
"advancedQueryCapabilities": {
"useStandardizedQueries": true,
"supportsStatistics": true,
"supportsOrderBy": true,
"supportsDistinct": true,
"supportsPagination": true
},
"spatialReference": {
"wkid": 102100,
"latestWkid": 3857
}
}