Background: <\/span><\/p>MODIS Flood 1 Day Observations is a collection of GeoTiffs representing 1D1OS WMP : 1 Day imagery, 1 Observations required, Terrain & Cloud Shadow Masking. NASA Goddard's Hydrology Laboratory is working to operationalize near real-time global flood mapping using available satellite data resources -- currently the twice daily overpass of the MODIS instrument, on the Terra and Aqua satellites. We are working to include additional data sources, such as Landsat and radar, to improve coverage and accuracy. This work builds on the long-time expertise and efforts of the Dartmouth Flood Observatory (DFO) to map floodwater extent in detail for active floods. The DFO website provides additional detail, additional products, and archives of historical flood maps. This NASA website provides links and information about the automated daily flood and surface water products produced at NASA Goddard. <\/span><\/p>Data Visualization: <\/span><\/p>MODIS Flood layer is represented using Unique Values Ranging from 0-3. <\/span><\/p>0 : Insufficient data to make water determination (cloudy, missing images, swath gaps, or bad data values). <\/span><\/p><\/li>1 : No water detected. <\/span><\/p><\/li>2 : Water detected AND coinciding with reference water (e.g., not flood). <\/span><\/p><\/li>3 : Water detected, beyond reference water, so may be flood. <\/span><\/p><\/li><\/ul>Daily Suggested Usage: <\/span><\/p>Flood detection and showing areas of surface water inundation. Further Reference: Learn more about MODIS Flood Products <\/span><\/p>Purpose/Summary: <\/span><\/p>Flood Detection Map, MODIS Flood 1 Day (1D1OS), Updated Daily<\/span><\/p><\/div><\/div><\/div>",
"serviceItemId": "cc02b0ba0b9a459c885014ada0b71096",
"name": "DISASTERS_EX2602_202405_FLOOD_BRAZIL/ex2602_modis_mcdwd",
"description": "Background: <\/span><\/p>MODIS Flood 1 Day Observations is a collection of GeoTiffs representing 1D1OS WMP : 1 Day imagery, 1 Observations required, Terrain & Cloud Shadow Masking. NASA Goddard's Hydrology Laboratory is working to operationalize near real-time global flood mapping using available satellite data resources -- currently the twice daily overpass of the MODIS instrument, on the Terra and Aqua satellites. We are working to include additional data sources, such as Landsat and radar, to improve coverage and accuracy. This work builds on the long-time expertise and efforts of the Dartmouth Flood Observatory (DFO) to map floodwater extent in detail for active floods. The DFO website provides additional detail, additional products, and archives of historical flood maps. This NASA website provides links and information about the automated daily flood and surface water products produced at NASA Goddard. <\/span><\/p>Data Visualization: <\/span><\/p>MODIS Flood layer is represented using Unique Values Ranging from 0-3. <\/span><\/p>0 : Insufficient data to make water determination (cloudy, missing images, swath gaps, or bad data values). <\/span><\/p><\/li>1 : No water detected. <\/span><\/p><\/li>2 : Water detected AND coinciding with reference water (e.g., not flood). <\/span><\/p><\/li>3 : Water detected, beyond reference water, so may be flood. <\/span><\/p><\/li><\/ul>Daily Suggested Usage: <\/span><\/p>Flood detection and showing areas of surface water inundation. Further Reference: Learn more about MODIS Flood Products <\/span><\/p>Purpose/Summary: <\/span><\/p>Flood Detection Map, MODIS Flood 1 Day (1D1OS), Updated Daily<\/span><\/p><\/div><\/div><\/div>",
"extent": {
"xmin": -6679169.4476,
"ymin": -4866079.315665817,
"xmax": -5565974.539667264,
"ymax": -2273030.927000001,
"spatialReference": {
"wkid": 102100,
"latestWkid": 3857
}
},
"initialExtent": {
"xmin": -6679169.4476,
"ymin": -4866079.315665817,
"xmax": -5565974.539667264,
"ymax": -2273030.927000001,
"spatialReference": {
"wkid": 102100,
"latestWkid": 3857
}
},
"fullExtent": {
"xmin": -6679169.4476,
"ymin": -4866079.315665817,
"xmax": -5565974.539667264,
"ymax": -2273030.927000001,
"spatialReference": {
"wkid": 102100,
"latestWkid": 3857
}
},
"sortableFields": "MinPS,MaxPS,LowPS,HighPS,CenterX,CenterY,ZOrder,Shape_Length,Shape_Area",
"bandCount": 1,
"pixelType": "U8",
"minValues": [],
"maxValues": [],
"meanValues": [],
"stdvValues": [],
"serviceProperties": "NorthWest<\/MosaicMethod>First<\/MosaicOperator>true<\/SortAscending><\/LockImageID>Name<\/TileOrderField>0<\/TileOrderBase>600.000000<\/AvgImageSpacingX>300.000000<\/AvgImageSpacingY>0.0<\/ViewPointX>0.0<\/ViewPointY>0.0<\/ViewPointDefShiftX>0.0<\/ViewPointDefShiftY>None<\/CompressionMethod>75<\/CompressionQuality>0.010000<\/CompressionTolerance>Nearest<\/SamplingMethod><\/ImageServiceProperties><\/ImageServer>",
"allowedFields": "Name,MinPS,MaxPS,LowPS,HighPS,Tag,GroupName,ProductName,CenterX,CenterY,ZOrder,Shape_Length,Shape_Area,Date",
"hasMultidimensions": false,
"pixelSizeX": 231.91560581932,
"pixelSizeY": 231.9156058193199,
"meanPixelSize": 231.91560581931995,
"datasetFormat": "AMD",
"uncompressedSize": 53668800,
"blockWidth": 2048,
"blockHeight": 256,
"compressionType": "None",
"bandNames": [
"Band_1"
],
"allowCopy": true,
"allowAnalysis": true,
"itemAccess": false,
"inspectionCapabilities": "",
"minPixelSize": 0,
"maxPixelSize": 0,
"copyrightText": "National Aeronautics and Space Administration (NASA), Goddard Space Flight Center's (GSFC) Hydrological Sciences Laboratory",
"serviceDataType": "esriImageServiceDataTypeGeneric",
"serviceSourceType": "esriImageServiceSourceTypeMosaicDataset",
"objectIdField": "OBJECTID",
"fields": [
{
"name": "OBJECTID",
"type": "esriFieldTypeOID",
"alias": "OBJECTID",
"domain": null
},
{
"name": "Shape",
"type": "esriFieldTypeGeometry",
"alias": "Shape",
"domain": null
},
{
"name": "Name",
"type": "esriFieldTypeString",
"alias": "Name",
"domain": null,
"length": 200
},
{
"name": "MinPS",
"type": "esriFieldTypeDouble",
"alias": "MinPS",
"domain": null
},
{
"name": "MaxPS",
"type": "esriFieldTypeDouble",
"alias": "MaxPS",
"domain": null
},
{
"name": "LowPS",
"type": "esriFieldTypeDouble",
"alias": "LowPS",
"domain": null
},
{
"name": "HighPS",
"type": "esriFieldTypeDouble",
"alias": "HighPS",
"domain": null
},
{
"name": "Category",
"type": "esriFieldTypeInteger",
"alias": "Category",
"domain": {
"type": "codedValue",
"name": "MosaicCatalogItemCategoryDomain",
"description": "Catalog item categories.",
"codedValues": [
{
"name": "Unknown",
"code": 0
},
{
"name": "Primary",
"code": 1
},
{
"name": "Overview",
"code": 2
},
{
"name": "Unprocessed Overview",
"code": 3
},
{
"name": "Partial Overview",
"code": 4
},
{
"name": "Inactive",
"code": 5
},
{
"name": "Uploaded",
"code": 253
},
{
"name": "Incomplete",
"code": 254
},
{
"name": "Custom",
"code": 255
}
],
"mergePolicy": "esriMPTDefaultValue",
"splitPolicy": "esriSPTDefaultValue"
}
},
{
"name": "Tag",
"type": "esriFieldTypeString",
"alias": "Tag",
"domain": null,
"length": 100
},
{
"name": "GroupName",
"type": "esriFieldTypeString",
"alias": "GroupName",
"domain": null,
"length": 100
},
{
"name": "ProductName",
"type": "esriFieldTypeString",
"alias": "ProductName",
"domain": null,
"length": 100
},
{
"name": "CenterX",
"type": "esriFieldTypeDouble",
"alias": "CenterX",
"domain": null
},
{
"name": "CenterY",
"type": "esriFieldTypeDouble",
"alias": "CenterY",
"domain": null
},
{
"name": "ZOrder",
"type": "esriFieldTypeInteger",
"alias": "ZOrder",
"domain": null
},
{
"name": "Date",
"type": "esriFieldTypeDateOnly",
"alias": "Date",
"domain": null
},
{
"name": "Shape_Length",
"type": "esriFieldTypeDouble",
"alias": "Shape_Length",
"domain": null
},
{
"name": "Shape_Area",
"type": "esriFieldTypeDouble",
"alias": "Shape_Area",
"domain": null
}
],
"capabilities": "Catalog,Mensuration,Image,Metadata",
"defaultMosaicMethod": "Northwest",
"allowedMosaicMethods": "NorthWest,Center,LockRaster,ByAttribute,Nadir,Viewpoint,Seamline,None",
"sortField": "",
"sortValue": null,
"sortAscending": true,
"mosaicOperator": "First",
"maxDownloadSizeLimit": 2048,
"defaultCompressionQuality": 75,
"defaultResamplingMethod": "Nearest",
"maxImageHeight": 4100,
"maxImageWidth": 15000,
"maxRecordCount": 1000,
"maxDownloadImageCount": 20,
"maxMosaicImageCount": 20,
"allowRasterFunction": true,
"rasterFunctionInfos": [
{
"name": "RFT-MCDWD Flood",
"description": "RFT to display MCDWD Flood imagery, with No Water class set to transparent. ",
"help": ""
},
{
"name": "None",
"description": "Make a Raster or Raster Dataset into a Function Raster Dataset.",
"help": ""
}
],
"rasterTypeInfos": [
{
"name": "Raster Dataset",
"description": "Supports all ArcGIS Raster Datasets",
"help": ""
}
],
"mensurationCapabilities": "Basic",
"hasHistograms": false,
"hasColormap": false,
"hasRasterAttributeTable": false,
"minScale": 0,
"maxScale": 0,
"exportTilesAllowed": false,
"supportsStatistics": true,
"supportsAdvancedQueries": true,
"editFieldsInfo": null,
"ownershipBasedAccessControlForRasters": null,
"allowComputeTiePoints": false,
"useStandardizedQueries": true,
"advancedQueryCapabilities": {
"useStandardizedQueries": true,
"supportsStatistics": true,
"supportsOrderBy": true,
"supportsDistinct": true,
"supportsPagination": true
},
"spatialReference": {
"wkid": 102100,
"latestWkid": 3857
},
"resampling": false
}