Dates of Images:<\/SPAN><\/P>Pre-Event: 04/20/2024 <\/SPAN><\/P>Post-Event: 05/06/2024, 05/07/2024, 05/09/2024, 05/15/2024, 05/21/2024 Time Zone: GMT (local crossing time of ~1:00 pm)<\/SPAN><\/P>Summary:<\/SPAN><\/P>These are true color images from PACE OCI (made with R=645 nm, G=555 nm, and B=450 nm) of the 2024 flooding in Brazil. The images show how the flood developed from a pre-flood day (04/20/2024) to the proceeding flooded days (through 05/21/2024) at ~1:00 local time (the overpass of the instrument). The changing extent of the floodwaters, along with what looks to be the amount of suspended sediment, is especially clear. Note that these RGB images were enhanced with the same criteria, which can cause some days to be brighter or darker than others which potentially can be interpreted as change, especially if clouds are present in the image. <\/SPAN><\/SPAN><\/P>Suggested Use:<\/SPAN><\/P>True Color: <\/SPAN>These images show how the area would look to the eye, and so can be interpreted as such. Key portions of the image include the likely sediment injection into the Lagoa dos Patos due to the flooding, and the changing amount of floodwater (and sediment) in the Jacui River and its tributaries as time gets further from the initial flood day. <\/SPAN><\/P>False Color: <\/SPAN>These images were made to enhance the presence of water in an image. Vegetation/bare earth will look bright green or yellowish, water will look deep blue, and sediment in water will look teal. Clouds will be either white, reddish, or light blue. Key portions of the image include the likely sediment injection into the Lagoa dos Patos due to the flooding (tealing-up of the lagoon), and the changing amount of floodwater in the Jacui River and its tributaries as time gets further from the initial flood day. <\/SPAN><\/SPAN><\/P>Credits:<\/SPAN><\/P>NASA PACE Team, POC: Skye Caplan, Link to data: https://search.earthdata.nasa.gov/search/granules?p=C3620139902-OB_CLOUD&pg[0][v]=f&pg[0][gsk]=-start_date&q=oci%20sfrefl <\/SPAN><\/P>Esri REST Endpoint:<\/SPAN><\/P>See URL to the right.<\/SPAN><\/P>WMS Endpoint:<\/SPAN><\/P><\/DIV><\/DIV><\/DIV>",
"serviceItemId": "22ab905fdda247ff84ae761e1dad4fa9",
"name": "DISASTERS_EX2602_202405_FLOOD_BRAZIL/ex2602_pace_img",
"description": "Dates of Images:<\/span><\/p>Pre-Event: 04/20/2024 <\/span><\/p>Post-Event: 05/06/2024, 05/07/2024, 05/09/2024, 05/15/2024, 05/21/2024 Time Zone: GMT (local crossing time of ~1:00 pm)<\/span><\/p>Summary:<\/span><\/p>These are true color images from PACE OCI (made with R=645 nm, G=555 nm, and B=450 nm) of the 2024 flooding in Brazil. The images show how the flood developed from a pre-flood day (04/20/2024) to the proceeding flooded days (through 05/21/2024) at ~1:00 local time (the overpass of the instrument). The changing extent of the floodwaters, along with what looks to be the amount of suspended sediment, is especially clear. Note that these RGB images were enhanced with the same criteria, which can cause some days to be brighter or darker than others which potentially can be interpreted as change, especially if clouds are present in the image. <\/span><\/span><\/p>Suggested Use:<\/span><\/p>True Color: <\/span>These images show how the area would look to the eye, and so can be interpreted as such. Key portions of the image include the likely sediment injection into the Lagoa dos Patos due to the flooding, and the changing amount of floodwater (and sediment) in the Jacui River and its tributaries as time gets further from the initial flood day. <\/span><\/p>False Color: <\/span>These images were made to enhance the presence of water in an image. Vegetation/bare earth will look bright green or yellowish, water will look deep blue, and sediment in water will look teal. Clouds will be either white, reddish, or light blue. Key portions of the image include the likely sediment injection into the Lagoa dos Patos due to the flooding (tealing-up of the lagoon), and the changing amount of floodwater in the Jacui River and its tributaries as time gets further from the initial flood day. <\/span><\/span><\/p>Credits:<\/span><\/p>NASA PACE Team, POC: Skye Caplan, Link to data: https://search.earthdata.nasa.gov/search/granules?p=C3620139902-OB_CLOUD&pg[0][v]=f&pg[0][gsk]=-start_date&q=oci%20sfrefl <\/span><\/p>Esri REST Endpoint:<\/span><\/p>See URL to the right.<\/span><\/p>WMS Endpoint:<\/span><\/p>https://gis.earthdata.nasa.gov/gis05/services/DISASTERS_EX2602_202405_FLOOD_BRAZIL/ex2602_pace_img/ImageServer/WMSServer<\/a><\/p><\/div>",
"extent": {
"xmin": -6136486.93,
"ymin": -3744279.3590077115,
"xmax": -5483598.1164974505,
"ymax": -3209945.803199999,
"spatialReference": {
"wkid": 102100,
"latestWkid": 3857
}
},
"initialExtent": {
"xmin": -6136486.93,
"ymin": -3744279.3590077115,
"xmax": -5483598.1164974505,
"ymax": -3209945.803199999,
"spatialReference": {
"wkid": 102100,
"latestWkid": 3857
}
},
"fullExtent": {
"xmin": -6136486.93,
"ymin": -3744279.3590077115,
"xmax": -5483598.1164974505,
"ymax": -3209945.803199999,
"spatialReference": {
"wkid": 102100,
"latestWkid": 3857
}
},
"sortableFields": "MinPS,MaxPS,LowPS,HighPS,CenterX,CenterY,ZOrder,Shape_Length,Shape_Area",
"bandCount": 3,
"pixelType": "F64",
"minValues": [
0,
0,
0
],
"maxValues": [
1,
1,
1
],
"meanValues": [
0.30693298622145404,
0.32004779264320943,
0.25613591021347926
],
"stdvValues": [
0.2832068296322728,
0.27896949865033016,
0.2667453458709114
],
"serviceProperties": "NorthWest<\/MosaicMethod>First<\/MosaicOperator>true<\/SortAscending><\/LockImageID>Name<\/TileOrderField>0<\/TileOrderBase>600.000000<\/AvgImageSpacingX>300.000000<\/AvgImageSpacingY>0.0<\/ViewPointX>0.0<\/ViewPointY>0.0<\/ViewPointDefShiftX>0.0<\/ViewPointDefShiftY>None<\/CompressionMethod>75<\/CompressionQuality>0.010000<\/CompressionTolerance>Bilinear<\/SamplingMethod><\/ImageServiceProperties><\/ImageServer>",
"allowedFields": "Name,MinPS,MaxPS,LowPS,HighPS,Tag,GroupName,ProductName,CenterX,CenterY,ZOrder,Shape_Length,Shape_Area,Date",
"hasMultidimensions": false,
"pixelSizeX": 1669.7923618991028,
"pixelSizeY": 1669.7923618991015,
"meanPixelSize": 1669.7923618991022,
"datasetFormat": "AMD",
"uncompressedSize": 3002880,
"blockWidth": 2048,
"blockHeight": 256,
"compressionType": "None",
"bandNames": [
"Band_1",
"Band_2",
"Band_3"
],
"allowCopy": true,
"allowAnalysis": true,
"itemAccess": false,
"inspectionCapabilities": "",
"minPixelSize": 0,
"maxPixelSize": 0,
"copyrightText": "NASA PACE Team, POC: Skye Caplan.",
"serviceDataType": "esriImageServiceDataTypeGeneric",
"serviceSourceType": "esriImageServiceSourceTypeMosaicDataset",
"objectIdField": "OBJECTID",
"fields": [
{
"name": "OBJECTID",
"type": "esriFieldTypeOID",
"alias": "OBJECTID",
"domain": null
},
{
"name": "Shape",
"type": "esriFieldTypeGeometry",
"alias": "Shape",
"domain": null
},
{
"name": "Name",
"type": "esriFieldTypeString",
"alias": "Name",
"domain": null,
"length": 200
},
{
"name": "MinPS",
"type": "esriFieldTypeDouble",
"alias": "MinPS",
"domain": null
},
{
"name": "MaxPS",
"type": "esriFieldTypeDouble",
"alias": "MaxPS",
"domain": null
},
{
"name": "LowPS",
"type": "esriFieldTypeDouble",
"alias": "LowPS",
"domain": null
},
{
"name": "HighPS",
"type": "esriFieldTypeDouble",
"alias": "HighPS",
"domain": null
},
{
"name": "Category",
"type": "esriFieldTypeInteger",
"alias": "Category",
"domain": {
"type": "codedValue",
"name": "MosaicCatalogItemCategoryDomain",
"description": "Catalog item categories.",
"codedValues": [
{
"name": "Unknown",
"code": 0
},
{
"name": "Primary",
"code": 1
},
{
"name": "Overview",
"code": 2
},
{
"name": "Unprocessed Overview",
"code": 3
},
{
"name": "Partial Overview",
"code": 4
},
{
"name": "Inactive",
"code": 5
},
{
"name": "Uploaded",
"code": 253
},
{
"name": "Incomplete",
"code": 254
},
{
"name": "Custom",
"code": 255
}
],
"mergePolicy": "esriMPTDefaultValue",
"splitPolicy": "esriSPTDefaultValue"
}
},
{
"name": "Tag",
"type": "esriFieldTypeString",
"alias": "Tag",
"domain": null,
"length": 100
},
{
"name": "GroupName",
"type": "esriFieldTypeString",
"alias": "GroupName",
"domain": null,
"length": 100
},
{
"name": "ProductName",
"type": "esriFieldTypeString",
"alias": "ProductName",
"domain": null,
"length": 100
},
{
"name": "CenterX",
"type": "esriFieldTypeDouble",
"alias": "CenterX",
"domain": null
},
{
"name": "CenterY",
"type": "esriFieldTypeDouble",
"alias": "CenterY",
"domain": null
},
{
"name": "ZOrder",
"type": "esriFieldTypeInteger",
"alias": "ZOrder",
"domain": null
},
{
"name": "Date",
"type": "esriFieldTypeDateOnly",
"alias": "Date",
"domain": null
},
{
"name": "Shape_Length",
"type": "esriFieldTypeDouble",
"alias": "Shape_Length",
"domain": null
},
{
"name": "Shape_Area",
"type": "esriFieldTypeDouble",
"alias": "Shape_Area",
"domain": null
}
],
"capabilities": "Image,Metadata,Catalog",
"defaultMosaicMethod": "Northwest",
"allowedMosaicMethods": "NorthWest,Center,LockRaster,ByAttribute,Nadir,Viewpoint,Seamline,None",
"sortField": "",
"sortValue": null,
"sortAscending": true,
"mosaicOperator": "First",
"maxDownloadSizeLimit": 2048,
"defaultCompressionQuality": 75,
"defaultResamplingMethod": "Bilinear",
"maxImageHeight": 4100,
"maxImageWidth": 15000,
"maxRecordCount": 1000,
"maxDownloadImageCount": 20,
"maxMosaicImageCount": 20,
"allowRasterFunction": true,
"rasterFunctionInfos": [
{
"name": "pace_removenodata_img",
"description": "pace_removenodata_img",
"help": ""
},
{
"name": "None",
"description": "Make a Raster or Raster Dataset into a Function Raster Dataset.",
"help": ""
}
],
"rasterTypeInfos": [
{
"name": "Raster Dataset",
"description": "Supports all ArcGIS Raster Datasets",
"help": ""
}
],
"mensurationCapabilities": "None",
"hasHistograms": true,
"hasColormap": false,
"hasRasterAttributeTable": false,
"minScale": 0,
"maxScale": 0,
"exportTilesAllowed": false,
"supportsStatistics": true,
"supportsAdvancedQueries": true,
"editFieldsInfo": null,
"ownershipBasedAccessControlForRasters": null,
"allowComputeTiePoints": false,
"useStandardizedQueries": true,
"advancedQueryCapabilities": {
"useStandardizedQueries": true,
"supportsStatistics": true,
"supportsOrderBy": true,
"supportsDistinct": true,
"supportsPagination": true
},
"spatialReference": {
"wkid": 102100,
"latestWkid": 3857
}
}