Dates of Images:<\/SPAN><\/P>Dates: 04/20/2024 (pre-flood), 05/06/2024, 05/07/2024, 05/09/2024, 05/15/2024, 05/21/2024 Time Zone: GMT (local crossing time of ~1:00 pm)<\/SPAN><\/SPAN><\/P>Summary:<\/SPAN><\/P>These are NDVI images from PACE OCI of the 2024 flooding in Brazil using data from the OCI LANDVI suite, where NDVI is one of the products delivered daily by the mission. The images show how the landscape changes from a pre-flood day (04/20/2024) through flood days ending at 05/21/2024 at ~1:00 pm local time. NDVI is a measure of approximate greenness and health in vegetation but can also be useful in distinguishing water extent and unhealthy vegetated areas, which can be see in these images throughout the flood.<\/SPAN><\/SPAN><\/P>Suggested Use:<\/SPAN><\/P>NDVI is a normalized band ratio measuring approximate greenness and vegetation health. Higher positive values mean greener and abundant vegetation, values around 0 mean bare soil or rock, and lower negative values mean non-vegetated areas like water or clouds. These images show the transition of the area around the Jacui River from non-flooded conditions (high NDVI values) to flooded (NDVI values in the negative, indicating water presence). Clouds have been screened from these products, so low NDVI values can around the river can be identified as water. <\/SPAN><\/SPAN><\/P>Satellite/Sensor/Resolution:<\/SPAN><\/P>Satellite: PACE, sensor: OCI, temporal resolution: daily, spatial resolution: gridded to 0.015 degrees from a Level 2 product in instrument swath (varying pixel size, 1.2 km at nadir).<\/SPAN><\/SPAN><\/P><\/P><\/DIV><\/DIV><\/DIV>",
"serviceItemId": "bc539c41633a4c4797569fb830cc6dd2",
"name": "DISASTERS_EX2602_202405_FLOOD_BRAZIL/ex2602_pace_ndvi",
"description": "
Dates of Images:<\/SPAN><\/P>Dates: 04/20/2024 (pre-flood), 05/06/2024, 05/07/2024, 05/09/2024, 05/15/2024, 05/21/2024 Time Zone: GMT (local crossing time of ~1:00 pm)<\/SPAN><\/SPAN><\/P>Summary:<\/SPAN><\/P>These are NDVI images from PACE OCI of the 2024 flooding in Brazil using data from the OCI LANDVI suite, where NDVI is one of the products delivered daily by the mission. The images show how the landscape changes from a pre-flood day (04/20/2024) through flood days ending at 05/21/2024 at ~1:00 pm local time. NDVI is a measure of approximate greenness and health in vegetation but can also be useful in distinguishing water extent and unhealthy vegetated areas, which can be see in these images throughout the flood.<\/SPAN><\/SPAN><\/P>Suggested Use:<\/SPAN><\/P>NDVI is a normalized band ratio measuring approximate greenness and vegetation health. Higher positive values mean greener and abundant vegetation, values around 0 mean bare soil or rock, and lower negative values mean non-vegetated areas like water or clouds. These images show the transition of the area around the Jacui River from non-flooded conditions (high NDVI values) to flooded (NDVI values in the negative, indicating water presence). Clouds have been screened from these products, so low NDVI values can around the river can be identified as water. <\/SPAN><\/SPAN><\/P>Satellite/Sensor/Resolution:<\/SPAN><\/P>Satellite: PACE, sensor: OCI, temporal resolution: daily, spatial resolution: gridded to 0.015 degrees from a Level 2 product in instrument swath (varying pixel size, 1.2 km at nadir).<\/SPAN><\/SPAN><\/P><\/P><\/DIV><\/DIV><\/DIV>",
"extent": {
"xmin": -6136486.93,
"ymin": -3744279.3590077115,
"xmax": -5483598.1164974505,
"ymax": -3209945.803199999,
"spatialReference": {
"wkid": 102100,
"latestWkid": 3857
}
},
"initialExtent": {
"xmin": -6136486.93,
"ymin": -3744279.3590077115,
"xmax": -5483598.1164974505,
"ymax": -3209945.803199999,
"spatialReference": {
"wkid": 102100,
"latestWkid": 3857
}
},
"fullExtent": {
"xmin": -6136486.93,
"ymin": -3744279.3590077115,
"xmax": -5483598.1164974505,
"ymax": -3209945.803199999,
"spatialReference": {
"wkid": 102100,
"latestWkid": 3857
}
},
"sortableFields": "MinPS,MaxPS,LowPS,HighPS,CenterX,CenterY,ZOrder,Shape_Length,Shape_Area",
"bandCount": 1,
"pixelType": "F32",
"minValues": [
-0.5578991174697876
],
"maxValues": [
0.8818449974060059
],
"meanValues": [
0.6023982035211731
],
"stdvValues": [
0.1681883933333861
],
"serviceProperties": "NorthWest<\/MosaicMethod>First<\/MosaicOperator>true<\/SortAscending><\/LockImageID>Name<\/TileOrderField>0<\/TileOrderBase>600.000000<\/AvgImageSpacingX>300.000000<\/AvgImageSpacingY>0.0<\/ViewPointX>0.0<\/ViewPointY>0.0<\/ViewPointDefShiftX>0.0<\/ViewPointDefShiftY>None<\/CompressionMethod>75<\/CompressionQuality>0.010000<\/CompressionTolerance>Bilinear<\/SamplingMethod><\/ImageServiceProperties><\/ImageServer>",
"allowedFields": "Name,MinPS,MaxPS,LowPS,HighPS,Tag,GroupName,ProductName,CenterX,CenterY,ZOrder,Shape_Length,Shape_Area,Date",
"hasMultidimensions": false,
"pixelSizeX": 1669.7923618991028,
"pixelSizeY": 1669.7923618991015,
"meanPixelSize": 1669.7923618991022,
"datasetFormat": "AMD",
"uncompressedSize": 500480,
"blockWidth": 2048,
"blockHeight": 256,
"compressionType": "None",
"bandNames": [
"Band_1"
],
"allowCopy": true,
"allowAnalysis": true,
"itemAccess": false,
"inspectionCapabilities": "",
"minPixelSize": 0,
"maxPixelSize": 0,
"copyrightText": "NASA PACE Team, POC: Skye Caplan.",
"serviceDataType": "esriImageServiceDataTypeGeneric",
"serviceSourceType": "esriImageServiceSourceTypeMosaicDataset",
"objectIdField": "OBJECTID",
"fields": [
{
"name": "OBJECTID",
"type": "esriFieldTypeOID",
"alias": "OBJECTID",
"domain": null
},
{
"name": "Shape",
"type": "esriFieldTypeGeometry",
"alias": "Shape",
"domain": null
},
{
"name": "Name",
"type": "esriFieldTypeString",
"alias": "Name",
"domain": null,
"length": 200
},
{
"name": "MinPS",
"type": "esriFieldTypeDouble",
"alias": "MinPS",
"domain": null
},
{
"name": "MaxPS",
"type": "esriFieldTypeDouble",
"alias": "MaxPS",
"domain": null
},
{
"name": "LowPS",
"type": "esriFieldTypeDouble",
"alias": "LowPS",
"domain": null
},
{
"name": "HighPS",
"type": "esriFieldTypeDouble",
"alias": "HighPS",
"domain": null
},
{
"name": "Category",
"type": "esriFieldTypeInteger",
"alias": "Category",
"domain": {
"type": "codedValue",
"name": "MosaicCatalogItemCategoryDomain",
"description": "Catalog item categories.",
"codedValues": [
{
"name": "Unknown",
"code": 0
},
{
"name": "Primary",
"code": 1
},
{
"name": "Overview",
"code": 2
},
{
"name": "Unprocessed Overview",
"code": 3
},
{
"name": "Partial Overview",
"code": 4
},
{
"name": "Inactive",
"code": 5
},
{
"name": "Uploaded",
"code": 253
},
{
"name": "Incomplete",
"code": 254
},
{
"name": "Custom",
"code": 255
}
],
"mergePolicy": "esriMPTDefaultValue",
"splitPolicy": "esriSPTDefaultValue"
}
},
{
"name": "Tag",
"type": "esriFieldTypeString",
"alias": "Tag",
"domain": null,
"length": 100
},
{
"name": "GroupName",
"type": "esriFieldTypeString",
"alias": "GroupName",
"domain": null,
"length": 100
},
{
"name": "ProductName",
"type": "esriFieldTypeString",
"alias": "ProductName",
"domain": null,
"length": 100
},
{
"name": "CenterX",
"type": "esriFieldTypeDouble",
"alias": "CenterX",
"domain": null
},
{
"name": "CenterY",
"type": "esriFieldTypeDouble",
"alias": "CenterY",
"domain": null
},
{
"name": "ZOrder",
"type": "esriFieldTypeInteger",
"alias": "ZOrder",
"domain": null
},
{
"name": "Date",
"type": "esriFieldTypeDateOnly",
"alias": "Date",
"domain": null
},
{
"name": "Shape_Length",
"type": "esriFieldTypeDouble",
"alias": "Shape_Length",
"domain": null
},
{
"name": "Shape_Area",
"type": "esriFieldTypeDouble",
"alias": "Shape_Area",
"domain": null
}
],
"capabilities": "Image,Metadata,Catalog",
"defaultMosaicMethod": "Northwest",
"allowedMosaicMethods": "NorthWest,Center,LockRaster,ByAttribute,Nadir,Viewpoint,Seamline,None",
"sortField": "",
"sortValue": null,
"sortAscending": true,
"mosaicOperator": "First",
"maxDownloadSizeLimit": 2048,
"defaultCompressionQuality": 75,
"defaultResamplingMethod": "Bilinear",
"maxImageHeight": 4100,
"maxImageWidth": 15000,
"maxRecordCount": 1000,
"maxDownloadImageCount": 20,
"maxMosaicImageCount": 20,
"allowRasterFunction": true,
"rasterFunctionInfos": [
{
"name": "pace_ndvi",
"description": "pace_ndvi",
"help": ""
},
{
"name": "None",
"description": "Make a Raster or Raster Dataset into a Function Raster Dataset.",
"help": ""
}
],
"rasterTypeInfos": [
{
"name": "Raster Dataset",
"description": "Supports all ArcGIS Raster Datasets",
"help": ""
}
],
"mensurationCapabilities": "None",
"hasHistograms": true,
"hasColormap": false,
"hasRasterAttributeTable": false,
"minScale": 0,
"maxScale": 0,
"exportTilesAllowed": false,
"supportsStatistics": true,
"supportsAdvancedQueries": true,
"editFieldsInfo": null,
"ownershipBasedAccessControlForRasters": null,
"allowComputeTiePoints": false,
"useStandardizedQueries": true,
"advancedQueryCapabilities": {
"useStandardizedQueries": true,
"supportsStatistics": true,
"supportsOrderBy": true,
"supportsDistinct": true,
"supportsPagination": true
},
"spatialReference": {
"wkid": 102100,
"latestWkid": 3857
}
}