{ "currentVersion": 11.5, "serviceDescription": "

Dates of Images:<\/SPAN><\/P>
Dates: 04/20/2024 (pre-flood), 05/06/2024, 05/07/2024, 05/09/2024, 05/15/2024, 05/21/2024 Time Zone: GMT (local crossing time of ~1:00 pm)<\/SPAN><\/SPAN><\/P>
Summary:<\/SPAN><\/P>
These are NDWI measurements from PACE OCI using surface reflectances from OCI's SFREFL suite of the 2024 flooding in Brazil. NDWI is a normalized band ratio using the green (555 nm) and NIR (860 nm) for water content detection (green - nir / green + nir). The images show how the flood developed from a pre-flood day (04/20/2024) to the proceeding flooded days (through 05/21/2024) at ~1:00 local time (the overpass of the instrument). The changing extent of the floodwaters, along with what looks to be the amount of suspended sediment, is especially clear against the background of vegetation. Users should take into account that these floodwaters were sediment-laden, and thus some of that signal may depress the water signal. However, the change in NDWI from the pre-flood day can be used to identify flood extent.<\/SPAN><\/SPAN><\/P>
Suggested Use:<\/SPAN><\/P>
NDWI is a normalized band ratio measuring the presence of water. Higher positive values water surfaces, low positive values to ~0 indicates flooding or high humidity, and negative values mean non-aqueous or drought conditions. In these images, it is clear that the presence of water increases greatly around the Jacui River during flood days compared to the pre-flood day (04/20/2024), showing the transition of the area around the Jacui River from non-flooded conditions (low NDWI values) to flooded (higher NDWI). Clouds have been screened from these products.<\/SPAN><\/SPAN><\/P>
Satellite/Sensor/Resolution:<\/SPAN><\/P>
Satellite: PACE, sensor: OCI<\/SPAN><\/P>
Temporal resolution: daily<\/SPAN><\/P>
Spatial resolution: gridded to 0.015 degrees from a Level 2 product in instrument swath (varying pixel size, 1.2 km at nadir).<\/SPAN><\/P>
Credits:<\/SPAN><\/P>
NASA PACE Team, POC: Skye Caplan, Link to data: https://search.earthdata.nasa.gov/search/granules?p=C3620139902-OB_CLOUD&pg[0][v]=f&pg[0][gsk]=-start_date&q=oci%20sfrefl <\/SPAN><\/P><\/DIV><\/DIV><\/DIV>", "serviceItemId": "920eb4b38691411282a4929de2f4efdf", "name": "DISASTERS_EX2602_202405_FLOOD_BRAZIL/ex2602_pace_ndwi", "description": "

Dates of Images:<\/SPAN><\/P>
Dates: 04/20/2024 (pre-flood), 05/06/2024, 05/07/2024, 05/09/2024, 05/15/2024, 05/21/2024 Time Zone: GMT (local crossing time of ~1:00 pm)<\/SPAN><\/SPAN><\/P>
Summary:<\/SPAN><\/P>
These are NDWI measurements from PACE OCI using surface reflectances from OCI's SFREFL suite of the 2024 flooding in Brazil. NDWI is a normalized band ratio using the green (555 nm) and NIR (860 nm) for water content detection (green - nir / green + nir). The images show how the flood developed from a pre-flood day (04/20/2024) to the proceeding flooded days (through 05/21/2024) at ~1:00 local time (the overpass of the instrument). The changing extent of the floodwaters, along with what looks to be the amount of suspended sediment, is especially clear against the background of vegetation. Users should take into account that these floodwaters were sediment-laden, and thus some of that signal may depress the water signal. However, the change in NDWI from the pre-flood day can be used to identify flood extent.<\/SPAN><\/SPAN><\/P>
Suggested Use:<\/SPAN><\/P>
NDWI is a normalized band ratio measuring the presence of water. Higher positive values water surfaces, low positive values to ~0 indicates flooding or high humidity, and negative values mean non-aqueous or drought conditions. In these images, it is clear that the presence of water increases greatly around the Jacui River during flood days compared to the pre-flood day (04/20/2024), showing the transition of the area around the Jacui River from non-flooded conditions (low NDWI values) to flooded (higher NDWI). Clouds have been screened from these products.<\/SPAN><\/SPAN><\/P>
Satellite/Sensor/Resolution:<\/SPAN><\/P>
Satellite: PACE, sensor: OCI<\/SPAN><\/P>
Temporal resolution: daily<\/SPAN><\/P>
Spatial resolution: gridded to 0.015 degrees from a Level 2 product in instrument swath (varying pixel size, 1.2 km at nadir).<\/SPAN><\/P>
Credits:<\/SPAN><\/P>
NASA PACE Team, POC: Skye Caplan, Link to data: https://search.earthdata.nasa.gov/search/granules?p=C3620139902-OB_CLOUD&pg[0][v]=f&pg[0][gsk]=-start_date&q=oci%20sfrefl <\/SPAN><\/P><\/DIV><\/DIV><\/DIV>", "extent": { "xmin": -6136486.93, "ymin": -3744279.3590077115, "xmax": -5483598.1164974505, "ymax": -3209945.803199999, "spatialReference": { "wkid": 102100, "latestWkid": 3857 } }, "initialExtent": { "xmin": -6136486.93, "ymin": -3744279.3590077115, "xmax": -5483598.1164974505, "ymax": -3209945.803199999, "spatialReference": { "wkid": 102100, "latestWkid": 3857 } }, "fullExtent": { "xmin": -6136486.93, "ymin": -3744279.3590077115, "xmax": -5483598.1164974505, "ymax": -3209945.803199999, "spatialReference": { "wkid": 102100, "latestWkid": 3857 } }, "sortableFields": "MinPS,MaxPS,LowPS,HighPS,CenterX,CenterY,ZOrder,Shape_Length,Shape_Area", "bandCount": 1, "pixelType": "F32", "minValues": [ -0.8273450136184692 ], "maxValues": [ 0.8680543303489685 ], "meanValues": [ -0.5024139344160372 ], "stdvValues": [ 0.3143296919853701 ], "serviceProperties": "NorthWest<\/MosaicMethod>First<\/MosaicOperator>true<\/SortAscending><\/LockImageID>Name<\/TileOrderField>0<\/TileOrderBase>600.000000<\/AvgImageSpacingX>300.000000<\/AvgImageSpacingY>0.0<\/ViewPointX>0.0<\/ViewPointY>0.0<\/ViewPointDefShiftX>0.0<\/ViewPointDefShiftY>None<\/CompressionMethod>75<\/CompressionQuality>0.010000<\/CompressionTolerance>Bilinear<\/SamplingMethod><\/ImageServiceProperties><\/ImageServer>", "allowedFields": "Name,MinPS,MaxPS,LowPS,HighPS,Tag,GroupName,ProductName,CenterX,CenterY,ZOrder,Shape_Length,Shape_Area,Date", "hasMultidimensions": false, "pixelSizeX": 1669.7923618991028, "pixelSizeY": 1669.7923618991015, "meanPixelSize": 1669.7923618991022, "datasetFormat": "AMD", "uncompressedSize": 500480, "blockWidth": 2048, "blockHeight": 256, "compressionType": "None", "bandNames": [ "Band_1" ], "allowCopy": true, "allowAnalysis": true, "itemAccess": false, "inspectionCapabilities": "", "minPixelSize": 0, "maxPixelSize": 0, "copyrightText": "NASA PACE Team, POC: Skye Caplan.", "serviceDataType": "esriImageServiceDataTypeGeneric", "serviceSourceType": "esriImageServiceSourceTypeMosaicDataset", "objectIdField": "OBJECTID", "fields": [ { "name": "OBJECTID", "type": "esriFieldTypeOID", "alias": "OBJECTID", "domain": null }, { "name": "Shape", "type": "esriFieldTypeGeometry", "alias": "Shape", "domain": null }, { "name": "Name", "type": "esriFieldTypeString", "alias": "Name", "domain": null, "length": 200 }, { "name": "MinPS", "type": "esriFieldTypeDouble", "alias": "MinPS", "domain": null }, { "name": "MaxPS", "type": "esriFieldTypeDouble", "alias": "MaxPS", "domain": null }, { "name": "LowPS", "type": "esriFieldTypeDouble", "alias": "LowPS", "domain": null }, { "name": "HighPS", "type": "esriFieldTypeDouble", "alias": "HighPS", "domain": null }, { "name": "Category", "type": "esriFieldTypeInteger", "alias": "Category", "domain": { "type": "codedValue", "name": "MosaicCatalogItemCategoryDomain", "description": "Catalog item categories.", "codedValues": [ { "name": "Unknown", "code": 0 }, { "name": "Primary", "code": 1 }, { "name": "Overview", "code": 2 }, { "name": "Unprocessed Overview", "code": 3 }, { "name": "Partial Overview", "code": 4 }, { "name": "Inactive", "code": 5 }, { "name": "Uploaded", "code": 253 }, { "name": "Incomplete", "code": 254 }, { "name": "Custom", "code": 255 } ], "mergePolicy": "esriMPTDefaultValue", "splitPolicy": "esriSPTDefaultValue" } }, { "name": "Tag", "type": "esriFieldTypeString", "alias": "Tag", "domain": null, "length": 100 }, { "name": "GroupName", "type": "esriFieldTypeString", "alias": "GroupName", "domain": null, "length": 100 }, { "name": "ProductName", "type": "esriFieldTypeString", "alias": "ProductName", "domain": null, "length": 100 }, { "name": "CenterX", "type": "esriFieldTypeDouble", "alias": "CenterX", "domain": null }, { "name": "CenterY", "type": "esriFieldTypeDouble", "alias": "CenterY", "domain": null }, { "name": "ZOrder", "type": "esriFieldTypeInteger", "alias": "ZOrder", "domain": null }, { "name": "Date", "type": "esriFieldTypeDateOnly", "alias": "Date", "domain": null }, { "name": "Shape_Length", "type": "esriFieldTypeDouble", "alias": "Shape_Length", "domain": null }, { "name": "Shape_Area", "type": "esriFieldTypeDouble", "alias": "Shape_Area", "domain": null } ], "capabilities": "Image,Metadata,Catalog", "defaultMosaicMethod": "Northwest", "allowedMosaicMethods": "NorthWest,Center,LockRaster,ByAttribute,Nadir,Viewpoint,Seamline,None", "sortField": "", "sortValue": null, "sortAscending": true, "mosaicOperator": "First", "maxDownloadSizeLimit": 2048, "defaultCompressionQuality": 75, "defaultResamplingMethod": "Bilinear", "maxImageHeight": 4100, "maxImageWidth": 15000, "maxRecordCount": 1000, "maxDownloadImageCount": 20, "maxMosaicImageCount": 20, "allowRasterFunction": true, "rasterFunctionInfos": [ { "name": "ndwi_pace", "description": "ndwi_pace", "help": "" }, { "name": "None", "description": "Make a Raster or Raster Dataset into a Function Raster Dataset.", "help": "" } ], "rasterTypeInfos": [ { "name": "Raster Dataset", "description": "Supports all ArcGIS Raster Datasets", "help": "" } ], "mensurationCapabilities": "None", "hasHistograms": true, "hasColormap": false, "hasRasterAttributeTable": false, "minScale": 0, "maxScale": 0, "exportTilesAllowed": false, "supportsStatistics": true, "supportsAdvancedQueries": true, "editFieldsInfo": null, "ownershipBasedAccessControlForRasters": null, "allowComputeTiePoints": false, "useStandardizedQueries": true, "advancedQueryCapabilities": { "useStandardizedQueries": true, "supportsStatistics": true, "supportsOrderBy": true, "supportsDistinct": true, "supportsPagination": true }, "spatialReference": { "wkid": 102100, "latestWkid": 3857 } }