{ "currentVersion": 11.5, "serviceDescription": "

Dates of Images:<\/SPAN><\/P>
Pre-Event: 04/20/2024 (pre-flood)<\/SPAN><\/P>
Post-Event: 05/06/2024, 05/07/2024, 05/09/2024, 05/15/2024, 05/21/2024 Time Zone: GMT (local crossing time of ~1:00 pm)<\/SPAN><\/P>
Summary:<\/SPAN><\/P>
This product is the apparent visible wavelength (AVW) of each pixel in a scene, approximating the overall color of the surface. It is calculated by taking the harmonic mean of surface reflectances from 350 nm to 895 nm, and can provide a sense of what has changed in the landscape by comparing several days against each other, as the change in apparent color of a surface often occurs under drastic circumstances. Dates covered include one pre-flood day (04/20/2024) and 5 flood days ending on 05/21/2024 at ~1:00 local time. AVW for each day is delivered, as is a % change from the pre-flood day to each of the 5 flood days afterward, showing the magnitude of color change in the area. Depending on the direction of change, one can infer the type of surface change from AVW. Typically, this metric is calculated from Rrs used for ocean color analyses (see https://doi.org/10.1016/j.rse.2020.111900), but can be made from surface reflectances and used over land as well. <\/SPAN><\/SPAN><\/P>
Suggested Use:<\/SPAN><\/P>
Given that AVW is the apparent color of pixel, it can be used to track changes in land and water surfaces. The AVW value indicates average color reflected from a surface, e.g., healthy vegetation will have AVW in the NIR, water in the blues and greens, and turbid water in the reds. During flood days, the area around the Jacui River gets significantly redder (from previous NIR values), which can indicate turbid water supressing the typical vegetated signal in that area. Also, the Lagoa dos Patos gets significantly redder (from the greens), which indicates different conditions in the water (i.e., injection of sediment, which has average colors in the red). Images are typically displayed using the \"Spectral\" color map, with bounds from 400 - 700 (see attachment). For the percent change images, negative changes signify shorter average wavelengths (can be thought of as blue-shifting) and positive % changes are elongated average wavelengths (i.e., red-shifts). In other words, these shifting wavelengths tell us that some enviornmental change has caused the average color of a pixel to change.<\/SPAN><\/SPAN><\/P>
Satellite/Sensor/Resolution:<\/SPAN><\/P>
Satellite: PACE, sensor: OCI, temporal resolution: daily, spatial resolution: gridded to 0.015 degrees from a Level 2 product in instrument swath (varying pixel size, 1.2 km at nadir).<\/SPAN><\/SPAN><\/P>
Credits:<\/SPAN><\/P>
Credit: NASA PACE Team, POC: Skye Caplan, Link to data: https://search.earthdata.nasa.gov/search/granules?p=C3620139902-OB_CLOUD&pg[0][v]=f&pg[0][gsk]=-start_date&q=oci%20sfrefl <\/SPAN><\/SPAN><\/P><\/DIV><\/DIV><\/DIV>", "serviceItemId": "26292294a3e642c2a920999e4ed212e5", "name": "DISASTERS_EX2602_202405_FLOOD_BRAZIL/ex2602_pace_percchange", "description": "

Dates of Images:<\/SPAN><\/P>
Pre-Event: 04/20/2024 (pre-flood)<\/SPAN><\/P>
Post-Event: 05/06/2024, 05/07/2024, 05/09/2024, 05/15/2024, 05/21/2024 Time Zone: GMT (local crossing time of ~1:00 pm)<\/SPAN><\/P>
Summary:<\/SPAN><\/P>
This product is the apparent visible wavelength (AVW) of each pixel in a scene, approximating the overall color of the surface. It is calculated by taking the harmonic mean of surface reflectances from 350 nm to 895 nm, and can provide a sense of what has changed in the landscape by comparing several days against each other, as the change in apparent color of a surface often occurs under drastic circumstances. Dates covered include one pre-flood day (04/20/2024) and 5 flood days ending on 05/21/2024 at ~1:00 local time. AVW for each day is delivered, as is a % change from the pre-flood day to each of the 5 flood days afterward, showing the magnitude of color change in the area. Depending on the direction of change, one can infer the type of surface change from AVW. Typically, this metric is calculated from Rrs used for ocean color analyses (see https://doi.org/10.1016/j.rse.2020.111900), but can be made from surface reflectances and used over land as well. <\/SPAN><\/SPAN><\/P>
Suggested Use:<\/SPAN><\/P>
Given that AVW is the apparent color of pixel, it can be used to track changes in land and water surfaces. The AVW value indicates average color reflected from a surface, e.g., healthy vegetation will have AVW in the NIR, water in the blues and greens, and turbid water in the reds. During flood days, the area around the Jacui River gets significantly redder (from previous NIR values), which can indicate turbid water supressing the typical vegetated signal in that area. Also, the Lagoa dos Patos gets significantly redder (from the greens), which indicates different conditions in the water (i.e., injection of sediment, which has average colors in the red). Images are typically displayed using the \"Spectral\" color map, with bounds from 400 - 700 (see attachment). For the percent change images, negative changes signify shorter average wavelengths (can be thought of as blue-shifting) and positive % changes are elongated average wavelengths (i.e., red-shifts). In other words, these shifting wavelengths tell us that some enviornmental change has caused the average color of a pixel to change.<\/SPAN><\/SPAN><\/P>
Satellite/Sensor/Resolution:<\/SPAN><\/P>
Satellite: PACE, sensor: OCI, temporal resolution: daily, spatial resolution: gridded to 0.015 degrees from a Level 2 product in instrument swath (varying pixel size, 1.2 km at nadir).<\/SPAN><\/SPAN><\/P>
Credits:<\/SPAN><\/P>
Credit: NASA PACE Team, POC: Skye Caplan, Link to data: https://search.earthdata.nasa.gov/search/granules?p=C3620139902-OB_CLOUD&pg[0][v]=f&pg[0][gsk]=-start_date&q=oci%20sfrefl <\/SPAN><\/SPAN><\/P><\/DIV><\/DIV><\/DIV>", "extent": { "xmin": -6133147.3453, "ymin": -3739269.9819220146, "xmax": -5486937.701245047, "ymax": -3209945.803199999, "spatialReference": { "wkid": 102100, "latestWkid": 3857 } }, "initialExtent": { "xmin": -6133147.3453, "ymin": -3739269.9819220146, "xmax": -5486937.701245047, "ymax": -3209945.803199999, "spatialReference": { "wkid": 102100, "latestWkid": 3857 } }, "fullExtent": { "xmin": -6133147.3453, "ymin": -3739269.9819220146, "xmax": -5486937.701245047, "ymax": -3209945.803199999, "spatialReference": { "wkid": 102100, "latestWkid": 3857 } }, "sortableFields": "MinPS,MaxPS,LowPS,HighPS,CenterX,CenterY,ZOrder,Shape_Length,Shape_Area", "bandCount": 1, "pixelType": "F64", "minValues": [ -522.1547771678776 ], "maxValues": [ 302.2615601469066 ], "meanValues": [ -0.7466990022667916 ], "stdvValues": [ 5.46621255679386 ], "serviceProperties": "NorthWest<\/MosaicMethod>First<\/MosaicOperator>true<\/SortAscending><\/LockImageID>Name<\/TileOrderField>0<\/TileOrderBase>600.000000<\/AvgImageSpacingX>300.000000<\/AvgImageSpacingY>0.0<\/ViewPointX>0.0<\/ViewPointY>0.0<\/ViewPointDefShiftX>0.0<\/ViewPointDefShiftY>None<\/CompressionMethod>75<\/CompressionQuality>0.010000<\/CompressionTolerance>Bilinear<\/SamplingMethod><\/ImageServiceProperties><\/ImageServer>", "allowedFields": "Name,MinPS,MaxPS,LowPS,HighPS,Tag,GroupName,ProductName,CenterX,CenterY,ZOrder,Shape_Length,Shape_Area,Date", "hasMultidimensions": false, "pixelSizeX": 1669.7923618991033, "pixelSizeY": 1669.7923618991028, "meanPixelSize": 1669.792361899103, "datasetFormat": "AMD", "uncompressedSize": 981432, "blockWidth": 2048, "blockHeight": 256, "compressionType": "None", "bandNames": [ "Band_1" ], "allowCopy": true, "allowAnalysis": true, "itemAccess": false, "inspectionCapabilities": "", "noDataValue": 0, "noDataValues": [ 0 ], "minPixelSize": 0, "maxPixelSize": 0, "copyrightText": "NASA PACE Team, POC: Skye Caplan.", "serviceDataType": "esriImageServiceDataTypeGeneric", "serviceSourceType": "esriImageServiceSourceTypeMosaicDataset", "objectIdField": "OBJECTID", "fields": [ { "name": "OBJECTID", "type": "esriFieldTypeOID", "alias": "OBJECTID", "domain": null }, { "name": "Shape", "type": "esriFieldTypeGeometry", "alias": "Shape", "domain": null }, { "name": "Name", "type": "esriFieldTypeString", "alias": "Name", "domain": null, "length": 200 }, { "name": "MinPS", "type": "esriFieldTypeDouble", "alias": "MinPS", "domain": null }, { "name": "MaxPS", "type": "esriFieldTypeDouble", "alias": "MaxPS", "domain": null }, { "name": "LowPS", "type": "esriFieldTypeDouble", "alias": "LowPS", "domain": null }, { "name": "HighPS", "type": "esriFieldTypeDouble", "alias": "HighPS", "domain": null }, { "name": "Category", "type": "esriFieldTypeInteger", "alias": "Category", "domain": { "type": "codedValue", "name": "MosaicCatalogItemCategoryDomain", "description": "Catalog item categories.", "codedValues": [ { "name": "Unknown", "code": 0 }, { "name": "Primary", "code": 1 }, { "name": "Overview", "code": 2 }, { "name": "Unprocessed Overview", "code": 3 }, { "name": "Partial Overview", "code": 4 }, { "name": "Inactive", "code": 5 }, { "name": "Uploaded", "code": 253 }, { "name": "Incomplete", "code": 254 }, { "name": "Custom", "code": 255 } ], "mergePolicy": "esriMPTDefaultValue", "splitPolicy": "esriSPTDefaultValue" } }, { "name": "Tag", "type": "esriFieldTypeString", "alias": "Tag", "domain": null, "length": 100 }, { "name": "GroupName", "type": "esriFieldTypeString", "alias": "GroupName", "domain": null, "length": 100 }, { "name": "ProductName", "type": "esriFieldTypeString", "alias": "ProductName", "domain": null, "length": 100 }, { "name": "CenterX", "type": "esriFieldTypeDouble", "alias": "CenterX", "domain": null }, { "name": "CenterY", "type": "esriFieldTypeDouble", "alias": "CenterY", "domain": null }, { "name": "ZOrder", "type": "esriFieldTypeInteger", "alias": "ZOrder", "domain": null }, { "name": "Date", "type": "esriFieldTypeDateOnly", "alias": "Date", "domain": null }, { "name": "Shape_Length", "type": "esriFieldTypeDouble", "alias": "Shape_Length", "domain": null }, { "name": "Shape_Area", "type": "esriFieldTypeDouble", "alias": "Shape_Area", "domain": null } ], "capabilities": "Image,Metadata,Catalog", "defaultMosaicMethod": "Northwest", "allowedMosaicMethods": "NorthWest,Center,LockRaster,ByAttribute,Nadir,Viewpoint,Seamline,None", "sortField": "", "sortValue": null, "sortAscending": true, "mosaicOperator": "First", "maxDownloadSizeLimit": 2048, "defaultCompressionQuality": 75, "defaultResamplingMethod": "Bilinear", "maxImageHeight": 4100, "maxImageWidth": 15000, "maxRecordCount": 1000, "maxDownloadImageCount": 20, "maxMosaicImageCount": 20, "allowRasterFunction": true, "rasterFunctionInfos": [ { "name": "pace_percchange_2", "description": "pace_percchange_2", "help": "" }, { "name": "pace_percchange", "description": "pace_percchange", "help": "" }, { "name": "None", "description": "Make a Raster or Raster Dataset into a Function Raster Dataset.", "help": "" } ], "rasterTypeInfos": [ { "name": "Raster Dataset", "description": "Supports all ArcGIS Raster Datasets", "help": "" } ], "mensurationCapabilities": "None", "hasHistograms": true, "hasColormap": false, "hasRasterAttributeTable": false, "minScale": 0, "maxScale": 0, "exportTilesAllowed": false, "supportsStatistics": true, "supportsAdvancedQueries": true, "editFieldsInfo": null, "ownershipBasedAccessControlForRasters": null, "allowComputeTiePoints": false, "useStandardizedQueries": true, "advancedQueryCapabilities": { "useStandardizedQueries": true, "supportsStatistics": true, "supportsOrderBy": true, "supportsDistinct": true, "supportsPagination": true }, "spatialReference": { "wkid": 102100, "latestWkid": 3857 } }