{ "currentVersion": 11.5, "serviceDescription": "

Dates of Images:<\/SPAN><\/P>
5/3/2022, 5/10/2022<\/SPAN><\/P>
Summary:<\/SPAN><\/P>
MODIS Global Flood Product, MCDWD, showing flooding observed on 5/3 and 5/10/2022 along the Red river in North Dakota and Manitoba. Product is based on optical imagery from the MODIS sensor, on both Terra and Aqua spacecraft. Observation times are approximately 10:30 am and 1:30 pm local time; flood extents at other times may not be observed. The 2-day composite product is delivered here; this uses observations from the given date and one day previous (eg 5/2 and 5/3 for the 5/3 product). For this event, 5/3 product was the first available after the clouds cleared, and the 2-day product shows reasonable flood coverage. The 1-day product shows more coverage, but also more false-positives; it may be of interest to some users. One week later, much of the flooding persisted (5/10). <\/SPAN><\/P>
<\/P>
Caveats: Flooding is determined by comparing observed water extent to a reference water map, which may be inaccurate in fine details; some \"flood\" may be expected surface water, and some \"surface water\" may actually be flood, but both indicate areas where water was detected.<\/SPAN><\/P>
<\/P>
The 2-day product has many fewer cloud-shadow false-positives than 1-day products, but these may still occur. Users are advised to review the source optical imagery (Terra and Aqua) in Worldview to confirm (https://go.nasa.gov/globalflood). Worldview also hosts the 2- and 3-day composite products, and allows rapid examination of all daily products.<\/SPAN><\/P>
<\/P>
At 250 m resolution, this product will not reliably capture flood extents smaller than 250 m. <\/SPAN><\/P>
<\/P>
As this is optical imagery, flooding under clouds will not be detected.<\/SPAN><\/SPAN><\/P>
Suggested Use:<\/SPAN><\/P>
Red in the displayed image indicates flood; blue indicates expected surface water. <\/SPAN><\/SPAN><\/P>
Satellite/Sensor/Resolution:<\/SPAN><\/P>
Terra and Aqua satellites, MODIS sensor, daily 250m resolution data (10:30 am observation for Terra, 1:30 pm for Aqua)<\/SPAN><\/SPAN><\/P>
Credits:<\/SPAN><\/P>
NRT MODIS/Aqua+Terra Global Flood Product MCDWD_L3_NRT distributed from NASA LANCE. Available online [https://www.earthdata.nasa.gov/global-flood-product]. doi:10.5067/MODIS/MCDWD_L3_NRT.061 Project website includes FAQs and contacts for support: https://www.earthdata.nasa.gov/global-flood-product<\/SPAN><\/P><\/DIV><\/DIV><\/DIV>", "serviceItemId": "c109fc6107d54cae85b81392793a2cef", "name": "DISASTERS_EX2603_202205_FLOOD_MN/ex2603_modis_mcdwd", "description": "

Dates of Images:<\/SPAN><\/P>
5/3/2022, 5/10/2022<\/SPAN><\/P>
Summary:<\/SPAN><\/P>
MODIS Global Flood Product, MCDWD, showing flooding observed on 5/3 and 5/10/2022 along the Red river in North Dakota and Manitoba. Product is based on optical imagery from the MODIS sensor, on both Terra and Aqua spacecraft. Observation times are approximately 10:30 am and 1:30 pm local time; flood extents at other times may not be observed. The 2-day composite product is delivered here; this uses observations from the given date and one day previous (eg 5/2 and 5/3 for the 5/3 product). For this event, 5/3 product was the first available after the clouds cleared, and the 2-day product shows reasonable flood coverage. The 1-day product shows more coverage, but also more false-positives; it may be of interest to some users. One week later, much of the flooding persisted (5/10). <\/SPAN><\/P>
<\/P>
Caveats: Flooding is determined by comparing observed water extent to a reference water map, which may be inaccurate in fine details; some \"flood\" may be expected surface water, and some \"surface water\" may actually be flood, but both indicate areas where water was detected.<\/SPAN><\/P>
<\/P>
The 2-day product has many fewer cloud-shadow false-positives than 1-day products, but these may still occur. Users are advised to review the source optical imagery (Terra and Aqua) in Worldview to confirm (https://go.nasa.gov/globalflood). Worldview also hosts the 2- and 3-day composite products, and allows rapid examination of all daily products.<\/SPAN><\/P>
<\/P>
At 250 m resolution, this product will not reliably capture flood extents smaller than 250 m. <\/SPAN><\/P>
<\/P>
As this is optical imagery, flooding under clouds will not be detected.<\/SPAN><\/SPAN><\/P>
Suggested Use:<\/SPAN><\/P>
Red in the displayed image indicates flood; blue indicates expected surface water. <\/SPAN><\/SPAN><\/P>
Satellite/Sensor/Resolution:<\/SPAN><\/P>
Terra and Aqua satellites, MODIS sensor, daily 250m resolution data (10:30 am observation for Terra, 1:30 pm for Aqua)<\/SPAN><\/SPAN><\/P>
Credits:<\/SPAN><\/P>
NRT MODIS/Aqua+Terra Global Flood Product MCDWD_L3_NRT distributed from NASA LANCE. Available online [https://www.earthdata.nasa.gov/global-flood-product]. doi:10.5067/MODIS/MCDWD_L3_NRT.061 Project website includes FAQs and contacts for support: https://www.earthdata.nasa.gov/global-flood-product<\/SPAN><\/P><\/DIV><\/DIV><\/DIV>", "extent": { "xmin": -1.11319490793E7, "ymin": 4865770.987341333, "xmax": -1.0018754171367263E7, "ymax": 6446275.840999998, "spatialReference": { "wkid": 102100, "latestWkid": 3857 } }, "initialExtent": { "xmin": -1.11319490793E7, "ymin": 4865770.987341333, "xmax": -1.0018754171367263E7, "ymax": 6446275.840999998, "spatialReference": { "wkid": 102100, "latestWkid": 3857 } }, "fullExtent": { "xmin": -1.11319490793E7, "ymin": 4865770.987341333, "xmax": -1.0018754171367263E7, "ymax": 6446275.840999998, "spatialReference": { "wkid": 102100, "latestWkid": 3857 } }, "sortableFields": "MinPS,MaxPS,LowPS,HighPS,CenterX,CenterY,ZOrder,Shape_Length,Shape_Area", "bandCount": 1, "pixelType": "U8", "minValues": [ 0 ], "maxValues": [ 34 ], "meanValues": [ 0.6308624328786204 ], "stdvValues": [ 2.296384804652053 ], "serviceProperties": "NorthWest<\/MosaicMethod>First<\/MosaicOperator>true<\/SortAscending><\/LockImageID>Name<\/TileOrderField>0<\/TileOrderBase>600.000000<\/AvgImageSpacingX>300.000000<\/AvgImageSpacingY>0.0<\/ViewPointX>0.0<\/ViewPointY>0.0<\/ViewPointDefShiftX>0.0<\/ViewPointDefShiftY>None<\/CompressionMethod>75<\/CompressionQuality>0.010000<\/CompressionTolerance>Bilinear<\/SamplingMethod><\/ImageServiceProperties><\/ImageServer>", "allowedFields": "Name,MinPS,MaxPS,LowPS,HighPS,Tag,GroupName,ProductName,CenterX,CenterY,ZOrder,Shape_Length,Shape_Area,Date", "hasMultidimensions": false, "pixelSizeX": 231.91560581932, "pixelSizeY": 231.91560581931986, "meanPixelSize": 231.91560581931992, "datasetFormat": "AMD", "uncompressedSize": 32712000, "blockWidth": 2048, "blockHeight": 256, "compressionType": "None", "bandNames": [ "Band_1" ], "allowCopy": true, "allowAnalysis": true, "itemAccess": false, "inspectionCapabilities": "", "minPixelSize": 0, "maxPixelSize": 0, "copyrightText": "National Aeronautics and Space Administration (NASA), Goddard Space Flight Center's (GSFC) Hydrological Sciences Laboratory", "serviceDataType": "esriImageServiceDataTypeGeneric", "serviceSourceType": "esriImageServiceSourceTypeMosaicDataset", "objectIdField": "OBJECTID", "fields": [ { "name": "OBJECTID", "type": "esriFieldTypeOID", "alias": "OBJECTID", "domain": null }, { "name": "Shape", "type": "esriFieldTypeGeometry", "alias": "Shape", "domain": null }, { "name": "Name", "type": "esriFieldTypeString", "alias": "Name", "domain": null, "length": 200 }, { "name": "MinPS", "type": "esriFieldTypeDouble", "alias": "MinPS", "domain": null }, { "name": "MaxPS", "type": "esriFieldTypeDouble", "alias": "MaxPS", "domain": null }, { "name": "LowPS", "type": "esriFieldTypeDouble", "alias": "LowPS", "domain": null }, { "name": "HighPS", "type": "esriFieldTypeDouble", "alias": "HighPS", "domain": null }, { "name": "Category", "type": "esriFieldTypeInteger", "alias": "Category", "domain": { "type": "codedValue", "name": "MosaicCatalogItemCategoryDomain", "description": "Catalog item categories.", "codedValues": [ { "name": "Unknown", "code": 0 }, { "name": "Primary", "code": 1 }, { "name": "Overview", "code": 2 }, { "name": "Unprocessed Overview", "code": 3 }, { "name": "Partial Overview", "code": 4 }, { "name": "Inactive", "code": 5 }, { "name": "Uploaded", "code": 253 }, { "name": "Incomplete", "code": 254 }, { "name": "Custom", "code": 255 } ], "mergePolicy": "esriMPTDefaultValue", "splitPolicy": "esriSPTDefaultValue" } }, { "name": "Tag", "type": "esriFieldTypeString", "alias": "Tag", "domain": null, "length": 100 }, { "name": "GroupName", "type": "esriFieldTypeString", "alias": "GroupName", "domain": null, "length": 100 }, { "name": "ProductName", "type": "esriFieldTypeString", "alias": "ProductName", "domain": null, "length": 100 }, { "name": "CenterX", "type": "esriFieldTypeDouble", "alias": "CenterX", "domain": null }, { "name": "CenterY", "type": "esriFieldTypeDouble", "alias": "CenterY", "domain": null }, { "name": "ZOrder", "type": "esriFieldTypeInteger", "alias": "ZOrder", "domain": null }, { "name": "Date", "type": "esriFieldTypeDateOnly", "alias": "Date", "domain": null }, { "name": "Shape_Length", "type": "esriFieldTypeDouble", "alias": "Shape_Length", "domain": null }, { "name": "Shape_Area", "type": "esriFieldTypeDouble", "alias": "Shape_Area", "domain": null } ], "capabilities": "Image,Metadata,Catalog", "defaultMosaicMethod": "Northwest", "allowedMosaicMethods": "NorthWest,Center,LockRaster,ByAttribute,Nadir,Viewpoint,Seamline,None", "sortField": "", "sortValue": null, "sortAscending": true, "mosaicOperator": "First", "maxDownloadSizeLimit": 2048, "defaultCompressionQuality": 75, "defaultResamplingMethod": "Bilinear", "maxImageHeight": 4100, "maxImageWidth": 15000, "maxRecordCount": 1000, "maxDownloadImageCount": 20, "maxMosaicImageCount": 20, "allowRasterFunction": true, "rasterFunctionInfos": [ { "name": "RFT-MCDWD Flood", "description": "RFT to display MCDWD Flood imagery, with No Water class set to transparent. ", "help": "" }, { "name": "None", "description": "Make a Raster or Raster Dataset into a Function Raster Dataset.", "help": "" } ], "rasterTypeInfos": [ { "name": "Raster Dataset", "description": "Supports all ArcGIS Raster Datasets", "help": "" } ], "mensurationCapabilities": "None", "hasHistograms": true, "hasColormap": false, "hasRasterAttributeTable": false, "minScale": 0, "maxScale": 0, "exportTilesAllowed": false, "supportsStatistics": true, "supportsAdvancedQueries": true, "editFieldsInfo": null, "ownershipBasedAccessControlForRasters": null, "allowComputeTiePoints": false, "useStandardizedQueries": true, "advancedQueryCapabilities": { "useStandardizedQueries": true, "supportsStatistics": true, "supportsOrderBy": true, "supportsDistinct": true, "supportsPagination": true }, "spatialReference": { "wkid": 102100, "latestWkid": 3857 } }