{ "currentVersion": 11.5, "serviceDescription": "

Dates of Images:<\/SPAN><\/P>
May 5, 2022<\/SPAN><\/P>
Date of Next Image:<\/SPAN><\/P>
None<\/SPAN><\/P>
Summary:<\/SPAN><\/P>
The True Color RGB composite provides a product of how the surface would look to the naked eye from space. The RGB is created using the red, green, and blue channels of the respective instrument.<\/SPAN><\/P>
The Short Wave Infrared (SWIR) RGB is a product that is created using the SWIR, NIR, and Red channels of the respective instrument.<\/SPAN><\/P>
The Color Infrared composite is created using the near-infrared, red, and green channels. The near-infrared gives the ability to see through thin clouds. Healthy vegetation is shown as red, water is in blue.<\/SPAN><\/P>
Suggested Use:<\/SPAN><\/P>
The True Color RGB provides a product of how the surface would look to the naked eye from space. The True Color RGB is produced using the 3 visible wavelength bands (red, green, and blue) from the respective sensor. Some minor atmospheric corrections have occurred.<\/SPAN><\/P>
The Short Wave Infrared (SWIR) RGB is a product that can provides value in flood detection. Areas of water will appear blue, healthy green vegetation will appear as a bright green, urban areas in various shades of magenta, snow will appear as a bright blue/cyan, and bare soils being multicolor dependent on their makeup. Compare pre-event imagery to post-event imagery to identify potential flooding.<\/SPAN><\/P>
A Color Infrared composite depicts healthy vegetation as red, water as blue. Some minor atmospheric corrections have occurred.<\/SPAN><\/P>
Satellite/Sensor:<\/SPAN><\/P>
MultiSpectral Instrument (MSI) on European Space Agency's (ESA) Copernicus Sentinel-2A/2B satellites<\/SPAN><\/P>
Resolution:<\/SPAN><\/P>
True Color: 10 meters<\/SPAN><\/P>
Credits:<\/SPAN><\/P>
NASA/MSFC, USGS, ESA Copernicus<\/SPAN><\/P>
Esri REST Endpoint:<\/SPAN><\/P>
See URL section on right side of page<\/SPAN><\/P>
WMS Endpoint:<\/SPAN><\/P>
https://gis.earthdata.nasa.gov/gis05/services/DISASTERS_EX2601_201809_HURRICANE_FLORENCE/ex2601_sentinel2/ImageServer/WMSServer<\/SPAN><\/P><\/DIV><\/DIV><\/DIV>", "serviceItemId": "fcb74706109041769da7613504678eea", "name": "DISASTERS_EX2603_202205_FLOOD_MN/ex2603_sentinel2", "description": "

Dates of Images:<\/span><\/p>
May 5, 2022<\/span><\/p>
Date of Next Image:<\/span><\/p>
None<\/span><\/p>
Summary:<\/span><\/p>
The True Color RGB composite provides a product of how the surface would look to the naked eye from space. The RGB is created using the red, green, and blue channels of the respective instrument.<\/span><\/p>
The Short Wave Infrared (SWIR) RGB is a product that is created using the SWIR, NIR, and Red channels of the respective instrument.<\/span><\/p>
The Color Infrared composite is created using the near-infrared, red, and green channels. The near-infrared gives the ability to see through thin clouds. Healthy vegetation is shown as red, water is in blue.<\/span><\/p>
Suggested Use:<\/span><\/p>
The True Color RGB provides a product of how the surface would look to the naked eye from space. The True Color RGB is produced using the 3 visible wavelength bands (red, green, and blue) from the respective sensor. Some minor atmospheric corrections have occurred.<\/span><\/p>
The Short Wave Infrared (SWIR) RGB is a product that can provides value in flood detection. Areas of water will appear blue, healthy green vegetation will appear as a bright green, urban areas in various shades of magenta, snow will appear as a bright blue/cyan, and bare soils being multicolor dependent on their makeup. Compare pre-event imagery to post-event imagery to identify potential flooding.<\/span><\/p>
A Color Infrared composite depicts healthy vegetation as red, water as blue. Some minor atmospheric corrections have occurred.<\/span><\/p>
Satellite/Sensor:<\/span><\/p>
MultiSpectral Instrument (MSI) on European Space Agency's (ESA) Copernicus Sentinel-2A/2B satellites<\/span><\/p>
Resolution:<\/span><\/p>
True Color: 10 meters<\/span><\/p>
Credits:<\/span><\/p>
NASA/MSFC, USGS, ESA Copernicus<\/span><\/p>
Esri REST Endpoint:<\/span><\/p>
See URL section on right side of page<\/span><\/p>
WMS Endpoint:<\/span><\/p>
https://gis.earthdata.nasa.gov/gis05/services/DISASTERS_EX2601_201809_HURRICANE_FLORENCE/ex2601_sentinel2/ImageServer/WMSServer<\/span><\/p><\/div><\/div><\/div>", "extent": { "xmin": -1.08769735591E7, "ymin": 5769700.897909754, "xmax": -1.0697290037222926E7, "ymax": 6384924.737599999, "spatialReference": { "wkid": 102100, "latestWkid": 3857 } }, "initialExtent": { "xmin": -1.08769735591E7, "ymin": 5769700.897909754, "xmax": -1.0697290037222926E7, "ymax": 6384924.737599999, "spatialReference": { "wkid": 102100, "latestWkid": 3857 } }, "fullExtent": { "xmin": -1.08769735591E7, "ymin": 5769700.897909754, "xmax": -1.0697290037222926E7, "ymax": 6384924.737599999, "spatialReference": { "wkid": 102100, "latestWkid": 3857 } }, "sortableFields": "MinPS,MaxPS,LowPS,HighPS,CenterX,CenterY,ZOrder,Shape_Length,Shape_Area", "bandCount": 4, "pixelType": "U8", "minValues": [ 32, 33, 27, 255 ], "maxValues": [ 255, 255, 255, 255 ], "meanValues": [ 125.7828068403259, 107.77625755734546, 82.3536279427184, 255 ], "stdvValues": [ 40.65325603726406, 30.32751458833253, 21.140146126700547, 0 ], "serviceProperties": "NorthWest<\/MosaicMethod>First<\/MosaicOperator>true<\/SortAscending><\/LockImageID>Name<\/TileOrderField>0<\/TileOrderBase>600.000000<\/AvgImageSpacingX>300.000000<\/AvgImageSpacingY>0.0<\/ViewPointX>0.0<\/ViewPointY>0.0<\/ViewPointDefShiftX>0.0<\/ViewPointDefShiftY>None<\/CompressionMethod>75<\/CompressionQuality>0.010000<\/CompressionTolerance>Bilinear<\/SamplingMethod><\/ImageServiceProperties><\/ImageServer>", "allowedFields": "Name,MinPS,MaxPS,LowPS,HighPS,Tag,GroupName,ProductName,CenterX,CenterY,ZOrder,Shape_Length,Shape_Area,Date", "hasMultidimensions": false, "pixelSizeX": 12.341748875408655, "pixelSizeY": 12.34174887540863, "meanPixelSize": 12.341748875408642, "datasetFormat": "AMD", "uncompressedSize": 2903006364, "blockWidth": 2048, "blockHeight": 256, "compressionType": "None", "bandNames": [ "Band_1", "Band_2", "Band_3", "Band_4" ], "allowCopy": true, "allowAnalysis": true, "itemAccess": false, "inspectionCapabilities": "", "minPixelSize": 0, "maxPixelSize": 0, "copyrightText": "NASA/MSFC, USGS, ESA Copernicus", "serviceDataType": "esriImageServiceDataTypeGeneric", "serviceSourceType": "esriImageServiceSourceTypeMosaicDataset", "objectIdField": "OBJECTID", "fields": [ { "name": "OBJECTID", "type": "esriFieldTypeOID", "alias": "OBJECTID", "domain": null }, { "name": "Shape", "type": "esriFieldTypeGeometry", "alias": "Shape", "domain": null }, { "name": "Name", "type": "esriFieldTypeString", "alias": "Name", "domain": null, "length": 200 }, { "name": "MinPS", "type": "esriFieldTypeDouble", "alias": "MinPS", "domain": null }, { "name": "MaxPS", "type": "esriFieldTypeDouble", "alias": "MaxPS", "domain": null }, { "name": "LowPS", "type": "esriFieldTypeDouble", "alias": "LowPS", "domain": null }, { "name": "HighPS", "type": "esriFieldTypeDouble", "alias": "HighPS", "domain": null }, { "name": "Category", "type": "esriFieldTypeInteger", "alias": "Category", "domain": { "type": "codedValue", "name": "MosaicCatalogItemCategoryDomain", "description": "Catalog item categories.", "codedValues": [ { "name": "Unknown", "code": 0 }, { "name": "Primary", "code": 1 }, { "name": "Overview", "code": 2 }, { "name": "Unprocessed Overview", "code": 3 }, { "name": "Partial Overview", "code": 4 }, { "name": "Inactive", "code": 5 }, { "name": "Uploaded", "code": 253 }, { "name": "Incomplete", "code": 254 }, { "name": "Custom", "code": 255 } ], "mergePolicy": "esriMPTDefaultValue", "splitPolicy": "esriSPTDefaultValue" } }, { "name": "Tag", "type": "esriFieldTypeString", "alias": "Tag", "domain": null, "length": 100 }, { "name": "GroupName", "type": "esriFieldTypeString", "alias": "GroupName", "domain": null, "length": 100 }, { "name": "ProductName", "type": "esriFieldTypeString", "alias": "ProductName", "domain": null, "length": 100 }, { "name": "CenterX", "type": "esriFieldTypeDouble", "alias": "CenterX", "domain": null }, { "name": "CenterY", "type": "esriFieldTypeDouble", "alias": "CenterY", "domain": null }, { "name": "ZOrder", "type": "esriFieldTypeInteger", "alias": "ZOrder", "domain": null }, { "name": "Date", "type": "esriFieldTypeDateOnly", "alias": "Date", "domain": null }, { "name": "Shape_Length", "type": "esriFieldTypeDouble", "alias": "Shape_Length", "domain": null }, { "name": "Shape_Area", "type": "esriFieldTypeDouble", "alias": "Shape_Area", "domain": null } ], "capabilities": "Image,Metadata,Mensuration,Catalog", "defaultMosaicMethod": "Northwest", "allowedMosaicMethods": "NorthWest,Center,LockRaster,ByAttribute,Nadir,Viewpoint,Seamline,None", "sortField": "", "sortValue": null, "sortAscending": true, "mosaicOperator": "First", "maxDownloadSizeLimit": 2048, "defaultCompressionQuality": 75, "defaultResamplingMethod": "Bilinear", "maxImageHeight": 4100, "maxImageWidth": 15000, "maxRecordCount": 1000, "maxDownloadImageCount": 20, "maxMosaicImageCount": 20, "allowRasterFunction": true, "rasterFunctionInfos": [ { "name": "None", "description": "", "help": "" } ], "rasterTypeInfos": [ { "name": "Raster Dataset", "description": "Supports all ArcGIS Raster Datasets", "help": "" } ], "mensurationCapabilities": "", "hasHistograms": true, "hasColormap": false, "hasRasterAttributeTable": false, "minScale": 0, "maxScale": 0, "exportTilesAllowed": false, "supportsStatistics": true, "supportsAdvancedQueries": true, "editFieldsInfo": null, "ownershipBasedAccessControlForRasters": null, "allowComputeTiePoints": false, "useStandardizedQueries": true, "advancedQueryCapabilities": { "useStandardizedQueries": true, "supportsStatistics": true, "supportsOrderBy": true, "supportsDistinct": true, "supportsPagination": true }, "spatialReference": { "wkid": 102100, "latestWkid": 3857 } }