Dates of Images:<\/SPAN><\/P>04/24/24, 04/26/24, 04/28/24, 05/01/24, 05/06/24, 05/08/24, 05/09/24, 05/14/24, 05/19/24 (GMT)<\/SPAN><\/SPAN><\/P>Summary:<\/SPAN><\/P>GeoTiff files with water depth above baselevel for dates noted above. Coverage varies by date and gaps exist due to clouds, sensor issues, etc.; pixels with no depth value are not necessarily water-free. Details on product generation workflow are included in the attached powerpoint slides.<\/SPAN><\/SPAN><\/P>Suggested Use:<\/SPAN><\/P>Image values are water depths in meters above the pre-event water surface level. High values indicate deep water while low values indicate shallow water<\/SPAN><\/SPAN><\/P>Satellite/Sensor/Resoolution:<\/SPAN><\/P>Data used to generate the product (OPERA L3 DSWx HLS v1 water mask and ALOS World 3D 30m DEM) were collected at 30 m spatial resolution. The product has a spatial resolution of 30 m and a temporal resolution of 1-5 days.<\/SPAN><\/P>Credits:<\/SPAN><\/P>NASA-JPL/Caltech ARIA/OPERA team, Copernicus Sentinel Data, Landsat, processing by Karin Lehnigk (karin.e.lehnigk@nasa.gov)<\/SPAN><\/P><\/DIV><\/DIV><\/DIV>",
"serviceItemId": "a7b2c8fffa674570aff63e3b3f9ccc3f",
"name": "opera_flooddepth",
"description": "Dates of Images:<\/SPAN><\/P>04/24/24, 04/26/24, 04/28/24, 05/01/24, 05/06/24, 05/08/24, 05/09/24, 05/14/24, 05/19/24 (GMT)<\/SPAN><\/SPAN><\/P>Summary:<\/SPAN><\/P>GeoTiff files with water depth above baselevel for dates noted above. Coverage varies by date and gaps exist due to clouds, sensor issues, etc.; pixels with no depth value are not necessarily water-free. Details on product generation workflow are included in the attached powerpoint slides.<\/SPAN><\/SPAN><\/P>Suggested Use:<\/SPAN><\/P>Image values are water depths in meters above the pre-event water surface level. High values indicate deep water while low values indicate shallow water<\/SPAN><\/SPAN><\/P>Satellite/Sensor/Resoolution:<\/SPAN><\/P>Data used to generate the product (OPERA L3 DSWx HLS v1 water mask and ALOS World 3D 30m DEM) were collected at 30 m spatial resolution. The product has a spatial resolution of 30 m and a temporal resolution of 1-5 days.<\/SPAN><\/P>Credits:<\/SPAN><\/P>NASA-JPL/Caltech ARIA/OPERA team, Copernicus Sentinel Data, Landsat, processing by Karin Lehnigk (karin.e.lehnigk@nasa.gov)<\/SPAN><\/P><\/DIV><\/DIV><\/DIV>",
"extent": {
"xmin": -6073851.3561,
"ymin": -3624589.4559030347,
"xmax": -5560080.98400828,
"ymax": -3325572.934799999,
"spatialReference": {
"wkid": 102100,
"latestWkid": 3857
}
},
"initialExtent": {
"xmin": -6073851.3561,
"ymin": -3624589.4559030347,
"xmax": -5560080.98400828,
"ymax": -3325572.934799999,
"spatialReference": {
"wkid": 102100,
"latestWkid": 3857
}
},
"fullExtent": {
"xmin": -6073851.3561,
"ymin": -3624589.4559030347,
"xmax": -5560080.98400828,
"ymax": -3325572.934799999,
"spatialReference": {
"wkid": 102100,
"latestWkid": 3857
}
},
"sortableFields": "MinPS,MaxPS,LowPS,HighPS,CenterX,CenterY,ZOrder,Shape_Length,Shape_Area",
"bandCount": 1,
"pixelType": "F32",
"minValues": [
-127.26941680908203
],
"maxValues": [
90.46224212646484
],
"meanValues": [
0.5455902972061208
],
"stdvValues": [
4.307310257465719
],
"serviceProperties": "NorthWest<\/MosaicMethod>First<\/MosaicOperator>true<\/SortAscending><\/LockImageID>Name<\/TileOrderField>0<\/TileOrderBase>600.000000<\/AvgImageSpacingX>300.000000<\/AvgImageSpacingY>0.0<\/ViewPointX>0.0<\/ViewPointY>0.0<\/ViewPointDefShiftX>0.0<\/ViewPointDefShiftY>None<\/CompressionMethod>75<\/CompressionQuality>0.010000<\/CompressionTolerance>Bilinear<\/SamplingMethod><\/ImageServiceProperties><\/ImageServer>",
"allowedFields": "Name,MinPS,MaxPS,LowPS,HighPS,Tag,GroupName,ProductName,CenterX,CenterY,ZOrder,Shape_Length,Shape_Area,Date",
"hasMultidimensions": false,
"pixelSizeX": 30.922080775908565,
"pixelSizeY": 30.922080775908547,
"meanPixelSize": 30.922080775908555,
"datasetFormat": "AMD",
"uncompressedSize": 642668200,
"blockWidth": 2048,
"blockHeight": 256,
"compressionType": "None",
"bandNames": [
"Band_1"
],
"allowCopy": true,
"allowAnalysis": true,
"itemAccess": false,
"inspectionCapabilities": "",
"minPixelSize": 0,
"maxPixelSize": 0,
"copyrightText": "NASA-JPL/Caltech ARIA/OPERA team, Copernicus Sentinel Data, Landsat, processing by Karin Lehnigk (karin.e.lehnigk@nasa.gov)",
"serviceDataType": "esriImageServiceDataTypeGeneric",
"serviceSourceType": "esriImageServiceSourceTypeMosaicDataset",
"objectIdField": "OBJECTID",
"fields": [
{
"name": "OBJECTID",
"type": "esriFieldTypeOID",
"alias": "OBJECTID",
"domain": null
},
{
"name": "Shape",
"type": "esriFieldTypeGeometry",
"alias": "Shape",
"domain": null
},
{
"name": "Name",
"type": "esriFieldTypeString",
"alias": "Name",
"domain": null,
"length": 200
},
{
"name": "MinPS",
"type": "esriFieldTypeDouble",
"alias": "MinPS",
"domain": null
},
{
"name": "MaxPS",
"type": "esriFieldTypeDouble",
"alias": "MaxPS",
"domain": null
},
{
"name": "LowPS",
"type": "esriFieldTypeDouble",
"alias": "LowPS",
"domain": null
},
{
"name": "HighPS",
"type": "esriFieldTypeDouble",
"alias": "HighPS",
"domain": null
},
{
"name": "Category",
"type": "esriFieldTypeInteger",
"alias": "Category",
"domain": {
"type": "codedValue",
"name": "MosaicCatalogItemCategoryDomain",
"description": "Catalog item categories.",
"codedValues": [
{
"name": "Unknown",
"code": 0
},
{
"name": "Primary",
"code": 1
},
{
"name": "Overview",
"code": 2
},
{
"name": "Unprocessed Overview",
"code": 3
},
{
"name": "Partial Overview",
"code": 4
},
{
"name": "Inactive",
"code": 5
},
{
"name": "Uploaded",
"code": 253
},
{
"name": "Incomplete",
"code": 254
},
{
"name": "Custom",
"code": 255
}
],
"mergePolicy": "esriMPTDefaultValue",
"splitPolicy": "esriSPTDefaultValue"
}
},
{
"name": "Tag",
"type": "esriFieldTypeString",
"alias": "Tag",
"domain": null,
"length": 100
},
{
"name": "GroupName",
"type": "esriFieldTypeString",
"alias": "GroupName",
"domain": null,
"length": 100
},
{
"name": "ProductName",
"type": "esriFieldTypeString",
"alias": "ProductName",
"domain": null,
"length": 100
},
{
"name": "CenterX",
"type": "esriFieldTypeDouble",
"alias": "CenterX",
"domain": null
},
{
"name": "CenterY",
"type": "esriFieldTypeDouble",
"alias": "CenterY",
"domain": null
},
{
"name": "ZOrder",
"type": "esriFieldTypeInteger",
"alias": "ZOrder",
"domain": null
},
{
"name": "Date",
"type": "esriFieldTypeDateOnly",
"alias": "Date",
"domain": null
},
{
"name": "Shape_Length",
"type": "esriFieldTypeDouble",
"alias": "Shape_Length",
"domain": null
},
{
"name": "Shape_Area",
"type": "esriFieldTypeDouble",
"alias": "Shape_Area",
"domain": null
}
],
"capabilities": "Image,Metadata,Catalog",
"defaultMosaicMethod": "Northwest",
"allowedMosaicMethods": "NorthWest,Center,LockRaster,ByAttribute,Nadir,Viewpoint,Seamline,None",
"sortField": "",
"sortValue": null,
"sortAscending": true,
"mosaicOperator": "First",
"maxDownloadSizeLimit": 2048,
"defaultCompressionQuality": 75,
"defaultResamplingMethod": "Bilinear",
"maxImageHeight": 4100,
"maxImageWidth": 15000,
"maxRecordCount": 1000,
"maxDownloadImageCount": 20,
"maxMosaicImageCount": 20,
"allowRasterFunction": true,
"rasterFunctionInfos": [
{
"name": "opera_flooddepth",
"description": "opera_flooddepth",
"help": ""
},
{
"name": "None",
"description": "Make a Raster or Raster Dataset into a Function Raster Dataset.",
"help": ""
}
],
"rasterTypeInfos": [
{
"name": "Raster Dataset",
"description": "Supports all ArcGIS Raster Datasets",
"help": ""
}
],
"mensurationCapabilities": "None",
"hasHistograms": true,
"hasColormap": false,
"hasRasterAttributeTable": false,
"minScale": 0,
"maxScale": 0,
"exportTilesAllowed": false,
"supportsStatistics": true,
"supportsAdvancedQueries": true,
"editFieldsInfo": null,
"ownershipBasedAccessControlForRasters": null,
"allowComputeTiePoints": false,
"useStandardizedQueries": true,
"advancedQueryCapabilities": {
"useStandardizedQueries": true,
"supportsStatistics": true,
"supportsOrderBy": true,
"supportsDistinct": true,
"supportsPagination": true
},
"spatialReference": {
"wkid": 102100,
"latestWkid": 3857
}
}