{
 "currentVersion": 11.5,
 "serviceDescription": "OPERA Level-3 Dynamic Surface Water Extent (DSWx) product from Harmonized Landsat-8/9 and Sentinel-2A/B/C (HLS), processed and developed by OPERA (JPL/USGS). Values for B01 WTR are a masked interpreted water classification layer. This represents pixel-wise classification into one of three water classes (not water, open water, and partial surface water), HLS snow/ice, HLS cloud/cloud shadow and adjacent to cloud/cloud shadow, or no data classes.\n\nThis dataset contains Level-3 Dynamic OPERA surface water extent product version 1. The data are validated surface water extent observations beginning April 2023. Known issues and caveats on usage are described in the Product Documentation. The input dataset for generating each product is the Harmonized Landsat-8 and Sentinel-2A/B/C (HLS) product version 2.0. HLS products provide surface reflectance (SR) data from the Operational Land Imager (OLI) aboard the Landsat 8 satellite and the MultiSpectral Instrument (MSI) aboard the Sentinel-2A/B/C satellite. The surface water extent products are distributed over projected map coordinates using the Universal Transverse Mercator (UTM) projection. Each UTM tile covers an area of 109.8 km × 109.8 km. This area is divided into 3,660 rows and 3,660 columns at 30-m pixel spacing. This EGIS service offers access to the water classification data layer.\n\nMore information about the dataset is available at https://www.earthdata.nasa.gov/data/catalog/pocloud-opera-l3-dswx-hls-v1-1.0\n\nOPERA was informed by the Satellite Needs Working Group (SNWG), an interagency effort of the U.S. Government dedicated to identifying and addressing Earth observation needs across U.S. civilian federal agencies.\n\nFor questions about this service, please contact podaac@podaac.jpl.nasa.gov\n",
 "serviceItemId": "59caecb96b5b42dd85aa3001a10f7786",
 "name": "C2617126679-POCLOUD/OPERA_L3_DSWX-HLS_V1_B01_WTR",
 "description": "OPERA Level-3 Dynamic Surface Water Extent (DSWx) product from Harmonized Landsat-8/9 and Sentinel-2A/B/C (HLS), processed and developed by OPERA (JPL/USGS). Values for B01 WTR are a masked interpreted water classification layer. This represents pixel-wise classification into one of three water classes (not water, open water, and partial surface water), HLS snow/ice, HLS cloud/cloud shadow and adjacent to cloud/cloud shadow, or no data classes.\n\nThis dataset contains Level-3 Dynamic OPERA surface water extent product version 1. The data are validated surface water extent observations beginning April 2023. Known issues and caveats on usage are described in the Product Documentation. The input dataset for generating each product is the Harmonized Landsat-8 and Sentinel-2A/B/C (HLS) product version 2.0. HLS products provide surface reflectance (SR) data from the Operational Land Imager (OLI) aboard the Landsat 8 satellite and the MultiSpectral Instrument (MSI) aboard the Sentinel-2A/B/C satellite. The surface water extent products are distributed over projected map coordinates using the Universal Transverse Mercator (UTM) projection. Each UTM tile covers an area of 109.8 km × 109.8 km. This area is divided into 3,660 rows and 3,660 columns at 30-m pixel spacing. This EGIS service offers access to the water classification data layer.\n\nMore information about the dataset is available at https://www.earthdata.nasa.gov/data/catalog/pocloud-opera-l3-dswx-hls-v1-1.0\n\nOPERA was informed by the Satellite Needs Working Group (SNWG), an interagency effort of the U.S. Government dedicated to identifying and addressing Earth observation needs across U.S. civilian federal agencies.\n\nFor questions about this service, please contact podaac@podaac.jpl.nasa.gov\n",
 "extent": {
  "xmin": -2.00375070672E7,
  "ymin": -1.09076623803E7,
  "xmax": 2.0037507842788246E7,
  "ymax": 1.85446576197E7,
  "spatialReference": {
   "wkid": 102100,
   "latestWkid": 3857
  }
 },
 "initialExtent": {
  "xmin": -2.00375070672E7,
  "ymin": -1.09076623803E7,
  "xmax": 2.0037507842788246E7,
  "ymax": 1.85446576197E7,
  "spatialReference": {
   "wkid": 102100,
   "latestWkid": 3857
  }
 },
 "fullExtent": {
  "xmin": -2.00375070672E7,
  "ymin": -1.09076623803E7,
  "xmax": 2.0037507842788246E7,
  "ymax": 1.85446576197E7,
  "spatialReference": {
   "wkid": 102100,
   "latestWkid": 3857
  }
 },
 "sortableFields": "",
 "bandCount": 1,
 "pixelType": "U8",
 "minValues": [],
 "maxValues": [],
 "meanValues": [],
 "stdvValues": [],
 "serviceProperties": "ByAttribute<\/MosaicMethod>First<\/MosaicOperator>true<\/SortAscending><\/LockImageID>DateTime<\/TileOrderField>1/1/2050 12:00:00 AM<\/TileOrderBase>600.000000<\/AvgImageSpacingX>600.000000<\/AvgImageSpacingY>0.0<\/ViewPointX>0.0<\/ViewPointY>0.0<\/ViewPointDefShiftX>0.0<\/ViewPointDefShiftY>LZ77<\/CompressionMethod>75<\/CompressionQuality>0.000000<\/CompressionTolerance>Nearest<\/SamplingMethod><\/ImageServiceProperties><\/ImageServer>",
 "allowedFields": "Name,DateTime,ProductGenerationDateTime,cloud_coverage,spacecraft_name,TileID,MinPS,MaxPS,LowPS,HighPS,CenterX,CenterY,DownloadURL,URLDisplay,ProcessingDate",
 "hasMultidimensions": false,
 "timeInfo": {
  "startTimeField": "DateTime",
  "endTimeField": null,
  "timeExtent": [
   1672532999000,
   1787270259000
  ],
  "timeReference": null
 },
 "pixelSizeX": 29.99999618963752,
 "pixelSizeY": 30,
 "meanPixelSize": 29.99999809481876,
 "datasetFormat": "AMD",
 "uncompressedSize": 1311447014496,
 "blockWidth": 2048,
 "blockHeight": 256,
 "compressionType": "None",
 "bandNames": [
  "Band_1"
 ],
 "allowCopy": true,
 "allowAnalysis": true,
 "itemAccess": false,
 "inspectionCapabilities": "",
 "minPixelSize": 0,
 "maxPixelSize": 0,
 "copyrightText": "Observational Products for End-Users from Remote Sensing Analysis (OPERA) Project, National Aeronautics and Space Administration (NASA), Jet Propulsion Laboratory (JPL), California Institute of Technology, Physical Oceanography Distributed Active Archive Center (PO.DAAC).",
 "serviceDataType": "esriImageServiceDataTypeGeneric",
 "serviceSourceType": "esriImageServiceSourceTypeMosaicDataset",
 "objectIdField": "objectid",
 "fields": [
  {
   "name": "objectid",
   "type": "esriFieldTypeOID",
   "alias": "objectid",
   "domain": null
  },
  {
   "name": "name",
   "type": "esriFieldTypeString",
   "alias": "name",
   "domain": null,
   "length": 200
  },
  {
   "name": "minps",
   "type": "esriFieldTypeDouble",
   "alias": "minps",
   "domain": null
  },
  {
   "name": "maxps",
   "type": "esriFieldTypeDouble",
   "alias": "maxps",
   "domain": null
  },
  {
   "name": "lowps",
   "type": "esriFieldTypeDouble",
   "alias": "lowps",
   "domain": null
  },
  {
   "name": "highps",
   "type": "esriFieldTypeDouble",
   "alias": "highps",
   "domain": null
  },
  {
   "name": "category",
   "type": "esriFieldTypeInteger",
   "alias": "category",
   "domain": {
    "type": "codedValue",
    "name": "MosaicCatalogItemCategoryDomain",
    "description": "Catalog item categories.",
    "codedValues": [
     {
      "name": "Unknown",
      "code": 0
     },
     {
      "name": "Primary",
      "code": 1
     },
     {
      "name": "Overview",
      "code": 2
     },
     {
      "name": "Unprocessed Overview",
      "code": 3
     },
     {
      "name": "Partial Overview",
      "code": 4
     },
     {
      "name": "Inactive",
      "code": 5
     },
     {
      "name": "Uploaded",
      "code": 253
     },
     {
      "name": "Incomplete",
      "code": 254
     },
     {
      "name": "Custom",
      "code": 255
     }
    ],
    "mergePolicy": "esriMPTDefaultValue",
    "splitPolicy": "esriSPTDefaultValue"
   }
  },
  {
   "name": "centerx",
   "type": "esriFieldTypeDouble",
   "alias": "centerx",
   "domain": null
  },
  {
   "name": "centery",
   "type": "esriFieldTypeDouble",
   "alias": "centery",
   "domain": null
  },
  {
   "name": "shape",
   "type": "esriFieldTypeGeometry",
   "alias": "shape",
   "domain": null
  },
  {
   "name": "processingdate",
   "type": "esriFieldTypeString",
   "alias": "ProcessingDate",
   "domain": null,
   "length": 255
  },
  {
   "name": "tileid",
   "type": "esriFieldTypeString",
   "alias": "TileID",
   "domain": null,
   "length": 8000
  },
  {
   "name": "datetime",
   "type": "esriFieldTypeDate",
   "alias": "DateTime",
   "domain": null,
   "length": 8
  },
  {
   "name": "productgenerationdatetime",
   "type": "esriFieldTypeString",
   "alias": "ProductGenerationDateTime",
   "domain": null,
   "length": 8000
  },
  {
   "name": "cloud_coverage",
   "type": "esriFieldTypeInteger",
   "alias": "CLOUD_COVERAGE",
   "domain": null
  },
  {
   "name": "spacecraft_name",
   "type": "esriFieldTypeString",
   "alias": "SPACECRAFT_NAME",
   "domain": null,
   "length": 8000
  },
  {
   "name": "downloadurl",
   "type": "esriFieldTypeString",
   "alias": "DownloadURL",
   "domain": null,
   "length": 8000
  },
  {
   "name": "urldisplay",
   "type": "esriFieldTypeString",
   "alias": "URLDisplay",
   "domain": null,
   "length": 8000
  }
 ],
 "capabilities": "Catalog,Mensuration,Image,Metadata",
 "defaultMosaicMethod": "ByAttribute",
 "allowedMosaicMethods": "ByAttribute,Center,NorthWest,Nadir,LockRaster,Seamline,None",
 "sortField": "DateTime",
 "sortValue": "1/1/2050 12:00:00 AM",
 "sortAscending": true,
 "mosaicOperator": "First",
 "maxDownloadSizeLimit": 2048,
 "defaultCompressionQuality": 75,
 "defaultResamplingMethod": "Nearest",
 "maxImageHeight": 2048,
 "maxImageWidth": 2048,
 "maxRecordCount": 1000,
 "maxDownloadImageCount": 20,
 "maxMosaicImageCount": 100,
 "allowRasterFunction": true,
 "rasterFunctionInfos": [
  {
   "name": "OPERA_L3_DSWX-HLS_V1_B01_WTR",
   "description": "OPERA_L3_DSWX-HLS_V1_B01_WTR water classification. ",
   "help": ""
  },
  {
   "name": "None",
   "description": "Make a Raster or Raster Dataset into a Function Raster Dataset.",
   "help": ""
  }
 ],
 "rasterTypeInfos": [
  {
   "name": "Raster Dataset",
   "description": "Supports all ArcGIS Raster Datasets",
   "help": ""
  }
 ],
 "mensurationCapabilities": "Basic",
 "hasHistograms": false,
 "hasColormap": false,
 "hasRasterAttributeTable": false,
 "minScale": 0,
 "maxScale": 0,
 "exportTilesAllowed": false,
 "supportsStatistics": true,
 "supportsAdvancedQueries": true,
 "editFieldsInfo": null,
 "ownershipBasedAccessControlForRasters": null,
 "allowComputeTiePoints": false,
 "useStandardizedQueries": true,
 "advancedQueryCapabilities": {
  "useStandardizedQueries": true,
  "supportsStatistics": true,
  "supportsOrderBy": true,
  "supportsDistinct": true,
  "supportsPagination": true
 },
 "spatialReference": {
  "wkid": 102100,
  "latestWkid": 3857
 },
 "resampling": false
}
