{
 "currentVersion": 11.3,
 "serviceDescription": "The Tropospheric Emissions: Monitoring of Pollution (TEMPO) Nitrogen Dioxide (NO2) Vertical Column Troposphere Beta layer provides information on the amount of nitrogen dioxide in the troposphere. This is provided as the total number of nitrogen dioxide molecules in the tropospheric column of air above one square centimeter on the Earth\u2019s surface. Imagery is available as approximately one-hour scans for daylight hours over North America. The sensor\u2019s native spatial resolution is ~2 km x 4.75 km at the center of TEMPO\u2019s field of regard (FOR) and the Level 3 product resolution is 0.02 x 0.02 degrees. The layer is filtered to display high-quality pixels using the main data quality flag (removing low confidence measurements), solar zenith angle (removing data retrieved at high solar zenith angles), and effective cloud fraction (removing where clouds obscure the tropospheric column) variables. Data are available from May 2024 to present. These data should be considered as beta products per the Beta Product Maturity level defined in the TEMPO validation plan. The products are not optimized for operational use and anomalies may exist. Users should refrain from making conclusive public statements regarding science and applications of the TEMPO data products until the products are designated to be at the provisional validation status according to the validation plan. A readme file describing the data and associated known issues can be found here. Note: Each image is presented with the starting timestamp of the corresponding TEMPO scan. Due to the nature of the TEMPO instrument\u2019s east to west scanning pattern, each image is a composite of measurements taken over a period of 40-60 minutes, depending on the spatial coverage of the scan.",
 "name": "C2930763263-LARC_CLOUD/TEMPO_NO2_L3_V03_HOURLY_TROPOSPHERIC_VERTICAL_COLUMN_BETA",
 "description": "The Tropospheric Emissions: Monitoring of Pollution (TEMPO) Nitrogen Dioxide (NO2) Vertical Column Troposphere Beta layer provides information on the amount of nitrogen dioxide in the troposphere. This is provided as the total number of nitrogen dioxide molecules in the tropospheric column of air above one square centimeter on the Earth\u2019s surface. Imagery is available as approximately one-hour scans for daylight hours over North America. The sensor\u2019s native spatial resolution is ~2 km x 4.75 km at the center of TEMPO\u2019s field of regard (FOR) and the Level 3 product resolution is 0.02 x 0.02 degrees. The layer is filtered to display high-quality pixels using the main data quality flag (removing low confidence measurements), solar zenith angle (removing data retrieved at high solar zenith angles), and effective cloud fraction (removing where clouds obscure the tropospheric column) variables. Data are available from May 2024 to present. These data should be considered as beta products per the Beta Product Maturity level defined in the TEMPO validation plan. The products are not optimized for operational use and anomalies may exist. Users should refrain from making conclusive public statements regarding science and applications of the TEMPO data products until the products are designated to be at the provisional validation status according to the validation plan. A readme file describing the data and associated known issues can be found here. Note: Each image is presented with the starting timestamp of the corresponding TEMPO scan. Due to the nature of the TEMPO instrument\u2019s east to west scanning pattern, each image is a composite of measurements taken over a period of 40-60 minutes, depending on the spatial coverage of the scan.",
 "extent": {
  "xmin": -168.00000549350375,
  "ymin": 14.00000081336853,
  "xmax": -13.00001324350373,
  "ymax": 72.99999786336853,
  "spatialReference": {
   "wkid": 4326,
   "latestWkid": 4326
  }
 },
 "initialExtent": {
  "xmin": -168.00000549350375,
  "ymin": 14.00000081336853,
  "xmax": -13.00001324350373,
  "ymax": 72.99999786336853,
  "spatialReference": {
   "wkid": 4326,
   "latestWkid": 4326
  }
 },
 "fullExtent": {
  "xmin": -168.00000549350375,
  "ymin": 14.00000081336853,
  "xmax": -13.00001324350373,
  "ymax": 72.99999786336853,
  "spatialReference": {
   "wkid": 4326,
   "latestWkid": 4326
  }
 },
 "sortableFields": "",
 "bandCount": 1,
 "pixelType": "F64",
 "minValues": [
  -5.31292790235705E20
 ],
 "maxValues": [
  8.723631442807634E19
 ],
 "meanValues": [
  8.695716042743834E14
 ],
 "stdvValues": [
  6454739139972683
 ],
 "hasMultidimensions": true,
 "timeInfo": {
  "startTimeField": "StdTime",
  "endTimeField": "StdTime",
  "timeExtent": [
   1690989169000,
   1728417352000
  ],
  "timeReference": null,
  "defaultTimeInterval": 6.367,
  "defaultTimeIntervalUnits": "esriTimeUnitsMinutes"
 },
 "pixelSizeX": 0.019999999,
 "pixelSizeY": 0.019999999,
 "meanPixelSize": 2226.3897045459807,
 "datasetFormat": "Cache/LERC2D",
 "uncompressedSize": 182900000,
 "blockWidth": 256,
 "blockHeight": 256,
 "compressionType": "LERC2D",
 "bandNames": [
  "Band_1"
 ],
 "allowCopy": true,
 "allowAnalysis": true,
 "itemAccess": false,
 "defaultVariable": "",
 "inspectionCapabilities": "",
 "noDataValue": 1.79E308,
 "noDataValues": [
  1.79E308
 ],
 "minPixelSize": 0,
 "maxPixelSize": 0,
 "copyrightText": "The products are generated by the Science Data Processing Center (SDPC) at the Smithsonian Astrophysical Observatory (SAO) in collaboration with the National Aeronautics and Space Administration (NASA) and published through the Langley Research Center (LaRC) Atmospheric Science Data Center (ASDC).",
 "serviceDataType": "esriImageServiceDataTypeScientific",
 "serviceSourceType": "esriImageServiceSourceTypeDataset",
 "objectIdField": "",
 "fields": [],
 "capabilities": "Mensuration,Image,Metadata",
 "defaultMosaicMethod": "Center",
 "allowedMosaicMethods": "",
 "sortField": "",
 "sortValue": null,
 "sortAscending": true,
 "mosaicOperator": "First",
 "defaultCompressionQuality": 75,
 "defaultResamplingMethod": "Nearest",
 "maxImageHeight": 4100,
 "maxImageWidth": 15000,
 "allowRasterFunction": true,
 "rasterFunctionInfos": [
  {
   "name": "None",
   "description": "Make a Raster or Raster Dataset into a Function Raster Dataset.",
   "help": ""
  },
  {
   "name": "matter_RGB",
   "description": "cmocean color palette \"matter\"",
   "help": ""
  },
  {
   "name": "torch_RGB",
   "description": "cmasher color palette \"torch\"",
   "help": ""
  }
 ],
 "rasterTypeInfos": [
  {
   "name": "Raster Dataset",
   "description": "Supports all ArcGIS Raster Datasets",
   "help": ""
  }
 ],
 "mensurationCapabilities": "Basic",
 "hasHistograms": true,
 "hasColormap": false,
 "hasRasterAttributeTable": false,
 "minScale": 0,
 "maxScale": 0,
 "exportTilesAllowed": false,
 "supportsStatistics": false,
 "supportsAdvancedQueries": false,
 "editFieldsInfo": null,
 "ownershipBasedAccessControlForRasters": null,
 "allowComputeTiePoints": false,
 "useStandardizedQueries": true,
 "transposeInfo": {
  "cols": 8,
  "rows": 8
 },
 "advancedQueryCapabilities": {
  "useStandardizedQueries": true,
  "supportsStatistics": false,
  "supportsOrderBy": false,
  "supportsDistinct": false,
  "supportsPagination": false
 },
 "spatialReference": {
  "wkid": 4326,
  "latestWkid": 4326
 },
 "resampling": false
}
