{
 "currentVersion": 11.5,
 "serviceDescription": "C43245-EAP-SATCORPS/GLOBCOMP01A_HOURLY_FULL",
 "serviceItemId": "f1a7827398fe4af39012a30b1ae9261f",
 "name": "C43245-EAP-SATCORPS/GLOBCOMP01A_HOURLY_FULL",
 "description": "",
 "extent": {
  "xmin": -179.9861145,
  "ymin": -89.98611366000002,
  "xmax": 179.986115312,
  "ymax": 89.9861145,
  "spatialReference": {
   "wkid": 4326,
   "latestWkid": 4326
  }
 },
 "initialExtent": {
  "xmin": -179.9861145,
  "ymin": -89.98611366000002,
  "xmax": 179.986115312,
  "ymax": 89.9861145,
  "spatialReference": {
   "wkid": 4326,
   "latestWkid": 4326
  }
 },
 "fullExtent": {
  "xmin": -179.9861145,
  "ymin": -89.98611366000002,
  "xmax": 179.986115312,
  "ymax": 89.9861145,
  "spatialReference": {
   "wkid": 4326,
   "latestWkid": 4326
  }
 },
 "sortableFields": "",
 "bandCount": 1,
 "pixelType": "U8",
 "minValues": [
  180
 ],
 "maxValues": [
  310
 ],
 "meanValues": [
  245
 ],
 "stdvValues": [
  0
 ],
 "serviceProperties": "None<\/MosaicMethod>First<\/MosaicOperator>true<\/SortAscending><\/LockImageID>StdTime<\/TileOrderField>0<\/TileOrderBase>600.000000<\/AvgImageSpacingX>300.000000<\/AvgImageSpacingY>0.0<\/ViewPointX>0.0<\/ViewPointY>0.0<\/ViewPointDefShiftX>0.0<\/ViewPointDefShiftY>LERC<\/CompressionMethod>75<\/CompressionQuality>0.010000<\/CompressionTolerance>Nearest<\/SamplingMethod><\/ImageServiceProperties><\/ImageServer>",
 "allowedFields": "name,minps,maxps,lowps,highps,tag,groupname,productname,centerx,centery,zorder,st_area(shape),st_perimeter(shape),variable,collection,file,key,domain,satellite,visst,ingested,updated,units,long_name,Dimensions,stdtime,uuid",
 "hasMultidimensions": true,
 "timeInfo": {
  "startTimeField": "StdTime",
  "endTimeField": "StdTime",
  "timeExtent": [
   1722470400000,
   1830294000000
  ],
  "timeReference": null,
  "defaultTimeInterval": 1,
  "defaultTimeIntervalUnits": "esriTimeUnitsHours"
 },
 "pixelSizeX": 0.027773492,
 "pixelSizeY": 0.027773492000000004,
 "meanPixelSize": 3091.7309869910573,
 "datasetFormat": "AMD",
 "uncompressedSize": 83987280,
 "blockWidth": 2048,
 "blockHeight": 256,
 "compressionType": "None",
 "bandNames": [
  "Band_1"
 ],
 "allowCopy": true,
 "allowAnalysis": true,
 "itemAccess": false,
 "defaultVariable": "",
 "inspectionCapabilities": "",
 "minPixelSize": 0,
 "maxPixelSize": 0,
 "copyrightText": "",
 "serviceDataType": "esriImageServiceDataTypeScientific",
 "serviceSourceType": "esriImageServiceSourceTypeMosaicDataset",
 "objectIdField": "objectid",
 "fields": [
  {
   "name": "objectid",
   "type": "esriFieldTypeOID",
   "alias": "objectid",
   "domain": null
  },
  {
   "name": "name",
   "type": "esriFieldTypeString",
   "alias": "name",
   "domain": null,
   "length": 200
  },
  {
   "name": "minps",
   "type": "esriFieldTypeDouble",
   "alias": "minps",
   "domain": null
  },
  {
   "name": "maxps",
   "type": "esriFieldTypeDouble",
   "alias": "maxps",
   "domain": null
  },
  {
   "name": "lowps",
   "type": "esriFieldTypeDouble",
   "alias": "lowps",
   "domain": null
  },
  {
   "name": "highps",
   "type": "esriFieldTypeDouble",
   "alias": "highps",
   "domain": null
  },
  {
   "name": "category",
   "type": "esriFieldTypeInteger",
   "alias": "category",
   "domain": {
    "type": "codedValue",
    "name": "MosaicCatalogItemCategoryDomain",
    "description": "Catalog item categories.",
    "codedValues": [
     {
      "name": "Unknown",
      "code": 0
     },
     {
      "name": "Primary",
      "code": 1
     },
     {
      "name": "Overview",
      "code": 2
     },
     {
      "name": "Unprocessed Overview",
      "code": 3
     },
     {
      "name": "Partial Overview",
      "code": 4
     },
     {
      "name": "Inactive",
      "code": 5
     },
     {
      "name": "Uploaded",
      "code": 253
     },
     {
      "name": "Incomplete",
      "code": 254
     },
     {
      "name": "Custom",
      "code": 255
     }
    ],
    "mergePolicy": "esriMPTDefaultValue",
    "splitPolicy": "esriSPTDefaultValue"
   }
  },
  {
   "name": "tag",
   "type": "esriFieldTypeString",
   "alias": "tag",
   "domain": null,
   "length": 100
  },
  {
   "name": "groupname",
   "type": "esriFieldTypeString",
   "alias": "groupname",
   "domain": null,
   "length": 100
  },
  {
   "name": "productname",
   "type": "esriFieldTypeString",
   "alias": "productname",
   "domain": null,
   "length": 100
  },
  {
   "name": "centerx",
   "type": "esriFieldTypeDouble",
   "alias": "centerx",
   "domain": null
  },
  {
   "name": "centery",
   "type": "esriFieldTypeDouble",
   "alias": "centery",
   "domain": null
  },
  {
   "name": "zorder",
   "type": "esriFieldTypeInteger",
   "alias": "zorder",
   "domain": null
  },
  {
   "name": "file",
   "type": "esriFieldTypeString",
   "alias": "file",
   "domain": null,
   "length": 255
  },
  {
   "name": "key",
   "type": "esriFieldTypeString",
   "alias": "key",
   "domain": null,
   "length": 255
  },
  {
   "name": "domain",
   "type": "esriFieldTypeString",
   "alias": "domain",
   "domain": null,
   "length": 255
  },
  {
   "name": "satellite",
   "type": "esriFieldTypeString",
   "alias": "satellite",
   "domain": null,
   "length": 255
  },
  {
   "name": "visst",
   "type": "esriFieldTypeString",
   "alias": "visst",
   "domain": null,
   "length": 255
  },
  {
   "name": "ingested",
   "type": "esriFieldTypeDate",
   "alias": "ingested",
   "domain": null,
   "length": 8
  },
  {
   "name": "updated",
   "type": "esriFieldTypeDate",
   "alias": "updated",
   "domain": null,
   "length": 8
  },
  {
   "name": "units",
   "type": "esriFieldTypeString",
   "alias": "units",
   "domain": null,
   "length": 255
  },
  {
   "name": "long_name",
   "type": "esriFieldTypeString",
   "alias": "long_name",
   "domain": null,
   "length": 255
  },
  {
   "name": "uuid",
   "type": "esriFieldTypeString",
   "alias": "uuid",
   "domain": null,
   "length": 255
  },
  {
   "name": "variable",
   "type": "esriFieldTypeString",
   "alias": "Variable",
   "domain": null,
   "length": 8000
  },
  {
   "name": "collection",
   "type": "esriFieldTypeString",
   "alias": "Collection",
   "domain": null,
   "length": 8000
  },
  {
   "name": "dimensions",
   "type": "esriFieldTypeString",
   "alias": "Dimensions",
   "domain": null,
   "length": 8000
  },
  {
   "name": "stdtime",
   "type": "esriFieldTypeDate",
   "alias": "StdTime",
   "domain": null,
   "length": 8
  },
  {
   "name": "shape",
   "type": "esriFieldTypeGeometry",
   "alias": "shape",
   "domain": null
  },
  {
   "name": "st_area(shape)",
   "type": "esriFieldTypeDouble",
   "alias": "st_area(shape)",
   "domain": null
  },
  {
   "name": "st_perimeter(shape)",
   "type": "esriFieldTypeDouble",
   "alias": "st_perimeter(shape)",
   "domain": null
  }
 ],
 "capabilities": "Catalog,Pixels,Image,Metadata",
 "defaultMosaicMethod": "None",
 "allowedMosaicMethods": "None,NorthWest,Center,LockRaster,ByAttribute,Nadir,Viewpoint,Seamline",
 "mosaicOperator": "First",
 "maxDownloadSizeLimit": 2048,
 "defaultCompressionQuality": 10000,
 "defaultResamplingMethod": "Nearest",
 "maxImageHeight": 4100,
 "maxImageWidth": 15000,
 "maxRecordCount": 1000,
 "maxDownloadImageCount": 20,
 "maxMosaicImageCount": 20,
 "allowRasterFunction": true,
 "rasterFunctionInfos": [
  {
   "name": "Cloud Top Height",
   "description": "Cloud Top Height with Statistics - Stretch",
   "help": ""
  },
  {
   "name": "Cloud Top Height with Color Bar",
   "description": "Cloud Top Height with Color Bar",
   "help": ""
  },
  {
   "name": "Brightness Temperature in 10.8um with Color Bar",
   "description": "Brightness Temperature in 10.8um with Statistics and Color Bar",
   "help": ""
  },
  {
   "name": "Brightness Temperature in 10.8um",
   "description": "Brightness Temperature in 10.8um with Statistics - Stretch",
   "help": ""
  },
  {
   "name": "Brightness Temperature in 6.75um",
   "description": "Brightness Temperature in 6.75um with Statistics - Stretch",
   "help": ""
  },
  {
   "name": "Reflectance in 0.63um",
   "description": "Reflectance in 0.63um with Statistics - Stretch",
   "help": ""
  },
  {
   "name": "Cloud Bottom Height",
   "description": "Cloud Bottom Height with Statistics - Stretch",
   "help": ""
  },
  {
   "name": "Cloud Bottom Height with Color Bar",
   "description": "Cloud Bottom Height with Color Bar",
   "help": ""
  },
  {
   "name": "Cloud Phase",
   "description": "Cloud Phase with Statistics - Stretch",
   "help": ""
  },
  {
   "name": "Cloud Phase with Color Bar",
   "description": "Cloud Phase with Color Bar",
   "help": ""
  },
  {
   "name": "Cloud Optical Depth",
   "description": "Cloud Optical Depth with Statistics - Stretch",
   "help": ""
  },
  {
   "name": "Cloud Optical Depth with Color Bar",
   "description": "Cloud Optical Depth with Color Bar",
   "help": ""
  },
  {
   "name": "Vertically Informed Ice Water Path",
   "description": "Vertically Informed Ice Water Path with Statistics - Stretch",
   "help": ""
  },
  {
   "name": "Vertically Informed Liquid Water Path",
   "description": "Vertically Informed Liquid Water Path with Statistics - Stretch",
   "help": ""
  },
  {
   "name": "Vertically Informed Liquid Water Path with Color Bar",
   "description": "Vertically Informed Liquid Water Path with Color Bar",
   "help": ""
  },
  {
   "name": "Vertically Informed Ice Water Path with Color Bar",
   "description": "Vertically Informed Ice Water Path with Color Bar",
   "help": ""
  },
  {
   "name": "Cloud Bottom Pressure",
   "description": "Cloud Bottom Pressure with Statistics - Stretch",
   "help": ""
  },
  {
   "name": "Cloud Bottom Pressure with Color Bar",
   "description": "Cloud Bottom Pressure with Color Bar",
   "help": ""
  },
  {
   "name": "Cloud Bottom Temperature",
   "description": "Cloud Bottom Temperature with Statistics - Stretch",
   "help": ""
  },
  {
   "name": "Cloud Bottom Temperature with Color Bar",
   "description": "Cloud Bottom Temperature with Color Bar",
   "help": ""
  },
  {
   "name": "SLW Aircraft Icing Index",
   "description": "SLW Aircraft Icing Index with Statistics - Stretch",
   "help": ""
  },
  {
   "name": "SLW Aircraft Icing Index with Color Bar",
   "description": "SLW Aircraft Icing Index with Color Bar",
   "help": ""
  },
  {
   "name": "Cloud Top Pressure",
   "description": "Cloud Top Pressure with Statistics - Stretch",
   "help": ""
  },
  {
   "name": "Cloud Top Pressure with Color Bar",
   "description": "Cloud Top Pressure with Color Bar",
   "help": ""
  },
  {
   "name": "Cloud Top Temperature",
   "description": "Cloud Top Temperature with Statistics - Stretch",
   "help": ""
  },
  {
   "name": "Cloud Top Temperature with Color Bar",
   "description": "Cloud Top Temperature with Color Bar",
   "help": ""
  },
  {
   "name": "Solar Zenith",
   "description": "Solar Zenith with Statistics - Stretch",
   "help": ""
  },
  {
   "name": "Cloud Effective Height",
   "description": "Cloud Effective Height with Statistics - Stretch",
   "help": ""
  },
  {
   "name": "Cloud Effective Height with Color Bar",
   "description": "Cloud Effective Height with Color Bar",
   "help": ""
  },
  {
   "name": "Cloud Effective Pressure",
   "description": "Cloud Effective Pressure with Statistics - Stretch",
   "help": ""
  },
  {
   "name": "Cloud Effective Pressure with Color Bar",
   "description": "Cloud Effective Pressure with Color Bar",
   "help": ""
  },
  {
   "name": "Cloud Effective Temperature",
   "description": "Cloud Effective Temperature with Statistics - Stretch",
   "help": ""
  },
  {
   "name": "Cloud Effective Temperature with Color Bar",
   "description": "Cloud Effective Temperature with Color Bar",
   "help": ""
  },
  {
   "name": "Cloud Infrared Emittance",
   "description": "Cloud Infrared Emittance with Statistics - Stretch",
   "help": ""
  },
  {
   "name": "Cloud Infrared Emittance with Color Bar",
   "description": "Cloud Infrared Emittance with Color Bar",
   "help": ""
  },
  {
   "name": "Cloud Mask with Color Bar",
   "description": "Cloud Mask with Color Bar",
   "help": ""
  },
  {
   "name": "Cloud Effective Particle Radius",
   "description": "Cloud Effective Particle Radius with Statistics - Stretch",
   "help": ""
  },
  {
   "name": "Longwave Broadband Flux",
   "description": "Longwave Broadband Flux with Statistics - Stretch",
   "help": ""
  },
  {
   "name": "Relative Azimuth Angle",
   "description": "Relative Azimuth Angle with Statistics - Stretch",
   "help": ""
  },
  {
   "name": "Shortwave Broadband Albedo",
   "description": "Shortwave Broadband Albedo with Statistics - Stretch",
   "help": ""
  },
  {
   "name": "Skin Temperature",
   "description": "Skin Temperature with Statistics - Stretch",
   "help": ""
  },
  {
   "name": "Viewing Zenith Angle",
   "description": "Viewing Zenith Angle with Statistics - Stretch",
   "help": ""
  },
  {
   "name": "None",
   "description": "Make a Raster or Raster Dataset into a Function Raster Dataset.",
   "help": ""
  },
  {
   "name": "BT_10.8um",
   "description": "A raster function template.",
   "help": ""
  },
  {
   "name": "cloud_phase",
   "description": "A raster function template.",
   "help": ""
  },
  {
   "name": "cloud_top_height",
   "description": "A raster function template.",
   "help": ""
  },
  {
   "name": "cloud_bottom_height",
   "description": "A raster function template.",
   "help": ""
  },
  {
   "name": "satellite_ID",
   "description": "A raster function template.",
   "help": ""
  },
  {
   "name": "cloud_optical_depth",
   "description": "A raster function template.",
   "help": ""
  },
  {
   "name": "vi_iwp",
   "description": "A raster function template.",
   "help": ""
  },
  {
   "name": "vi_lwp",
   "description": "A raster function template.",
   "help": ""
  },
  {
   "name": "BT_6.75um",
   "description": "A raster function template.",
   "help": ""
  },
  {
   "name": "cloud_bottom_pressure",
   "description": "A raster function template.",
   "help": ""
  },
  {
   "name": "cloud_bottom_temperature",
   "description": "A raster function template.",
   "help": ""
  },
  {
   "name": "cloud_eff_height",
   "description": "A raster function template.",
   "help": ""
  },
  {
   "name": "cloud_eff_particle_size",
   "description": "A raster function template.",
   "help": ""
  },
  {
   "name": "cloud_eff_pressure",
   "description": "A raster function template.",
   "help": ""
  },
  {
   "name": "cloud_eff_temperature",
   "description": "A raster function template.",
   "help": ""
  },
  {
   "name": "cloud_emittance",
   "description": "A raster function template.",
   "help": ""
  },
  {
   "name": "cloud_top_pressure",
   "description": "A raster function template.",
   "help": ""
  },
  {
   "name": "cloud_top_temperature",
   "description": "A raster function template.",
   "help": ""
  },
  {
   "name": "cloud_lwp_iwp",
   "description": "A raster function template.",
   "help": ""
  },
  {
   "name": "LW_broadband_flux",
   "description": "A raster function template.",
   "help": ""
  },
  {
   "name": "ref_0.63um",
   "description": "A raster function template.",
   "help": ""
  },
  {
   "name": "relative_azimuth",
   "description": "A raster function template.",
   "help": ""
  },
  {
   "name": "SW_broadband_albedo",
   "description": "A raster function template.",
   "help": ""
  },
  {
   "name": "skin_temperature",
   "description": "A raster function template.",
   "help": ""
  },
  {
   "name": "slw_icing_index",
   "description": "A raster function template.",
   "help": ""
  },
  {
   "name": "solar_zenith",
   "description": "A raster function template.",
   "help": ""
  },
  {
   "name": "relative_time",
   "description": "A raster function template.",
   "help": ""
  },
  {
   "name": "view_zenith",
   "description": "A raster function template.",
   "help": ""
  }
 ],
 "rasterTypeInfos": [
  {
   "name": "Raster Dataset",
   "description": "Supports all ArcGIS Raster Datasets",
   "help": ""
  }
 ],
 "mensurationCapabilities": "Basic",
 "hasHistograms": true,
 "hasColormap": false,
 "hasRasterAttributeTable": false,
 "minScale": 0,
 "maxScale": 0,
 "exportTilesAllowed": false,
 "supportsStatistics": true,
 "supportsAdvancedQueries": true,
 "editFieldsInfo": null,
 "ownershipBasedAccessControlForRasters": null,
 "allowComputeTiePoints": false,
 "useStandardizedQueries": true,
 "advancedQueryCapabilities": {
  "useStandardizedQueries": true,
  "supportsStatistics": true,
  "supportsOrderBy": true,
  "supportsDistinct": true,
  "supportsPagination": true
 },
 "spatialReference": {
  "wkid": 4326,
  "latestWkid": 4326
 },
 "resampling": false
}
