{
 "currentVersion": 11.5,
 "serviceDescription": "GESDISC/GPM_ZARR",
 "serviceItemId": "a8d8550ac5cc4b26a291a12b92e0de2d",
 "name": "GESDISC/GPM_ZARR",
 "description": "",
 "extent": {
  "xmin": -180,
  "ymin": -60,
  "xmax": 180,
  "ymax": 90,
  "spatialReference": {
   "wkid": 4326,
   "latestWkid": 4326
  }
 },
 "initialExtent": {
  "xmin": -180,
  "ymin": -60,
  "xmax": 180,
  "ymax": 90,
  "spatialReference": {
   "wkid": 4326,
   "latestWkid": 4326
  }
 },
 "fullExtent": {
  "xmin": -180,
  "ymin": -60,
  "xmax": 180,
  "ymax": 90,
  "spatialReference": {
   "wkid": 4326,
   "latestWkid": 4326
  }
 },
 "sortableFields": "",
 "bandCount": 1,
 "pixelType": "F32",
 "minValues": [],
 "maxValues": [],
 "meanValues": [],
 "stdvValues": [],
 "serviceProperties": "Center<\/MosaicMethod>First<\/MosaicOperator>true<\/SortAscending><\/LockImageID><\/TileOrderField>0<\/TileOrderBase>600.000000<\/AvgImageSpacingX>300.000000<\/AvgImageSpacingY>0.0<\/ViewPointX>0.0<\/ViewPointY>0.0<\/ViewPointDefShiftX>0.0<\/ViewPointDefShiftY>None<\/CompressionMethod>85<\/CompressionQuality>0.010000<\/CompressionTolerance>Bilinear<\/SamplingMethod><\/ImageServiceProperties><\/ImageServer>",
 "allowedFields": "",
 "hasMultidimensions": true,
 "timeInfo": {
  "startTimeField": "StdTime",
  "endTimeField": "StdTime_Max",
  "timeExtent": [
   1640995200000,
   1641060000000
  ],
  "timeReference": null,
  "defaultTimeInterval": 3,
  "defaultTimeIntervalUnits": "esriTimeUnitsHours"
 },
 "pixelSizeX": 0.25,
 "pixelSizeY": 0.25,
 "meanPixelSize": 27829.87269831839,
 "datasetFormat": "AFR",
 "uncompressedSize": 3456000,
 "blockWidth": 512,
 "blockHeight": 1,
 "compressionType": "None",
 "bandNames": [
  "Band_1"
 ],
 "allowCopy": true,
 "allowAnalysis": true,
 "itemAccess": false,
 "defaultVariable": "",
 "inspectionCapabilities": "",
 "noDataValue": -9999,
 "noDataValues": [
  -9999
 ],
 "minPixelSize": 0,
 "maxPixelSize": 0,
 "copyrightText": "",
 "serviceDataType": "esriImageServiceDataTypeScientific",
 "serviceSourceType": "esriImageServiceSourceTypeDataset",
 "objectIdField": "",
 "fields": [],
 "capabilities": "Catalog,Mensuration,Image,Metadata",
 "defaultMosaicMethod": "Center",
 "allowedMosaicMethods": "",
 "sortField": "",
 "sortValue": null,
 "sortAscending": true,
 "mosaicOperator": "First",
 "maxDownloadSizeLimit": 2048,
 "defaultCompressionQuality": 85,
 "defaultResamplingMethod": "Bilinear",
 "maxImageHeight": 4000,
 "maxImageWidth": 8000,
 "maxRecordCount": 1000,
 "maxDownloadImageCount": 20,
 "maxMosaicImageCount": 20,
 "allowRasterFunction": true,
 "rasterFunctionInfos": [
  {
   "name": "None",
   "description": "",
   "help": ""
  }
 ],
 "rasterTypeInfos": [
  {
   "name": "Raster Dataset",
   "description": "Supports all ArcGIS Raster Datasets",
   "help": ""
  }
 ],
 "mensurationCapabilities": "Basic",
 "hasHistograms": false,
 "hasColormap": false,
 "hasRasterAttributeTable": false,
 "minScale": 0,
 "maxScale": 0,
 "exportTilesAllowed": false,
 "supportsStatistics": false,
 "supportsAdvancedQueries": false,
 "editFieldsInfo": null,
 "ownershipBasedAccessControlForRasters": null,
 "allowComputeTiePoints": false,
 "useStandardizedQueries": true,
 "advancedQueryCapabilities": {
  "useStandardizedQueries": true,
  "supportsStatistics": false,
  "supportsOrderBy": false,
  "supportsDistinct": false,
  "supportsPagination": false
 },
 "spatialReference": {
  "wkid": 4326,
  "latestWkid": 4326
 },
 "resampling": false
}
