Global Seasonal Sentinel-1 Interferometric Coherence and Backscatter: mean amplitude of radiometrically terrain-corrected gamma-0 backscatter (AMP) values for December/January/February in HH polarization. Pixel values in source rasters are stored as digital numbers (DN). Processing templates are included with the service to provide the power and dB values along with the original DN values. The power value is calculated using the formula DN ^ 2 / 199526231, and the dB value is calculated using the formula 20 x log10(DN) - 83.<\/span><\/p>The source rasters referenced in this service are available on the Registry of Open Data on AWS: <\/span>https://registry.opendata.aws/ebd-sentinel-1-global-coherence-backscatter/<\/span><\/a><\/p><\/div><\/div><\/div>",
"extent": {
"xmin": -1.80337575085E7,
"ymin": -1.4927403056500003E7,
"xmax": 1.99264424915E7,
"ymax": 1.6967796943499997E7,
"spatialReference": {
"wkid": 102100,
"latestWkid": 3857
}
},
"initialExtent": {
"xmin": -1.80337575085E7,
"ymin": -1.4927403056500003E7,
"xmax": 1.99264424915E7,
"ymax": 1.6967796943499997E7,
"spatialReference": {
"wkid": 102100,
"latestWkid": 3857
}
},
"fullExtent": {
"xmin": -1.80337575085E7,
"ymin": -1.4927403056500003E7,
"xmax": 1.99264424915E7,
"ymax": 1.6967796943499997E7,
"spatialReference": {
"wkid": 102100,
"latestWkid": 3857
}
},
"sortableFields": "MinPS,MaxPS,StartDate,EndDate,LowPS,HighPS,StartDate,EndDate,ZOrder,CenterX,CenterY",
"bandCount": 1,
"pixelType": "U16",
"minValues": [],
"maxValues": [],
"meanValues": [],
"stdvValues": [],
"serviceProperties": "ByAttribute<\/MosaicMethod>First<\/MosaicOperator>true<\/SortAscending><\/LockImageID>StartDate<\/TileOrderField>1/1/2050 12:00:00 AM<\/TileOrderBase>300.000000<\/AvgImageSpacingX>300.000000<\/AvgImageSpacingY>0.0<\/ViewPointX>0.0<\/ViewPointY>0.0<\/ViewPointDefShiftX>0.0<\/ViewPointDefShiftY>JPEG<\/CompressionMethod>80<\/CompressionQuality>0.010000<\/CompressionTolerance>Nearest<\/SamplingMethod><\/ImageServiceProperties><\/ImageServer>",
"allowedFields": "Name,ProductType,Season,Polarization,Tile,Dataset_ID,Tag,MinPS,MaxPS,StartDate,EndDate,LowPS,HighPS,ZOrder,CenterX,CenterY,GroupName,DownloadURL,URLDisplay",
"hasMultidimensions": false,
"pixelSizeX": 10,
"pixelSizeY": 10,
"meanPixelSize": 10,
"datasetFormat": "AMD",
"uncompressedSize": 24214963420800,
"blockWidth": 2048,
"blockHeight": 256,
"compressionType": "None",
"bandNames": [
"Band_1"
],
"allowCopy": true,
"allowAnalysis": true,
"itemAccess": false,
"inspectionCapabilities": "",
"minPixelSize": 0,
"maxPixelSize": 0,
"copyrightText": "Global Seasonal Sentinel-1 Interferometric Coherence and Backscatter Data Set was accessed on 11 November 2022 from https://registry.opendata.aws/ebd-sentinel-1-global-coherence-backscatter.",
"serviceDataType": "esriImageServiceDataTypeGeneric",
"serviceSourceType": "esriImageServiceSourceTypeMosaicDataset",
"objectIdField": "OBJECTID",
"fields": [
{
"name": "OBJECTID",
"type": "esriFieldTypeOID",
"alias": "OBJECTID",
"domain": null
},
{
"name": "Shape",
"type": "esriFieldTypeGeometry",
"alias": "Shape",
"domain": null
},
{
"name": "Name",
"type": "esriFieldTypeString",
"alias": "Name",
"domain": null,
"length": 200
},
{
"name": "MinPS",
"type": "esriFieldTypeDouble",
"alias": "MinPS",
"domain": null
},
{
"name": "MaxPS",
"type": "esriFieldTypeDouble",
"alias": "MaxPS",
"domain": null
},
{
"name": "LowPS",
"type": "esriFieldTypeDouble",
"alias": "LowPS",
"domain": null
},
{
"name": "HighPS",
"type": "esriFieldTypeDouble",
"alias": "HighPS",
"domain": null
},
{
"name": "Category",
"type": "esriFieldTypeInteger",
"alias": "Category",
"domain": {
"type": "codedValue",
"name": "MosaicCatalogItemCategoryDomain",
"description": "Catalog item categories.",
"codedValues": [
{
"name": "Unknown",
"code": 0
},
{
"name": "Primary",
"code": 1
},
{
"name": "Overview",
"code": 2
},
{
"name": "Unprocessed Overview",
"code": 3
},
{
"name": "Partial Overview",
"code": 4
},
{
"name": "Inactive",
"code": 5
},
{
"name": "Uploaded",
"code": 253
},
{
"name": "Incomplete",
"code": 254
},
{
"name": "Custom",
"code": 255
}
],
"mergePolicy": "esriMPTDefaultValue",
"splitPolicy": "esriSPTDefaultValue"
}
},
{
"name": "Tag",
"type": "esriFieldTypeString",
"alias": "Tag",
"domain": null,
"length": 100
},
{
"name": "GroupName",
"type": "esriFieldTypeString",
"alias": "GroupName",
"domain": null,
"length": 100
},
{
"name": "CenterX",
"type": "esriFieldTypeDouble",
"alias": "CenterX",
"domain": null
},
{
"name": "CenterY",
"type": "esriFieldTypeDouble",
"alias": "CenterY",
"domain": null
},
{
"name": "ZOrder",
"type": "esriFieldTypeInteger",
"alias": "ZOrder",
"domain": null
},
{
"name": "StartDate",
"type": "esriFieldTypeDate",
"alias": "StartDate",
"domain": null,
"length": 8
},
{
"name": "EndDate",
"type": "esriFieldTypeDate",
"alias": "EndDate",
"domain": null,
"length": 8
},
{
"name": "ProductType",
"type": "esriFieldTypeString",
"alias": "ProductType",
"domain": null,
"length": 255
},
{
"name": "Season",
"type": "esriFieldTypeString",
"alias": "Season",
"domain": null,
"length": 255
},
{
"name": "Polarization",
"type": "esriFieldTypeString",
"alias": "Polarization",
"domain": null,
"length": 255
},
{
"name": "Tile",
"type": "esriFieldTypeString",
"alias": "Tile",
"domain": null,
"length": 255
},
{
"name": "DownloadURL",
"type": "esriFieldTypeString",
"alias": "DownloadURL",
"domain": null,
"length": 255
},
{
"name": "URLDisplay",
"type": "esriFieldTypeString",
"alias": "URLDisplay",
"domain": null,
"length": 255
},
{
"name": "Dataset_ID",
"type": "esriFieldTypeString",
"alias": "Dataset_ID",
"domain": null,
"length": 50
}
],
"capabilities": "Catalog,Mensuration,Image,Metadata",
"defaultMosaicMethod": "ByAttribute",
"allowedMosaicMethods": "ByAttribute,Center,NorthWest,Nadir,LockRaster,Seamline,None",
"sortField": "StartDate",
"sortValue": "1/1/2050 12:00:00 AM",
"sortAscending": true,
"mosaicOperator": "First",
"maxDownloadSizeLimit": 2048,
"defaultCompressionQuality": 80,
"defaultResamplingMethod": "Nearest",
"maxImageHeight": 5000,
"maxImageWidth": 5000,
"maxRecordCount": 2000,
"maxDownloadImageCount": 50,
"maxMosaicImageCount": 100,
"allowRasterFunction": true,
"rasterFunctionInfos": [
{
"name": "GSSICB_Amplitude_dB_2SD",
"description": "Calculates gamma-0 dB from the backscatter DN values of the Global Seasonal Sentinel-1 Interferometric Coherence and Backscatter datatset. A 2 Standard Deviation stretch is applied.",
"help": ""
},
{
"name": "GSSICB_Amplitude_Power",
"description": "Calculates gamma-0 power from the backscatter DN values of the Global Seasonal Sentinel-1 Interferometric Coherence and Backscatter datatset. ",
"help": ""
},
{
"name": "GSSICB_Amplitude_dB",
"description": "Calculates gamma-0 dB from the backscatter DN values of the Global Seasonal Sentinel-1 Interferometric Coherence and Backscatter datatset. ",
"help": ""
},
{
"name": "GSSICB_Amplitude_dB_MinMax",
"description": "Calculates gamma-0 dB from the backscatter DN values of the Global Seasonal Sentinel-1 Interferometric Coherence and Backscatter datatset. A Min-Max stretch is applied.",
"help": ""
},
{
"name": "GSSICB_Amplitude_Power_2SD",
"description": "Calculates gamma-0 power from the backscatter DN values of the Global Seasonal Sentinel-1 Interferometric Coherence and Backscatter datatset. A 2 Standard Deviation stretch is applied.",
"help": ""
},
{
"name": "None",
"description": "Make a Raster or Raster Dataset into a Function Raster Dataset.",
"help": ""
}
],
"rasterTypeInfos": [
{
"name": "Raster Dataset",
"description": "Supports all ArcGIS Raster Datasets",
"help": ""
}
],
"mensurationCapabilities": "Basic",
"hasHistograms": false,
"hasColormap": false,
"hasRasterAttributeTable": false,
"minScale": 0,
"maxScale": 0,
"exportTilesAllowed": false,
"supportsStatistics": true,
"supportsAdvancedQueries": true,
"editFieldsInfo": null,
"ownershipBasedAccessControlForRasters": null,
"allowComputeTiePoints": false,
"useStandardizedQueries": true,
"advancedQueryCapabilities": {
"useStandardizedQueries": true,
"supportsStatistics": true,
"supportsOrderBy": true,
"supportsDistinct": true,
"supportsPagination": true
},
"spatialReference": {
"wkid": 102100,
"latestWkid": 3857
},
"resampling": false
}