{
 "currentVersion": 11.5,
 "serviceDescription": "OPERA Level-2 Radiometric Terrain Corrected (RTC) products in VV polarization generated from Sentinel-1 SAR imagery, processed by OPERA (JPL).",
 "serviceItemId": "8b7130ce03464b0c9373a7d03f0997d3",
 "name": "OPERA_L2_RTC_S1_V1/OPERA_L2_RTC_S1_V1_VV",
 "description": "OPERA Level-2 Radiometric Terrain Corrected (RTC) products in VV polarization generated from Sentinel-1 SAR imagery, processed by OPERA (JPL). Values for the VV polarization are commonly driven by surface roughness and/or soil moisture, with rougher surfaces and higher soil moisture returning higher backscatter values. Surface water appears very dark under calm conditions, as the signal bounces off the surface away from the sensor.",
 "extent": {
  "xmin": -2.00375070672E7,
  "ymin": -7726853.783399999,
  "xmax": 2.0037507842788246E7,
  "ymax": 2.42958662166E7,
  "spatialReference": {
   "wkid": 102100,
   "latestWkid": 3857
  }
 },
 "initialExtent": {
  "xmin": -2.00375070672E7,
  "ymin": -7726853.783399999,
  "xmax": 2.0037507842788246E7,
  "ymax": 2.42958662166E7,
  "spatialReference": {
   "wkid": 102100,
   "latestWkid": 3857
  }
 },
 "fullExtent": {
  "xmin": -2.00375070672E7,
  "ymin": -7726853.783399999,
  "xmax": 2.0037507842788246E7,
  "ymax": 2.42958662166E7,
  "spatialReference": {
   "wkid": 102100,
   "latestWkid": 3857
  }
 },
 "sortableFields": "",
 "bandCount": 1,
 "pixelType": "F32",
 "minValues": [],
 "maxValues": [],
 "meanValues": [],
 "stdvValues": [],
 "serviceProperties": "ByAttribute<\/MosaicMethod>First<\/MosaicOperator>true<\/SortAscending><\/LockImageID>StartDate<\/TileOrderField>1/1/2050 12:00:00 AM<\/TileOrderBase>300.000000<\/AvgImageSpacingX>300.000000<\/AvgImageSpacingY>0.0<\/ViewPointX>0.0<\/ViewPointY>0.0<\/ViewPointDefShiftX>0.0<\/ViewPointDefShiftY>JPEG<\/CompressionMethod>80<\/CompressionQuality>0.010000<\/CompressionTolerance>Nearest<\/SamplingMethod><\/ImageServiceProperties><\/ImageServer>",
 "allowedFields": "Name,StartDate,EndDate,MinPS,MaxPS,LowPS,HighPS,Date,Dataset_ID,CenterX,CenterY,Tag,GroupName,Polarization,DownloadURL,URLDisplay,ProcessingDate",
 "hasMultidimensions": false,
 "timeInfo": {
  "startTimeField": "StartDate",
  "endTimeField": "EndDate",
  "timeExtent": [
   1696118400000,
   1780499415000
  ],
  "timeReference": null
 },
 "pixelSizeX": 29.99999618963752,
 "pixelSizeY": 30,
 "meanPixelSize": 29.99999809481876,
 "datasetFormat": "AMD",
 "uncompressedSize": 5703605086464,
 "blockWidth": 2048,
 "blockHeight": 256,
 "compressionType": "None",
 "bandNames": [
  "Band_1"
 ],
 "allowCopy": true,
 "allowAnalysis": true,
 "itemAccess": false,
 "inspectionCapabilities": "",
 "minPixelSize": 0,
 "maxPixelSize": 0,
 "copyrightText": "OPERA Level-2 Radiometric Terrain Corrected products from Sentinel-1. Contains modified Copernicus Sentinel data, processed by ESA.",
 "serviceDataType": "esriImageServiceDataTypeGeneric",
 "serviceSourceType": "esriImageServiceSourceTypeMosaicDataset",
 "objectIdField": "objectid",
 "fields": [
  {
   "name": "objectid",
   "type": "esriFieldTypeOID",
   "alias": "objectid",
   "domain": null
  },
  {
   "name": "name",
   "type": "esriFieldTypeString",
   "alias": "name",
   "domain": null,
   "length": 200
  },
  {
   "name": "minps",
   "type": "esriFieldTypeDouble",
   "alias": "minps",
   "domain": null
  },
  {
   "name": "maxps",
   "type": "esriFieldTypeDouble",
   "alias": "maxps",
   "domain": null
  },
  {
   "name": "lowps",
   "type": "esriFieldTypeDouble",
   "alias": "lowps",
   "domain": null
  },
  {
   "name": "highps",
   "type": "esriFieldTypeDouble",
   "alias": "highps",
   "domain": null
  },
  {
   "name": "category",
   "type": "esriFieldTypeInteger",
   "alias": "category",
   "domain": {
    "type": "codedValue",
    "name": "MosaicCatalogItemCategoryDomain",
    "description": "Catalog item categories.",
    "codedValues": [
     {
      "name": "Unknown",
      "code": 0
     },
     {
      "name": "Primary",
      "code": 1
     },
     {
      "name": "Overview",
      "code": 2
     },
     {
      "name": "Unprocessed Overview",
      "code": 3
     },
     {
      "name": "Partial Overview",
      "code": 4
     },
     {
      "name": "Inactive",
      "code": 5
     },
     {
      "name": "Uploaded",
      "code": 253
     },
     {
      "name": "Incomplete",
      "code": 254
     },
     {
      "name": "Custom",
      "code": 255
     }
    ],
    "mergePolicy": "esriMPTDefaultValue",
    "splitPolicy": "esriSPTDefaultValue"
   }
  },
  {
   "name": "tag",
   "type": "esriFieldTypeString",
   "alias": "tag",
   "domain": null,
   "length": 100
  },
  {
   "name": "groupname",
   "type": "esriFieldTypeString",
   "alias": "groupname",
   "domain": null,
   "length": 100
  },
  {
   "name": "centerx",
   "type": "esriFieldTypeDouble",
   "alias": "centerx",
   "domain": null
  },
  {
   "name": "centery",
   "type": "esriFieldTypeDouble",
   "alias": "centery",
   "domain": null
  },
  {
   "name": "shape",
   "type": "esriFieldTypeGeometry",
   "alias": "shape",
   "domain": null
  },
  {
   "name": "downloadurl",
   "type": "esriFieldTypeString",
   "alias": "DownloadURL",
   "domain": null,
   "length": 8000
  },
  {
   "name": "urldisplay",
   "type": "esriFieldTypeString",
   "alias": "URLDisplay",
   "domain": null,
   "length": 8000
  },
  {
   "name": "polarization",
   "type": "esriFieldTypeString",
   "alias": "Polarization",
   "domain": null,
   "length": 8000
  },
  {
   "name": "startdate",
   "type": "esriFieldTypeDate",
   "alias": "StartDate",
   "domain": null,
   "length": 8
  },
  {
   "name": "enddate",
   "type": "esriFieldTypeDate",
   "alias": "EndDate",
   "domain": null,
   "length": 8
  },
  {
   "name": "processingdate",
   "type": "esriFieldTypeString",
   "alias": "ProcessingDate",
   "domain": null,
   "length": 255
  }
 ],
 "capabilities": "Image,Metadata,Catalog,Mensuration",
 "defaultMosaicMethod": "ByAttribute",
 "allowedMosaicMethods": "ByAttribute,Center,NorthWest,Nadir,LockRaster,Seamline,None",
 "sortField": "StartDate",
 "sortValue": "1/1/2050 12:00:00 AM",
 "sortAscending": true,
 "mosaicOperator": "First",
 "maxDownloadSizeLimit": 2048,
 "defaultCompressionQuality": 80,
 "defaultResamplingMethod": "Nearest",
 "maxImageHeight": 5000,
 "maxImageWidth": 5000,
 "maxRecordCount": 2000,
 "maxDownloadImageCount": 50,
 "maxMosaicImageCount": 75,
 "allowRasterFunction": true,
 "rasterFunctionInfos": [
  {
   "name": "Sentinel-1 RTC dB Stretch",
   "description": "Sentinel-1 RTC data in dB scale with a stretch applied",
   "help": "Converts pixel values from power to dB scale, and applies a min-max stretch from -25 to 0."
  },
  {
   "name": "Sentinel-1 RTC Power",
   "description": "Sentinel-1 RTC data in Power scale",
   "help": "Displays original pixel values in Power scale."
  },
  {
   "name": "Sentinel-1 RTC Amplitude",
   "description": "Sentinel-1 RTC data in Amplitude scale",
   "help": "Converts pixel values from power to amplitude scale by taking the square root of the power values."
  },
  {
   "name": "Sentinel-1 RTC dB",
   "description": "Sentinel-1 RTC data in dB scale",
   "help": "Converts pixel values from power to dB scale by multiplying the log10 of the power values by 10."
  },
  {
   "name": "None",
   "description": "Make a Raster or Raster Dataset into a Function Raster Dataset.",
   "help": ""
  }
 ],
 "rasterTypeInfos": [
  {
   "name": "Raster Dataset",
   "description": "Supports all ArcGIS Raster Datasets",
   "help": ""
  }
 ],
 "mensurationCapabilities": "Basic",
 "hasHistograms": false,
 "hasColormap": false,
 "hasRasterAttributeTable": false,
 "minScale": 0,
 "maxScale": 0,
 "exportTilesAllowed": false,
 "supportsStatistics": true,
 "supportsAdvancedQueries": true,
 "editFieldsInfo": null,
 "ownershipBasedAccessControlForRasters": null,
 "allowComputeTiePoints": false,
 "useStandardizedQueries": true,
 "advancedQueryCapabilities": {
  "useStandardizedQueries": true,
  "supportsStatistics": true,
  "supportsOrderBy": true,
  "supportsDistinct": true,
  "supportsPagination": true
 },
 "spatialReference": {
  "wkid": 102100,
  "latestWkid": 3857
 }
}
